BEGIN:VCALENDAR
VERSION:2.0
PRODID:-//Septem - ECPv6.0.13.1//NONSGML v1.0//EN
CALSCALE:GREGORIAN
METHOD:PUBLISH
X-WR-CALNAME:Septem
X-ORIGINAL-URL:https://septem.stghislain.be
X-WR-CALDESC:évènements pour Septem
REFRESH-INTERVAL;VALUE=DURATION:PT1H
X-Robots-Tag:noindex
X-PUBLISHED-TTL:PT1H
BEGIN:VTIMEZONE
TZID:Europe/Brussels
BEGIN:DAYLIGHT
TZOFFSETFROM:+0100
TZOFFSETTO:+0200
TZNAME:CEST
DTSTART:20250330T010000
END:DAYLIGHT
BEGIN:STANDARD
TZOFFSETFROM:+0200
TZOFFSETTO:+0100
TZNAME:CET
DTSTART:20251026T010000
END:STANDARD
END:VTIMEZONE
BEGIN:VEVENT
DTSTART;TZID=Europe/Brussels:20250224T200000
DTEND;TZID=Europe/Brussels:20250224T213000
DTSTAMP:20260423T094807
CREATED:20240618T101704Z
LAST-MODIFIED:20240619T123040Z
UID:10000748-1740427200-1740432600@septem.stghislain.be
SUMMARY:Exploration du monde | « Auvergne\, terre de caractère et de passions »
DESCRIPTION:L’Auvergne abrite des paysages uniques en France. Et si les volcans ont façonné les reliefs de l’Auvergne\, ils ont aussi forgé le caractère des Auvergnats. A travers sa géographie\, son peuple et ses modes de vie\, ce film permet de mieux appréhender cette région du centre de la France.\nL’Auvergne abrite des paysages uniques en France. Preuve de sa singularité\, elle offre au visiteur le privilège d’être transporté au temps de la création du monde. L’UNESCO ne s’y est pas trompée en classant la chaîne des Puys au Patrimoine Mondial de le l’Humanité\, en 2018. \nIl n’est pas d’autres régions en France où l’on a\, comme ici\, l’impression de vivre l’histoire de la Terre.\nAride\, rugueuse ou\, plus loin\, irriguée à l’eau claire\, ici\, la terre elle-même nous raconte l’histoire des éléments. Ces éléments qui forment un TOUT\, que l’on appelle la nature.\nLa terre\, le feu\, l’eau\, comme si tous 3 avaient l’Auvergne comme berceau. \nAujourd’hui\, l’Auvergne fait partie des destinations privilégiées des voyageurs et des amoureux de la nature en France. Elle séduit par ses paysages uniques\, la majesté de ses volcans\, le mariage harmonieux entre l’eau et la roche\, ses châteaux\, ses villages pittoresques mais aussi par un style de vie simple et authentique.  \nCette région\, Patrick Bureau l’a parcourue en tous sens et durant de longs mois. Chaque voyage lui a apporté un pan nouveau à sa connaissance. \nDe Clermont-Ferrand\, la capitale régionale\, aux sommets du Cantal\, des sources de Vichy jusqu’aux gorges de l’Allier\, à travers de nombreuses rencontres avec la population locale\, l’auteur a souhaité découvrir le vrai visage de l’Auvergne d’aujourd’hui\,  \nSi les volcans ont façonné les paysages de l’Auvergne\, ils ont aussi forgé le caractère des Auvergnats. Partager leur quotidien\, était pour le réalisateur comprendre un peu mieux l’histoire et les hommes de cette région. \nAu travers d’images inédites et de rencontres passionnantes\, Patrick Bureau nous dévoile dans son film la richesse de cette terre auvergnate\, mais aussi la vitalité de sa population et son art de vivre si singulier. \n« AUVERGNE\, terre de caractère et de passions » est un film captivant et émouvant sur cette région de France à la fois si visitée et encore si méconnue.
URL:https://septem.stghislain.be/agenda/auvergne/
LOCATION:Les Jardins du Cloître\, 37 Grand Place\, Saint-Ghislain\, 7330\, Belgique
CATEGORIES:Cinéma,Documentaires,Explo du Monde,Films,Saint-Ghislain
ATTACH;FMTTYPE=image/jpeg:https://septem.stghislain.be/wp-content/uploads/2024/06/exploration-du-monde-auvergne-Septem-Culture_Saint_Ghislain-2025.jpg
ORGANIZER;CN="Septem":MAILTO:info@septem.stghislain.be
END:VEVENT
END:VCALENDAR