BEGIN:VCALENDAR
VERSION:2.0
PRODID:-//Septem - ECPv6.0.13.1//NONSGML v1.0//EN
CALSCALE:GREGORIAN
METHOD:PUBLISH
X-ORIGINAL-URL:https://septem.stghislain.be
X-WR-CALDESC:évènements pour Septem
REFRESH-INTERVAL;VALUE=DURATION:PT1H
X-Robots-Tag:noindex
X-PUBLISHED-TTL:PT1H
BEGIN:VTIMEZONE
TZID:Europe/Brussels
BEGIN:DAYLIGHT
TZOFFSETFROM:+0100
TZOFFSETTO:+0200
TZNAME:CEST
DTSTART:20240331T010000
END:DAYLIGHT
BEGIN:STANDARD
TZOFFSETFROM:+0200
TZOFFSETTO:+0100
TZNAME:CET
DTSTART:20241027T010000
END:STANDARD
END:VTIMEZONE
BEGIN:VEVENT
DTSTART;TZID=Europe/Brussels:20240422T190000
DTEND;TZID=Europe/Brussels:20240422T210000
DTSTAMP:20260424T000518
CREATED:20230823T183037Z
LAST-MODIFIED:20240130T093552Z
UID:10000294-1713812400-1713819600@septem.stghislain.be
SUMMARY:Conférence | Exploration du monde | Nouvelle-Zélande
DESCRIPTION:On en connait le rugby\, mes moutons et les incroyables paysages du « Seigneur des anneaux » mais la terre de maoris est restée presque intacte\, avec sa faune unique. Le film nous immerge dans une société humaine ouverte\, parfois déconcertante\, au milieu d’une nature séduisante à perte de vue\, lin des tumultes du Monde…
URL:https://septem.stghislain.be/agenda/nouvelle-zelande/
LOCATION:Les Jardins du Cloître\, 37 Grand Place\, Saint-Ghislain\, 7330\, Belgique
CATEGORIES:Conférences,Explo du Monde,Saint-Ghislain
ATTACH;FMTTYPE=image/jpeg:https://septem.stghislain.be/wp-content/uploads/2023/08/conference_exploration_du_monde_nouvelle_zelande-Septem-Culture_Saint_Ghislain-2023.jpg
ORGANIZER;CN="Septem":MAILTO:info@septem.stghislain.be
END:VEVENT
END:VCALENDAR