BEGIN:VCALENDAR
VERSION:2.0
PRODID:-//Septem - ECPv6.0.13.1//NONSGML v1.0//EN
CALSCALE:GREGORIAN
METHOD:PUBLISH
X-WR-CALNAME:Septem
X-ORIGINAL-URL:https://septem.stghislain.be
X-WR-CALDESC:évènements pour Septem
REFRESH-INTERVAL;VALUE=DURATION:PT1H
X-Robots-Tag:noindex
X-PUBLISHED-TTL:PT1H
BEGIN:VTIMEZONE
TZID:Europe/Brussels
BEGIN:DAYLIGHT
TZOFFSETFROM:+0100
TZOFFSETTO:+0200
TZNAME:CEST
DTSTART:20250330T010000
END:DAYLIGHT
BEGIN:STANDARD
TZOFFSETFROM:+0200
TZOFFSETTO:+0100
TZNAME:CET
DTSTART:20251026T010000
END:STANDARD
END:VTIMEZONE
BEGIN:VEVENT
DTSTART;TZID=Europe/Brussels:20250509T200000
DTEND;TZID=Europe/Brussels:20250509T220000
DTSTAMP:20260423T121342
CREATED:20250120T111522Z
LAST-MODIFIED:20250304T080913Z
UID:10001128-1746820800-1746828000@septem.stghislain.be
SUMMARY:Ciné concert | Tabu
DESCRIPTION:Tabu / Film réalisé par Murnau et Flaherty en 1931 \nMusique: Christian Leroy et l’Ensemble Metarythmes \nCréation sonore et musicale collective sur grand écran . \nPremière partie: Suite à une formation\, les jeunes présenteront un ciné-concert de l’ensemble Metarythmes qui jouera la musique du film « Tabu » de Murnau et Flaherty . \n 
URL:https://septem.stghislain.be/agenda/tabu/
LOCATION:Les Jardins du Cloître\, 37 Grand Place\, Saint-Ghislain\, 7330\, Belgique
CATEGORIES:Concerts,Films,Musique,Projections,Saint-Ghislain
ATTACH;FMTTYPE=image/jpeg:https://septem.stghislain.be/wp-content/uploads/2025/01/cine-concert-tabu-Septem-Culture_Saint_Ghislain-2025.jpg
ORGANIZER;CN="Septem":MAILTO:info@septem.stghislain.be
END:VEVENT
END:VCALENDAR