BEGIN:VCALENDAR
VERSION:2.0
PRODID:-//Septem - ECPv6.0.13.1//NONSGML v1.0//EN
CALSCALE:GREGORIAN
METHOD:PUBLISH
X-ORIGINAL-URL:https://septem.stghislain.be
X-WR-CALDESC:évènements pour Septem
REFRESH-INTERVAL;VALUE=DURATION:PT1H
X-Robots-Tag:noindex
X-PUBLISHED-TTL:PT1H
BEGIN:VTIMEZONE
TZID:Europe/Brussels
BEGIN:DAYLIGHT
TZOFFSETFROM:+0100
TZOFFSETTO:+0200
TZNAME:CEST
DTSTART:20250330T010000
END:DAYLIGHT
BEGIN:STANDARD
TZOFFSETFROM:+0200
TZOFFSETTO:+0100
TZNAME:CET
DTSTART:20251026T010000
END:STANDARD
END:VTIMEZONE
BEGIN:VEVENT
DTSTART;TZID=Europe/Brussels:20250403T200000
DTEND;TZID=Europe/Brussels:20250403T213000
DTSTAMP:20260423T134605
CREATED:20250108T095002Z
LAST-MODIFIED:20250304T075135Z
UID:10001121-1743710400-1743715800@septem.stghislain.be
SUMMARY:Jazz Tour | Les lundis d’Hortense | Stefan Bracaval & Pierre Anckaert
DESCRIPTION:Stefan Bracaval & Pierre Anckaert “Ephémère” \nStefan Bracaval – flûtes \nPierre Anckaert – piano \n\nAprès avoir sillonné pendant des années l’Europe en tous sens\, le flûtiste et le pianiste reviennent présenter\, d’une autre façon\, leur musique toujours aussi mélodique\, poétique et lyrique. La complicité entre les deux artistes permet de les laisser encore plus libre d’improvisations fugaces et d’interprétations souvent inspirées par la nature. \nHa\, le charme de la musique classique ou contemporaine qui se laisse gagner par le jazz et l’improvisation. Irrésistibles\, ces moments où l’esprit s’envole et vagabonde au gré de la flûte indomptable qui virevolte sur des suites d’accords libérés. Peut-on laisser en captivité un oiseau lorsque celui-ci peut aller enchanter tout un parc ? La musique du duo fait la part belle aux digressions et improvisations pleines de lyrisme et de poésie. Les références aux fauvistes et impressionnistes ou aux poètes du début du siècle dernier n’y sont pas pour rien dans ce jazz souvent bucolique\, parfois plus sombre\, et toujours très évocateur. Le duo évolue par petites tâches ou gestes plus amples et spontanés\, qui donnent lieu à de beaux dialogues pleins de rêves. Et tout est sublimé par un jazz faussement chambriste. Le raffinement et l’élégance sont au programme\, le ravissement aussi. Bienvenue.
URL:https://septem.stghislain.be/agenda/stefan-bracaval-pierre-anckaert/
LOCATION:Les Jardins du Cloître\, 37 Grand Place\, Saint-Ghislain\, 7330\, Belgique
CATEGORIES:Concerts,Musique,Saint-Ghislain
ATTACH;FMTTYPE=image/jpeg:https://septem.stghislain.be/wp-content/uploads/2025/01/Jazz-Tour-Les-lundis-d-hortense-stefan-bracava-pierre-anckaert-Septem-Culture_Saint_Ghislain-2025.jpg
ORGANIZER;CN="Septem":MAILTO:info@septem.stghislain.be
END:VEVENT
END:VCALENDAR