BEGIN:VCALENDAR
VERSION:2.0
PRODID:-//Septem - ECPv6.0.13.1//NONSGML v1.0//EN
CALSCALE:GREGORIAN
METHOD:PUBLISH
X-WR-CALNAME:Septem
X-ORIGINAL-URL:https://septem.stghislain.be
X-WR-CALDESC:évènements pour Septem
REFRESH-INTERVAL;VALUE=DURATION:PT1H
X-Robots-Tag:noindex
X-PUBLISHED-TTL:PT1H
BEGIN:VTIMEZONE
TZID:Europe/Brussels
BEGIN:DAYLIGHT
TZOFFSETFROM:+0100
TZOFFSETTO:+0200
TZNAME:CEST
DTSTART:20250330T010000
END:DAYLIGHT
BEGIN:STANDARD
TZOFFSETFROM:+0200
TZOFFSETTO:+0100
TZNAME:CET
DTSTART:20251026T010000
END:STANDARD
END:VTIMEZONE
BEGIN:VEVENT
DTSTART;TZID=Europe/Brussels:20250309T160000
DTEND;TZID=Europe/Brussels:20250309T171500
DTSTAMP:20260423T151816
CREATED:20250210T105257Z
LAST-MODIFIED:20250304T102021Z
UID:10001135-1741536000-1741540500@septem.stghislain.be
SUMMARY:Concert | Royale Philharmonie de Saint-Symphorien
DESCRIPTION:Société musicale \, composée d’une petite centaine de musiciens amateurs\, fondée en 1853. \nElle accède en 1983 à la catégorie Excellence de la province du Hainaut sans plus jamais la quitter. Avec son directeur artistique\, Michel Méaux\, ils conjuguent ensemble les multiples exigences d’une infatigable coordination pour déployer et optimiser son rôle culturel dans la région et ainsi vous proposer des spectacles et concerts diversifiés et populaires . \nLa RPSS vous proposera un programme allant du classique à la musique de variété et vous guidera dans un doux et beau voyage musical .
URL:https://septem.stghislain.be/agenda/saint-symphorien/
LOCATION:Les Jardins du Cloître\, 37 Grand Place\, Saint-Ghislain\, 7330\, Belgique
CATEGORIES:Concerts,Musique,Saint-Ghislain
ATTACH;FMTTYPE=image/jpeg:https://septem.stghislain.be/wp-content/uploads/2025/02/concert-Royale-Philharmonie-de-Saint-Symphorien-Septem-Culture_Saint_Ghislain-2025.jpg
ORGANIZER;CN="Septem":MAILTO:info@septem.stghislain.be
END:VEVENT
END:VCALENDAR