BEGIN:VCALENDAR
VERSION:2.0
PRODID:-//Septem - ECPv6.0.13.1//NONSGML v1.0//EN
CALSCALE:GREGORIAN
METHOD:PUBLISH
X-WR-CALNAME:Septem
X-ORIGINAL-URL:https://septem.stghislain.be
X-WR-CALDESC:évènements pour Septem
REFRESH-INTERVAL;VALUE=DURATION:PT1H
X-Robots-Tag:noindex
X-PUBLISHED-TTL:PT1H
BEGIN:VTIMEZONE
TZID:Europe/Brussels
BEGIN:DAYLIGHT
TZOFFSETFROM:+0100
TZOFFSETTO:+0200
TZNAME:CEST
DTSTART:20240331T010000
END:DAYLIGHT
BEGIN:STANDARD
TZOFFSETFROM:+0200
TZOFFSETTO:+0100
TZNAME:CET
DTSTART:20241027T010000
END:STANDARD
END:VTIMEZONE
BEGIN:VEVENT
DTSTART;TZID=Europe/Brussels:20241206T200000
DTEND;TZID=Europe/Brussels:20241206T213000
DTSTAMP:20260423T193242
CREATED:20240913T091759Z
LAST-MODIFIED:20240913T091804Z
UID:10000874-1733515200-1733520600@septem.stghislain.be
SUMMARY:Concert | Olivier Laurent | Le concert impossible
DESCRIPTION:Dans un esprit festif et populaire\, Olivier Laurent\, le jongleur de voix\, revient avec les meilleurs moments de ses plus beaux concerts\, où l’artiste mélange subtilement l’humour\, l’ambiance\, l’émotion\, une performance vocale absolue et bien d’autres belles surprises… \nL’artiste que vous allez apprécier donne tout sur scène. Sans calculer. Sans tricher. Lui qui a si bien incarné le « Grand Jacques »\, dans un saisissant tour de chant\, nous revient avec son « concert impossible ». Un spectacle qui lui tient particulièrement à cœur. \n« C’est un rêve de gosse qui se réalise. Je suis accompagné de musiciens hors-pair et je ressens vraiment un énorme plaisir sur scène. Ce show\, c’est un beau bébé qui va continuer à grandir. C’est le best-of de tous les plus beaux concerts. » \nOlivier Laurent n’est pas un imitateur\, c’est un « interprétateur « \, qui transmet une véritable émotion. Capable de vous emmener sur tous les registres\, de Johnny à Pavarotti\, d’Elvis à Christophe Maé. Venez vibrer avec lui !
URL:https://septem.stghislain.be/agenda/concert-impossible-olivier-laurent/
LOCATION:Les Jardins du Cloître\, 37 Grand Place\, Saint-Ghislain\, 7330\, Belgique
CATEGORIES:Concerts,Musique,Saint-Ghislain,Spectacle
ATTACH;FMTTYPE=image/jpeg:https://septem.stghislain.be/wp-content/uploads/2024/09/concert-impossible-olivier-laurent-Septem-Culture_Saint_Ghislain-2024.jpg
ORGANIZER;CN="Septem":MAILTO:info@septem.stghislain.be
END:VEVENT
END:VCALENDAR