BEGIN:VCALENDAR
VERSION:2.0
PRODID:-//Septem - ECPv6.0.13.1//NONSGML v1.0//EN
CALSCALE:GREGORIAN
METHOD:PUBLISH
X-ORIGINAL-URL:https://septem.stghislain.be
X-WR-CALDESC:évènements pour Septem
REFRESH-INTERVAL;VALUE=DURATION:PT1H
X-Robots-Tag:noindex
X-PUBLISHED-TTL:PT1H
BEGIN:VTIMEZONE
TZID:Europe/Brussels
BEGIN:DAYLIGHT
TZOFFSETFROM:+0100
TZOFFSETTO:+0200
TZNAME:CEST
DTSTART:20240331T010000
END:DAYLIGHT
BEGIN:STANDARD
TZOFFSETFROM:+0200
TZOFFSETTO:+0100
TZNAME:CET
DTSTART:20241027T010000
END:STANDARD
END:VTIMEZONE
BEGIN:VEVENT
DTSTART;TZID=Europe/Brussels:20241123T200000
DTEND;TZID=Europe/Brussels:20241123T211000
DTSTAMP:20260423T205916
CREATED:20240924T093357Z
LAST-MODIFIED:20241016T062134Z
UID:10000899-1732392000-1732396200@septem.stghislain.be
SUMMARY:Concert | Claude Semal et Pascal Chardome
DESCRIPTION:Avec Claude Semal et Pascal Chardome  \nUne pétillante compilation entre les nouvelles chansons du CD « Les Marcheurs » (Igloo Records) et les 150 chansons de son intégrale (« Semal la Totale »). Le « biesse tof » des chansons de Claude dans un cadre scénique intimiste et ludique. \nClaude Semal voyage depuis une quarantaine d’années entre la chanson\, le journalisme\, le théâtre et le cinéma. Récompensé en Belgique par l’Octave de la Musique 2018\, l’intégrale de ses douze albums de chansons vient de sortir chez Igloo Records (« Semal la Totale »). Pascal Chardome\, compositeur\, poly-instrumentiste et chef de chorale inspiré\, a dirigé la réalisation musicale d’une soixantaine d’albums et de projets (dont Panta Rhei\, Didier Laloy\, Julos Beaucarne\, …). \n 
URL:https://septem.stghislain.be/agenda/claude-semal/
LOCATION:Les Jardins du Cloître\, 37 Grand Place\, Saint-Ghislain\, 7330\, Belgique
CATEGORIES:Concerts,Musique,Saint-Ghislain
ATTACH;FMTTYPE=image/jpeg:https://septem.stghislain.be/wp-content/uploads/2024/09/Claude-Semal-et-Pascal-Chardome-Septem-Culture_Saint_Ghislain-2024.jpg
ORGANIZER;CN="Septem":MAILTO:info@septem.stghislain.be
END:VEVENT
END:VCALENDAR