BEGIN:VCALENDAR
VERSION:2.0
PRODID:-//Septem - ECPv6.0.13.1//NONSGML v1.0//EN
CALSCALE:GREGORIAN
METHOD:PUBLISH
X-WR-CALNAME:Septem
X-ORIGINAL-URL:https://septem.stghislain.be
X-WR-CALDESC:évènements pour Septem
REFRESH-INTERVAL;VALUE=DURATION:PT1H
X-Robots-Tag:noindex
X-PUBLISHED-TTL:PT1H
BEGIN:VTIMEZONE
TZID:Europe/Brussels
BEGIN:DAYLIGHT
TZOFFSETFROM:+0100
TZOFFSETTO:+0200
TZNAME:CEST
DTSTART:20240331T010000
END:DAYLIGHT
BEGIN:STANDARD
TZOFFSETFROM:+0200
TZOFFSETTO:+0100
TZNAME:CET
DTSTART:20241027T010000
END:STANDARD
END:VTIMEZONE
BEGIN:VEVENT
DTSTART;TZID=Europe/Brussels:20241116T200000
DTEND;TZID=Europe/Brussels:20241116T213000
DTSTAMP:20260423T205725
CREATED:20240912T074831Z
LAST-MODIFIED:20240912T074836Z
UID:10000865-1731787200-1731792600@septem.stghislain.be
SUMMARY:The Old Friends | Honouring Simon and Garfunkel
DESCRIPTION:Ces 2 « vieux » amis se sont laissé absorber par l’univers musical de Simon and Garfunkel. Ils nous proposent une version acoustique et tout en finesse du fameux concert new-yorkais de Central Park du 19 septembre 1981.Respectueux de l’œuvre originale\, sans pour autant la copier\, ils n’hésitent pas à laisser s’exprimer pleinement leur talent de musicien pour donner une couleur personnelle\, subtile et délicieuse à ces tubes légendaires. \nThe Boxer\, Cécilia\, The sound of silence\, Scarborough fair… Ce spectacle est un best of du légendaire duo américain que nos 2 compères interprètent tout en douceur et en délicatesse. \nCes 2 old friends sont Laurent KREMER (guitare /voix) et Daniel BOUR (guitare /voix). \nPartager un instant de musique avec eux\, c’est comme partager un bon verre\, un bon repas entre amis\, c’est se faire plaisir et savourer tout simplement un très bon moment !
URL:https://septem.stghislain.be/agenda/the-old-friends/
LOCATION:Les Jardins du Cloître\, 37 Grand Place\, Saint-Ghislain\, 7330\, Belgique
CATEGORIES:Concerts,Musique,Saint-Ghislain
ATTACH;FMTTYPE=image/jpeg:https://septem.stghislain.be/wp-content/uploads/2024/09/the-old-friends-Septem-Culture_Saint_Ghislain-2024.jpg
ORGANIZER;CN="Septem":MAILTO:info@septem.stghislain.be
END:VEVENT
END:VCALENDAR