BEGIN:VCALENDAR
VERSION:2.0
PRODID:-//Septem - ECPv6.0.13.1//NONSGML v1.0//EN
CALSCALE:GREGORIAN
METHOD:PUBLISH
X-ORIGINAL-URL:https://septem.stghislain.be
X-WR-CALDESC:évènements pour Septem
REFRESH-INTERVAL;VALUE=DURATION:PT1H
X-Robots-Tag:noindex
X-PUBLISHED-TTL:PT1H
BEGIN:VTIMEZONE
TZID:Europe/Brussels
BEGIN:DAYLIGHT
TZOFFSETFROM:+0100
TZOFFSETTO:+0200
TZNAME:CEST
DTSTART:20240331T010000
END:DAYLIGHT
BEGIN:STANDARD
TZOFFSETFROM:+0200
TZOFFSETTO:+0100
TZNAME:CET
DTSTART:20241027T010000
END:STANDARD
END:VTIMEZONE
BEGIN:VEVENT
DTSTART;TZID=Europe/Brussels:20241109T190000
DTEND;TZID=Europe/Brussels:20241109T200000
DTSTAMP:20260423T222839
CREATED:20240903T074627Z
LAST-MODIFIED:20241009T124637Z
UID:10000851-1731178800-1731182400@septem.stghislain.be
SUMMARY:Festival Echo | L'Homme armé | Une messe pour la paix
DESCRIPTION:Composition : Karl Jenkins \nChoix des textes : Guy Wilson \nProgrammateur du Concert: Philippe Mertens \n\n«L’Homme armé» est une chanson française profane de la Renaissance. C’est une mélodie extrêmement populaire qui a été souvent réutilisée par les compositeurs pour mettre en musique l’ordinaire de la messe. \nL’oeuvre de Karl Jenkins\, composée en 1999 a été commandée par «Les Armureries Royales» qui fêtaient le millième anniversaire de leur création. Elle est dédiée aux victimes de la guerre du Kosovo. \nAu travers de langues aussi diverses que l’ancien français\, le latin\, l’arabe et bien sûr l’anglais\, Jenkins a mis en musique des textes d’auteurs anglais\, japonais ou indous . Cet éclatement des références littéraires et l’usage de styles musicaux fort variés (polyphonie renaissance\, référence baroque\, chant grégorien\, choral protestant\, composition contemporaine … ) forment une oeuvre en «patchwork» qui tente d’exprimer l’universalité de l’absurdité de la guerre\, et surtout\, à convier en musique une lumière de paix sur le monde et les hommes \nKarl Jenkins: Compositeur et musicien\, est né en 1944 au Pays de Galles. \nTitulaire d‘un doctorat en musique de l’Université du Pays de Galles\, il a été nommé membre de l »Académie Royale de Musique et a reçu plusieurs bourses. Il a aussi reçu un prix spécial par la chaîne radiophonique Classic FM pour «services exceptionnels rendus à la musique classique »\, ainsi qu’une distinction de Sa Majesté La Reine pour «services rendus à la musique» en 2005.
URL:https://septem.stghislain.be/agenda/messe-pour-la-paix/
LOCATION:Eglise Saints-Ghislain-et-Martin\, Grand-Place\,47\, Saint-Ghislain\, 7330
CATEGORIES:Concerts,Musique,Saint-Ghislain
ATTACH;FMTTYPE=image/jpeg:https://septem.stghislain.be/wp-content/uploads/2024/09/concert-L-Homme-arme-Une-messe-pour-la-paix-Septem-Culture_Saint_Ghislain-2024.jpg
ORGANIZER;CN="Septem":MAILTO:info@septem.stghislain.be
END:VEVENT
END:VCALENDAR