BEGIN:VCALENDAR
VERSION:2.0
PRODID:-//Septem - ECPv6.0.13.1//NONSGML v1.0//EN
CALSCALE:GREGORIAN
METHOD:PUBLISH
X-ORIGINAL-URL:https://septem.stghislain.be
X-WR-CALDESC:évènements pour Septem
REFRESH-INTERVAL;VALUE=DURATION:PT1H
X-Robots-Tag:noindex
X-PUBLISHED-TTL:PT1H
BEGIN:VTIMEZONE
TZID:Europe/Brussels
BEGIN:DAYLIGHT
TZOFFSETFROM:+0100
TZOFFSETTO:+0200
TZNAME:CEST
DTSTART:20240331T010000
END:DAYLIGHT
BEGIN:STANDARD
TZOFFSETFROM:+0200
TZOFFSETTO:+0100
TZNAME:CET
DTSTART:20241027T010000
END:STANDARD
END:VTIMEZONE
BEGIN:VEVENT
DTSTART;TZID=Europe/Brussels:20241020T160000
DTEND;TZID=Europe/Brussels:20241020T173000
DTSTAMP:20260423T222725
CREATED:20231103T103147Z
LAST-MODIFIED:20240821T094603Z
UID:10000381-1729440000-1729445400@septem.stghislain.be
SUMMARY:Concert | L’ AMADEUS ORCHESTRA | ABBA
DESCRIPTION:AMADEUS ORCHESTRA revient à Saint-Ghislain pour célébrer avec vous Abba ! \nConstituée en novembre 1995 et déjà classée hors concours de part sa qualité musicale au concours « Fanfares en Hainaut »\, cette formation musicale composée de plus ou moins 25 musiciens se produit régulièrement à l’étranger (Espagne\, France\, Sicile\, Italie) ainsi qu’en Belgique.
URL:https://septem.stghislain.be/agenda/concert-l-amadeus-orchestra/
LOCATION:Les Jardins du Cloître\, 37 Grand Place\, Saint-Ghislain\, 7330\, Belgique
CATEGORIES:Concerts,Musique,Saint-Ghislain
ATTACH;FMTTYPE=image/jpeg:https://septem.stghislain.be/wp-content/uploads/2023/11/concert-amadeus-orchestra-abba-Septem-Culture_Saint_Ghislain-2024.jpg
ORGANIZER;CN="Septem":MAILTO:info@septem.stghislain.be
END:VEVENT
END:VCALENDAR