BEGIN:VCALENDAR
VERSION:2.0
PRODID:-//Septem - ECPv6.0.13.1//NONSGML v1.0//EN
CALSCALE:GREGORIAN
METHOD:PUBLISH
X-WR-CALNAME:Septem
X-ORIGINAL-URL:https://septem.stghislain.be
X-WR-CALDESC:évènements pour Septem
REFRESH-INTERVAL;VALUE=DURATION:PT1H
X-Robots-Tag:noindex
X-PUBLISHED-TTL:PT1H
BEGIN:VTIMEZONE
TZID:Europe/Brussels
BEGIN:DAYLIGHT
TZOFFSETFROM:+0100
TZOFFSETTO:+0200
TZNAME:CEST
DTSTART:20240331T010000
END:DAYLIGHT
BEGIN:STANDARD
TZOFFSETFROM:+0200
TZOFFSETTO:+0100
TZNAME:CET
DTSTART:20241027T010000
END:STANDARD
END:VTIMEZONE
BEGIN:VEVENT
DTSTART;TZID=Europe/Brussels:20240824T200000
DTEND;TZID=Europe/Brussels:20240824T213000
DTSTAMP:20260424T005820
CREATED:20240618T075754Z
LAST-MODIFIED:20240618T075758Z
UID:10000743-1724529600-1724535000@septem.stghislain.be
SUMMARY:Concert | Duo violon et violoncelle
DESCRIPTION:Laissez-vous envoûter par la virtuosité et l’harmonie des talentueux musiciens\, interprétant un répertoire varié allant des classiques intemporels aux pièces contemporaines émouvantes. Venez vivre un moment de pure magie musicale où chaque note résonne avec passion et élégance.
URL:https://septem.stghislain.be/agenda/duo-violon-et-violoncelle/
LOCATION:Église Saint-Christophe de Tertre\, Pl. de Tertre\, Tertre\, 7333\, Belgique
CATEGORIES:Concerts,Musique,Saint-Ghislain
ATTACH;FMTTYPE=image/jpeg:https://septem.stghislain.be/wp-content/uploads/2024/06/concert-duo-violon-et-violoncelle-tertre-Septem-Culture_Saint_Ghislain-2024.jpg
ORGANIZER;CN="Septem":MAILTO:info@septem.stghislain.be
END:VEVENT
END:VCALENDAR