BEGIN:VCALENDAR
VERSION:2.0
PRODID:-//Septem - ECPv6.0.13.1//NONSGML v1.0//EN
CALSCALE:GREGORIAN
METHOD:PUBLISH
X-WR-CALNAME:Septem
X-ORIGINAL-URL:https://septem.stghislain.be
X-WR-CALDESC:évènements pour Septem
REFRESH-INTERVAL;VALUE=DURATION:PT1H
X-Robots-Tag:noindex
X-PUBLISHED-TTL:PT1H
BEGIN:VTIMEZONE
TZID:Europe/Brussels
BEGIN:DAYLIGHT
TZOFFSETFROM:+0100
TZOFFSETTO:+0200
TZNAME:CEST
DTSTART:20240331T010000
END:DAYLIGHT
BEGIN:STANDARD
TZOFFSETFROM:+0200
TZOFFSETTO:+0100
TZNAME:CET
DTSTART:20241027T010000
END:STANDARD
END:VTIMEZONE
BEGIN:VEVENT
DTSTART;TZID=Europe/Brussels:20240707T160000
DTEND;TZID=Europe/Brussels:20240707T173000
DTSTAMP:20260424T021145
CREATED:20240409T085815Z
LAST-MODIFIED:20240409T085819Z
UID:10000520-1720368000-1720373400@septem.stghislain.be
SUMMARY:Concert | Xanadu
DESCRIPTION:🎶✨Ce dimanche 7 juillet à 16h\, plongez dans un univers musical envoûtant au concert Xanadu à l’Eglise de Neufmaison. Laissez-vous transporter par la fusion unique de voix envoûtantes\, luth\, théorbe et clarinettes\, formant un trio musical d’exception. \nDétails du concert :Date et heure : Dimanche 7 juillet à 16hLieu : Eglise de NeufmaisonPrix : 10 à 12 € \n\nArtistes :Esther-Elisabeth Rispens (chant)Philippe Malotaux (luth et théorbe)Philippe Saucez (clarinettes) \n\nCe trio atypique vous invite à découvrir une palette sonore inédite\, mêlant velouté vocal\, timbres étranges\, et couleurs musicales envoûtantes. Laissez-vous surprendre par des atmosphères variées où la musique ancienne côtoie la modernité avec subtilité. \nXanadu\, à travers une sélection de compositeurs belges et des adaptations uniques\, vous promet une expérience musicale hors du commun. Plongez au cœur d’un répertoire rare et fascinant\, alliant tradition et innovation avec brio. \nNe manquez pas ce concert exceptionnel où la magie des folksongs se mêle à une musicalité contemporaine captivante. Réservez votre place dès maintenant pour vivre une expérience musicale inoubliable avec Xanadu à l’Eglise de Neufmaison. 🎶✨
URL:https://septem.stghislain.be/agenda/xanadu/
LOCATION:Église Saint-Martin de Neufmaison\, Rue de Stambruges\, Saint-Ghislain\, 7332\, Belgique
CATEGORIES:Concerts,Musique,Neufmaison
ATTACH;FMTTYPE=image/jpeg:https://septem.stghislain.be/wp-content/uploads/2024/04/xanadu-Septem-Culture_Saint_Ghislain-2024.jpg
ORGANIZER;CN="Septem":MAILTO:info@septem.stghislain.be
GEO:50.530181184907;3.7936792227194
X-APPLE-STRUCTURED-LOCATION;VALUE=URI;X-ADDRESS=Église Saint-Martin de Neufmaison Rue de Stambruges Saint-Ghislain 7332 Belgique;X-APPLE-RADIUS=500;X-TITLE=Rue de Stambruges:geo:3.7936792227194,50.530181184907
END:VEVENT
END:VCALENDAR