BEGIN:VCALENDAR
VERSION:2.0
PRODID:-//Septem - ECPv6.0.13.1//NONSGML v1.0//EN
CALSCALE:GREGORIAN
METHOD:PUBLISH
X-WR-CALNAME:Septem
X-ORIGINAL-URL:https://septem.stghislain.be
X-WR-CALDESC:évènements pour Septem
REFRESH-INTERVAL;VALUE=DURATION:PT1H
X-Robots-Tag:noindex
X-PUBLISHED-TTL:PT1H
BEGIN:VTIMEZONE
TZID:Europe/Brussels
BEGIN:DAYLIGHT
TZOFFSETFROM:+0100
TZOFFSETTO:+0200
TZNAME:CEST
DTSTART:20240331T010000
END:DAYLIGHT
BEGIN:STANDARD
TZOFFSETFROM:+0200
TZOFFSETTO:+0100
TZNAME:CET
DTSTART:20241027T010000
END:STANDARD
END:VTIMEZONE
BEGIN:VEVENT
DTSTART;TZID=Europe/Brussels:20240525T103000
DTEND;TZID=Europe/Brussels:20240525T113000
DTSTAMP:20260424T060016
CREATED:20240321T120157Z
LAST-MODIFIED:20240514T115517Z
UID:10000506-1716633000-1716636600@septem.stghislain.be
SUMMARY:Samedi Musica 3 | Dynamic Brass
DESCRIPTION:Le «Dynamic Brass» est un ensemble instrumental sous la forme d’un quintette de cuivres (composé d’une trompette piccolo\, d’une trompette\, d’un cor\, d’un trombone et d’un tuba). \nAfin de faire découvrir cette belle famille instrumentale\, ils vous présenteront chacun de leurs instruments au travers d’interprétations\, d’explications\, de détails techniques et historiques\, le tout dans un esprit très convivial mais également de manière assez ludique par rapport au public de l’entité Saint-Ghislainoise.
URL:https://septem.stghislain.be/agenda/samedi-musica-3/
LOCATION:Les Jardins du Cloître\, 37 Grand Place\, Saint-Ghislain\, 7330\, Belgique
CATEGORIES:Ateliers,En famille,Jeune public,Musique,Saint-Ghislain
ATTACH;FMTTYPE=image/jpeg:https://septem.stghislain.be/wp-content/uploads/2024/03/samedi-musica3-dynamic-brass-Septem-Culture_Saint_Ghislain-2024.jpg
ORGANIZER;CN="Septem":MAILTO:info@septem.stghislain.be
END:VEVENT
END:VCALENDAR