BEGIN:VCALENDAR
VERSION:2.0
PRODID:-//Septem - ECPv6.0.13.1//NONSGML v1.0//EN
CALSCALE:GREGORIAN
METHOD:PUBLISH
X-WR-CALNAME:Septem
X-ORIGINAL-URL:https://septem.stghislain.be
X-WR-CALDESC:évènements pour Septem
REFRESH-INTERVAL;VALUE=DURATION:PT1H
X-Robots-Tag:noindex
X-PUBLISHED-TTL:PT1H
BEGIN:VTIMEZONE
TZID:Europe/Brussels
BEGIN:DAYLIGHT
TZOFFSETFROM:+0100
TZOFFSETTO:+0200
TZNAME:CEST
DTSTART:20240331T010000
END:DAYLIGHT
BEGIN:STANDARD
TZOFFSETFROM:+0200
TZOFFSETTO:+0100
TZNAME:CET
DTSTART:20241027T010000
END:STANDARD
END:VTIMEZONE
BEGIN:VEVENT
DTSTART;TZID=Europe/Brussels:20240416T140000
DTEND;TZID=Europe/Brussels:20240416T160000
DTSTAMP:20260424T055838
CREATED:20240115T124739Z
LAST-MODIFIED:20240402T133426Z
UID:10000480-1713276000-1713283200@septem.stghislain.be
SUMMARY:Divertissement | Les après-midi Bonheur | Qu’est-ce qu’on attend pour être heureux ?
DESCRIPTION:Qu’est-ce qu’on attend pour être heureux ?Gil Depreter\, Claudy Mahieu et leurs invités pour un spectacle débridé plein de joie et de bonne humeur ; Vive le printemps ! \nUn morceau de tarte sera offert aux participants. 
URL:https://septem.stghislain.be/agenda/divertissement-les-apres-midi-bonheur/
LOCATION:Les Jardins du Cloître\, 37 Grand Place\, Saint-Ghislain\, 7330\, Belgique
CATEGORIES:Musique,Rencontres,Saint-Ghislain
ATTACH;FMTTYPE=image/jpeg:https://septem.stghislain.be/wp-content/uploads/2024/01/apres-midi-bonheur-gil-depreter-claudy-mahieu-Septem-Culture_Saint_Ghislain-2024.jpg
ORGANIZER;CN="Septem":MAILTO:info@septem.stghislain.be
END:VEVENT
END:VCALENDAR