BEGIN:VCALENDAR
VERSION:2.0
PRODID:-//Septem - ECPv6.0.13.1//NONSGML v1.0//EN
CALSCALE:GREGORIAN
METHOD:PUBLISH
X-ORIGINAL-URL:https://septem.stghislain.be
X-WR-CALDESC:évènements pour Septem
REFRESH-INTERVAL;VALUE=DURATION:PT1H
X-Robots-Tag:noindex
X-PUBLISHED-TTL:PT1H
BEGIN:VTIMEZONE
TZID:Europe/Brussels
BEGIN:DAYLIGHT
TZOFFSETFROM:+0100
TZOFFSETTO:+0200
TZNAME:CEST
DTSTART:20240331T010000
END:DAYLIGHT
BEGIN:STANDARD
TZOFFSETFROM:+0200
TZOFFSETTO:+0100
TZNAME:CET
DTSTART:20241027T010000
END:STANDARD
END:VTIMEZONE
BEGIN:VEVENT
DTSTART;TZID=Europe/Brussels:20240324T160000
DTEND;TZID=Europe/Brussels:20240324T190000
DTSTAMP:20260424T071122
CREATED:20240105T074907Z
LAST-MODIFIED:20240305T084645Z
UID:10000467-1711296000-1711306800@septem.stghislain.be
SUMMARY:Divertissement | Thé dansant
DESCRIPTION:🎺 Ne manquez pas notre « Thé dansant » le 24 mars à 16h à la salle des fêtes de Villerot ! 🎹 \nPlongez dans l’univers musical de Gianni Madison\, un artiste aux multiples facettes : chanteur\, claviériste\, trompettiste et accordéoniste. Laissez-vous également transporter par B.Claude\, qui revisite les chansons mémorables de Claude François. Un mélange parfait pour une soirée de danse et de mélodies captivantes. \nCette soirée unique promet de vous offrir des moments inoubliables\, que vous soyez un admirateur de ces artistes ou que vous les découvriez. Joignez-vous à nous pour une expérience musicale exceptionnelle. \nLes billets sont disponibles au prix de 10 à 12 €. \n#ThéDansant #JoEtClaudy #AmbianceFestive #MusiqueEntraînante #JardinsDuCloître #SaintGhislain
URL:https://septem.stghislain.be/agenda/divertissement-the-dansant-2/
LOCATION:Salle polyvalente de Villerot\, rue du Presbytère\, Villerot\, 7334
CATEGORIES:Danse,Musique,Rencontres,Saint-Ghislain
ATTACH;FMTTYPE=image/jpeg:https://septem.stghislain.be/wp-content/uploads/2024/01/the-dansant-Saint-Ghislain-Autrement-Septem-Culture_Saint_Ghislain-2024.jpg
ORGANIZER;CN="Septem":MAILTO:info@septem.stghislain.be
END:VEVENT
END:VCALENDAR