BEGIN:VCALENDAR
VERSION:2.0
PRODID:-//Septem - ECPv6.0.13.1//NONSGML v1.0//EN
CALSCALE:GREGORIAN
METHOD:PUBLISH
X-ORIGINAL-URL:https://septem.stghislain.be
X-WR-CALDESC:évènements pour Septem
REFRESH-INTERVAL;VALUE=DURATION:PT1H
X-Robots-Tag:noindex
X-PUBLISHED-TTL:PT1H
BEGIN:VTIMEZONE
TZID:Europe/Brussels
BEGIN:DAYLIGHT
TZOFFSETFROM:+0100
TZOFFSETTO:+0200
TZNAME:CEST
DTSTART:20230326T010000
END:DAYLIGHT
BEGIN:STANDARD
TZOFFSETFROM:+0200
TZOFFSETTO:+0100
TZNAME:CET
DTSTART:20231029T010000
END:STANDARD
END:VTIMEZONE
BEGIN:VEVENT
DTSTART;TZID=Europe/Brussels:20230930T190000
DTEND;TZID=Europe/Brussels:20230930T210000
DTSTAMP:20260424T143704
CREATED:20230905T140246Z
LAST-MODIFIED:20230905T140250Z
UID:10000312-1696100400-1696107600@septem.stghislain.be
SUMMARY:Concert | De l'ombre à la lumière
DESCRIPTION:De l’ombre à la lumière. \nLe Borinage de l’ombre avec ses charbonnages aux galeries sombres imprégnées par le bruit assourdissant des marteaux piqueurs\, ses chariots remplis de charbon tirés par des chevaux qui ne connaissaient plus la lumière du jour\, le feu diabolique des coups de grisou\, des mineurs qui ne savaient jamais s’ils remonteraient vers le soleil de la vie.Des travailleurs qui venaient de la chaleur du sud pour étouffer dans la poussière de l’extraction du charbon.Le Borinage terre de feu et de sang avec ses innombrables occupations par les armées étrangères. \nMais le Borinage de la lumière\, c’est son courage\, sa ténacité\, sa volonté de vivre avec le sourire\, la joie de l’espoir\, le Borinage qui a surmonté les aléas du destin pour créer son présent et son avenir dans les leçons du passé et inventer ensemble une communion imprégnée d’humanité et de sa chaleur humaine\, afin de vivre sereinement pour construire avec ceux qui ont foulé cette terre\, une vie de paix\, avec ses nombreux souvenirs qui ont façonnés notre terre et les borains d’aujourd’hui. \nSerge Ghisoland. \nLa Fraternité – FP. \nL’ensemble féminin\, issu de la chorale des Femmes Prévoyantes fondé en 1968 et de l’ensemble masculin\, issu de la chorale « La ‘Fraternité » fondé en 1903\, est dirigé par Madame Jeanne Lhote-Dewispelaere depuis 1973.Le conseiller vocal n’est autre que Monsieur Edmond Lhote.Depuis lors\, sous l’impulsion de Jeanne et Edmond\, professionnels du chant lyrique\, cet ensemble se produit dans de nombreux concerts.Aujourd’hui\, nos 40 choristes\, perpétuellement en évolution\, partagent le même enthousiasme – la passion du beau chant choral – dans un esprit d’amitié et de convivialité.Ils interprètent un répertoire de chants aussi bien actuels\, que d’opéras\, de comédies musicales\, de chants sacrés. La chorale est accompagnée par une pianiste professionnelle.Nous participons également dans des œuvres plus imposantes et prestigieuses …Ne citons que Carmina Burana\, Aida\, La Traviata\, l’homme armé et bien d’autres avec 150 choristes et musiciens. \nMarie-Paule Belenger.
URL:https://septem.stghislain.be/agenda/de-l-ombre-a-la-lumiere/
LOCATION:Les Jardins du Cloître\, 37 Grand Place\, Saint-Ghislain\, 7330\, Belgique
CATEGORIES:Chant,Concerts,Musique,Saint-Ghislain
ATTACH;FMTTYPE=image/jpeg:https://septem.stghislain.be/wp-content/uploads/2023/09/Concert_sur_les_mines_De_l_ombre_a_la_lumiere-Septem-Culture_Saint_Ghislain-2023.jpg
ORGANIZER;CN="Septem":MAILTO:info@septem.stghislain.be
END:VEVENT
END:VCALENDAR