BEGIN:VCALENDAR
VERSION:2.0
PRODID:-//Septem - ECPv6.0.13.1//NONSGML v1.0//EN
CALSCALE:GREGORIAN
METHOD:PUBLISH
X-WR-CALNAME:Septem
X-ORIGINAL-URL:https://septem.stghislain.be
X-WR-CALDESC:évènements pour Septem
REFRESH-INTERVAL;VALUE=DURATION:PT1H
X-Robots-Tag:noindex
X-PUBLISHED-TTL:PT1H
BEGIN:VTIMEZONE
TZID:Europe/Brussels
BEGIN:DAYLIGHT
TZOFFSETFROM:+0100
TZOFFSETTO:+0200
TZNAME:CEST
DTSTART:20230326T010000
END:DAYLIGHT
BEGIN:STANDARD
TZOFFSETFROM:+0200
TZOFFSETTO:+0100
TZNAME:CET
DTSTART:20231029T010000
END:STANDARD
END:VTIMEZONE
BEGIN:VEVENT
DTSTART;TZID=Europe/Brussels:20230923T180000
DTEND;TZID=Europe/Brussels:20230923T213000
DTSTAMP:20260424T160139
CREATED:20230709T054525Z
LAST-MODIFIED:20230808T181915Z
UID:10000251-1695492000-1695504600@septem.stghislain.be
SUMMARY:Concert | Lux Montes\, Sebastien Boutry\, Jeronimo & Zappeur Palace
DESCRIPTION:Lux Montes brode sa poésie dans les tissus de l’âme. À l’écart des refrains balisés\, la chanteuse façonne un univers surnaturel et envoûtant. Dans une formule duo piano-voix et guitare\, elle nous convie à des instants intimes et puissants. Des morceaux d’inspiration néo-classique\, mais toujours taillés dans le rock.Après avoir écumé la scène alternative parisienne avec différentes formations folk-rock\, l’artiste française s’installe du côté de Liège. C’est là\, au cœur de la bouillonnante et chaleureuse Cité Ardente\, qu’elle pose les bases de sa discographie : deux EP et un album autoproduits ainsi que des clips créatifs balisent le parcours raffiné de l’artiste.Avec ‘La Traversée’\, son nouvel album sorti le 24 mars 2023\, Lux Montes renoue avec sa langue maternelle et se dévoile un peu plus. \nSébastien Boutry chante Rapsat:Venez-vous replonger dans l’univers de cet artiste belge trop tôt disparu\, Pierre RAPSAT\, Pierrot…Sebastien BOUTRY vous fera voyager dans ce large répertoire en passant de Judy à Gémeaux\, Passager de la nuit\, Les rêves sont en nous\, Animal\, Elle m’appelle\, Ensemble\,…Le projet Electrolyte est né en 2016 et explore aujourd’hui le répertoire de PierreRapsat. Pour chaque chanson\, une programmation précise a permis de reproduire les différents instruments au moyen de synthétiseurs (une trentaine de titres).Le travail effectué par Sébastien BOUTRY lui permet d’interpréter les chansons de façon respectueuse et dans des conditions assez simples (clavier/voix). \nJeronimo :20 ans après la sortie du premier album\, Jeronimo embarque sur une poignée de dates\, seul avec sa guitare électrique pour revisiter les moments forts de son répertoire. D’Ostende à Monaco\, en compagnie de la Fille sous l’Eau ou de l’énigmatique Sarah\, l’univers tragi-comique reprend vie le temps de quelques concerts. \nVivez l’énergie contagieuse de Zappeur Palace\, le groupe de pop rock français belge qui a conquis les scènes depuis sa création en 2009 par Maxime Legrand et Nathan Surquin\, rapidement rejoints par Pol Beele et François Wery. Bien plus qu’un groupe de musique\, Zappeur Palace est un groupe d’amis dont la symbiose scénique et musicale est palpable à chaque instant. Leurs mélodies entraînantes et leurs performancesenflammées vous transporteront dans un tourbillon d’émotions. Rejoignez-nous pour une soirée inoubliable où l’amitié et la passion se mêlent pour créer une expérience musicale unique. Ne manquez pas cette opportunité de vibrer au rythme de Zappeur Palace. Réservez dès maintenant votre place et préparez-vous à vivre un concert explosif et plein de complicité.
URL:https://septem.stghislain.be/agenda/luxmontes-sebastienboutry-jeronimo-zappeur-palace/
LOCATION:Les Jardins du Cloître\, 37 Grand Place\, Saint-Ghislain\, 7330\, Belgique
CATEGORIES:Concerts,Musique,Saint-Ghislain
ATTACH;FMTTYPE=image/jpeg:https://septem.stghislain.be/wp-content/uploads/2023/07/concert_luxmontes_sebastienboutry_jeronimo_zappeur_palace-Septem-Culture_Saint_Ghislain-2023-1.jpg
ORGANIZER;CN="Septem":MAILTO:info@septem.stghislain.be
END:VEVENT
END:VCALENDAR