BEGIN:VCALENDAR
VERSION:2.0
PRODID:-//Septem - ECPv6.0.13.1//NONSGML v1.0//EN
CALSCALE:GREGORIAN
METHOD:PUBLISH
X-ORIGINAL-URL:https://septem.stghislain.be
X-WR-CALDESC:évènements pour Septem
REFRESH-INTERVAL;VALUE=DURATION:PT1H
X-Robots-Tag:noindex
X-PUBLISHED-TTL:PT1H
BEGIN:VTIMEZONE
TZID:Europe/Brussels
BEGIN:DAYLIGHT
TZOFFSETFROM:+0100
TZOFFSETTO:+0200
TZNAME:CEST
DTSTART:20230326T010000
END:DAYLIGHT
BEGIN:STANDARD
TZOFFSETFROM:+0200
TZOFFSETTO:+0100
TZNAME:CET
DTSTART:20231029T010000
END:STANDARD
END:VTIMEZONE
BEGIN:VEVENT
DTSTART;TZID=Europe/Brussels:20230922T200000
DTEND;TZID=Europe/Brussels:20230922T220000
DTSTAMP:20260424T160216
CREATED:20230622T085201Z
LAST-MODIFIED:20230822T164852Z
UID:10000197-1695412800-1695420000@septem.stghislain.be
SUMMARY:Concert | Julos et l'imaginaire - Hommage à Julos Beaucarne
DESCRIPTION:Plongez-vous dans l’univers intemporel de Julos Beaucarne lors d’un événement captivant qui rendra hommage à cet artiste inoubliable. Rejoignez-nous pour une soirée magique où sa poésie et sa musique résonneront à travers chaque note. Nous célébrerons l’héritage de Julos Beaucarne\, sa voix unique et ses textes poétiques profonds qui ont touché des générations. Laissez-vous transporter par ses chansons emblématiques\, ses réflexions sur le monde et son amour pour la langue française. Cet hommage sera une occasion de redécouvrir et d’honorer l’œuvre d’un grand artiste qui a su marquer l’histoire de la chanson francophone. Réservez dès maintenant votre place pour cette soirée d’émotion et de nostalgie\, où l’esprit de Julos Beaucarne sera célébré et partagé avec amour et respect. \n\nAvec Laurence Vielle\, Barbara d’Alcantara\, Lisza\, Karim Gharbi\, Gabriel Claus\, Mélanie Isaac\, Les Alfreds\, Gabriel Alloing\, Jérémie TholoméMusique : Cédric Van Caillie (arrangements musicaux\, guitare\, basse)\,Rebecca Smit (violon)\, Amandine Flandre (violoncelle)
URL:https://septem.stghislain.be/agenda/hommage-julos-beaucarne/
LOCATION:Les Jardins du Cloître\, 37 Grand Place\, Saint-Ghislain\, 7330\, Belgique
CATEGORIES:Chant,Concerts,Musique,Poésie,Saint-Ghislain
ATTACH;FMTTYPE=image/jpeg:https://septem.stghislain.be/wp-content/uploads/2023/06/hommage_julos_beaucarne-Septem-Culture_Saint_Ghislain-2023.jpg
ORGANIZER;CN="Septem":MAILTO:info@septem.stghislain.be
END:VEVENT
END:VCALENDAR