BEGIN:VCALENDAR
VERSION:2.0
PRODID:-//Septem - ECPv6.0.13.1//NONSGML v1.0//EN
CALSCALE:GREGORIAN
METHOD:PUBLISH
X-ORIGINAL-URL:https://septem.stghislain.be
X-WR-CALDESC:évènements pour Septem
REFRESH-INTERVAL;VALUE=DURATION:PT1H
X-Robots-Tag:noindex
X-PUBLISHED-TTL:PT1H
BEGIN:VTIMEZONE
TZID:Europe/Brussels
BEGIN:DAYLIGHT
TZOFFSETFROM:+0100
TZOFFSETTO:+0200
TZNAME:CEST
DTSTART:20230326T010000
END:DAYLIGHT
BEGIN:STANDARD
TZOFFSETFROM:+0200
TZOFFSETTO:+0100
TZNAME:CET
DTSTART:20231029T010000
END:STANDARD
END:VTIMEZONE
BEGIN:VEVENT
DTSTART;TZID=Europe/Brussels:20230918T140000
DTEND;TZID=Europe/Brussels:20230918T160000
DTSTAMP:20260424T161104
CREATED:20230802T171524Z
LAST-MODIFIED:20230802T171524Z
UID:10000262-1695045600-1695052800@septem.stghislain.be
SUMMARY:Conférence sur Guy Beart | par Michel LEMAIRE
DESCRIPTION:Rejoignez-nous pour une conférence inspirante sur Guy Béart : une exploration des mots et de la musique. Plongez-vous dans l’univers captivant de cet artiste légendaire\, connu pour ses chansons poétiques et engagées. Lors de cette conférence\, vous découvrirez les coulisses de sa création artistique\, sa vision unique du monde et les histoires qui ont nourri sa musique. Explorez l’impact de ses paroles profondes et laissez-vous inspirer par son héritage musical intemporel. Ne manquez pas cette occasion de rencontrer l’homme derrière les chansons et d’explorer son héritage artistique lors de cette conférence enrichissante. Réservez votre place dès maintenant pour une après-midi qui promet d’être remplie d’émotion\, de réflexion et de musique envoûtante. \nConférencier:\nMichel Lemaire\nEx-journaliste de radio et de télévision à la RTBF \nGRATUIT pour les membres de l’assg\n5€ pour les membres club et non membre
URL:https://septem.stghislain.be/agenda/conference-guy-beart/
LOCATION:Les Jardins du Cloître\, 37 Grand Place\, Saint-Ghislain\, 7330\, Belgique
CATEGORIES:Conférences,Musique,Saint-Ghislain
ATTACH;FMTTYPE=image/jpeg:https://septem.stghislain.be/wp-content/uploads/2023/08/conference_Guy_Beartbande-Septem-Culture_Saint_Ghislain-2023.jpg
ORGANIZER;CN="Septem":MAILTO:info@septem.stghislain.be
END:VEVENT
END:VCALENDAR