BEGIN:VCALENDAR
VERSION:2.0
PRODID:-//Septem - ECPv6.0.13.1//NONSGML v1.0//EN
CALSCALE:GREGORIAN
METHOD:PUBLISH
X-ORIGINAL-URL:https://septem.stghislain.be
X-WR-CALDESC:évènements pour Septem
REFRESH-INTERVAL;VALUE=DURATION:PT1H
X-Robots-Tag:noindex
X-PUBLISHED-TTL:PT1H
BEGIN:VTIMEZONE
TZID:Europe/Brussels
BEGIN:DAYLIGHT
TZOFFSETFROM:+0100
TZOFFSETTO:+0200
TZNAME:CEST
DTSTART:20230326T010000
END:DAYLIGHT
BEGIN:STANDARD
TZOFFSETFROM:+0200
TZOFFSETTO:+0100
TZNAME:CET
DTSTART:20231029T010000
END:STANDARD
END:VTIMEZONE
BEGIN:VEVENT
DTSTART;TZID=Europe/Brussels:20230917T150000
DTEND;TZID=Europe/Brussels:20230917T170000
DTSTAMP:20260424T160730
CREATED:20230622T064333Z
LAST-MODIFIED:20230819T102548Z
UID:10000190-1694962800-1694970000@septem.stghislain.be
SUMMARY:Concert | Jules & Jo / Gabrielle Verleyen / Aurore
DESCRIPTION:JULES & JO est un duo de chanson belge à tendance surréaliste qui sillonne depuis 2009 les scènes de Belgique et d’ailleurs pour chanter sa poésie absurde et redonner rire et joie à l’Humanité. Leur 3ème album « Chaise de Jardin » amène un spectacle plus vivant et déjanté que jamais. Mêlant machines électroniques\, accordéons\, guitares\, flûtes\, percussions\, abats-jours\, bocaux et cochonnets\, ils chantent ici les joies et les peines des objets délaissés… Présenté au Festival d’Avignon en juillet 2021\, ce voyage a conquis de nombreux publics depuis…Lauréats de nombreux prix en France\, Belgique et Suisse\, dont le prix du public Georges Moustaki\, le prix Le Mans Cité Chanson ou la Médaille d’Or de la Chanson\, JULES & JO creusent leur sillon : celui du non-sens qui fait sens et de la folie douce… Sérieux-ses s’abstenir ! \nAvec sa voix force et velours\, Gabrielle Verleyen réconcilie l’indie-folk et la pop à texte française. Dans un univers sonore sans bord\, mélancolie et sérénité se côtoient pour offrir un paysage intime et lumineux. \nDécouvrez l’univers artistique d’Aurore Di Cesare : musique envoûtante… Aurore a été sélectionnée en mars 2023 au « Parcours FrancoFaune 2023 » à Bruxelles et sa prestation a séduit le jury\, même si elle ne fut pas parmi les 3 lauréats.
URL:https://septem.stghislain.be/agenda/jules-et-jo-gabrielleverleyen-aurore/
LOCATION:Les Jardins du Cloître\, 37 Grand Place\, Saint-Ghislain\, 7330\, Belgique
CATEGORIES:Chant,Concerts,Musique,Saint-Ghislain
ATTACH;FMTTYPE=image/jpeg:https://septem.stghislain.be/wp-content/uploads/2023/06/scene_decouverte_JulesetJo_Aurore_GabrielleVerleyen-Septem-Culture_Saint_Ghislain-2023.jpg
ORGANIZER;CN="Septem":MAILTO:info@septem.stghislain.be
END:VEVENT
END:VCALENDAR