BEGIN:VCALENDAR
VERSION:2.0
PRODID:-//Septem - ECPv6.0.13.1//NONSGML v1.0//EN
CALSCALE:GREGORIAN
METHOD:PUBLISH
X-ORIGINAL-URL:https://septem.stghislain.be
X-WR-CALDESC:évènements pour Septem
REFRESH-INTERVAL;VALUE=DURATION:PT1H
X-Robots-Tag:noindex
X-PUBLISHED-TTL:PT1H
BEGIN:VTIMEZONE
TZID:Europe/Brussels
BEGIN:DAYLIGHT
TZOFFSETFROM:+0100
TZOFFSETTO:+0200
TZNAME:CEST
DTSTART:20230326T010000
END:DAYLIGHT
BEGIN:STANDARD
TZOFFSETFROM:+0200
TZOFFSETTO:+0100
TZNAME:CET
DTSTART:20231029T010000
END:STANDARD
END:VTIMEZONE
BEGIN:VEVENT
DTSTART;TZID=Europe/Brussels:20230821T140000
DTEND;TZID=Europe/Brussels:20230825T140000
DTSTAMP:20260424T183646
CREATED:20230620T042331Z
LAST-MODIFIED:20230725T072905Z
UID:10000175-1692626400-1692972000@septem.stghislain.be
SUMMARY:REPIT 6 | Écriture et interprétation RAP\, HIP-HOP\, SLAM à partir de 15 ans
DESCRIPTION:Envie de découvrir le monde du rap sous toutes ses coutures ? Apprendre à écrire\, produire\, mixer ou performer sur scène ? C’est ici que ça se passe !!!De 14h à 17hOrganisé par Gosses du Bitumeà partir de 15 ans
URL:https://septem.stghislain.be/agenda/ecriture-rap-hip-hop/
LOCATION:Les Jardins du Cloître\, 37 Grand Place\, Saint-Ghislain\, 7330\, Belgique
CATEGORIES:Ateliers,Chant,Musique,REPIT,Saint-Ghislain
ATTACH;FMTTYPE=image/jpeg:https://septem.stghislain.be/wp-content/uploads/2023/06/ecriture_rap_hip-hop_REPIT5-Septem-Culture_Saint_Ghislain-2023.jpg
ORGANIZER;CN="Septem":MAILTO:info@septem.stghislain.be
END:VEVENT
END:VCALENDAR