BEGIN:VCALENDAR
VERSION:2.0
PRODID:-//Septem - ECPv6.0.13.1//NONSGML v1.0//EN
CALSCALE:GREGORIAN
METHOD:PUBLISH
X-ORIGINAL-URL:https://septem.stghislain.be
X-WR-CALDESC:évènements pour Septem
REFRESH-INTERVAL;VALUE=DURATION:PT1H
X-Robots-Tag:noindex
X-PUBLISHED-TTL:PT1H
BEGIN:VTIMEZONE
TZID:Europe/Brussels
BEGIN:DAYLIGHT
TZOFFSETFROM:+0100
TZOFFSETTO:+0200
TZNAME:CEST
DTSTART:20230326T010000
END:DAYLIGHT
BEGIN:STANDARD
TZOFFSETFROM:+0200
TZOFFSETTO:+0100
TZNAME:CET
DTSTART:20231029T010000
END:STANDARD
END:VTIMEZONE
BEGIN:VEVENT
DTSTART;TZID=Europe/Brussels:20230820T160000
DTEND;TZID=Europe/Brussels:20230820T180000
DTSTAMP:20260424T184251
CREATED:20230705T104740Z
LAST-MODIFIED:20230731T174750Z
UID:10000235-1692547200-1692554400@septem.stghislain.be
SUMMARY:Concert | Piano 4 mains | Max Blistain & Anaïs Liemans
DESCRIPTION:Venez vivre une expérience musicale unique lors de notre concert de piano à quatre mains en duo ! Plongez dans l’harmonie et la complicité de deux artistes qui fusionnent leurs talents pour vous offrir une performance captivante. \n3 morceaux en forme de poire E.SATIE \nSix épigraphes antiques c. DEBUSSY \nFantaisie en fa m D 940 F. SCHUBERT \nSix épigraphes antiques c. DEBUSSY
URL:https://septem.stghislain.be/agenda/concert-4-mains/
LOCATION:Église Saint-Martin de Neufmaison\, Rue de Stambruges\, Saint-Ghislain\, 7332\, Belgique
CATEGORIES:Concerts,Musique,Neufmaison
ATTACH;FMTTYPE=image/jpeg:https://septem.stghislain.be/wp-content/uploads/2023/07/concert_piano_4_mains-Septem-Culture_Saint_Ghislain-2023.jpg
ORGANIZER;CN="Septem":MAILTO:info@septem.stghislain.be
GEO:50.530181184907;3.7936792227194
X-APPLE-STRUCTURED-LOCATION;VALUE=URI;X-ADDRESS=Église Saint-Martin de Neufmaison Rue de Stambruges Saint-Ghislain 7332 Belgique;X-APPLE-RADIUS=500;X-TITLE=Rue de Stambruges:geo:3.7936792227194,50.530181184907
END:VEVENT
END:VCALENDAR