BEGIN:VCALENDAR
VERSION:2.0
PRODID:-//Septem - ECPv6.0.13.1//NONSGML v1.0//EN
CALSCALE:GREGORIAN
METHOD:PUBLISH
X-ORIGINAL-URL:https://septem.stghislain.be
X-WR-CALDESC:évènements pour Septem
REFRESH-INTERVAL;VALUE=DURATION:PT1H
X-Robots-Tag:noindex
X-PUBLISHED-TTL:PT1H
BEGIN:VTIMEZONE
TZID:Europe/Brussels
BEGIN:DAYLIGHT
TZOFFSETFROM:+0100
TZOFFSETTO:+0200
TZNAME:CEST
DTSTART:20230326T010000
END:DAYLIGHT
BEGIN:STANDARD
TZOFFSETFROM:+0200
TZOFFSETTO:+0100
TZNAME:CET
DTSTART:20231029T010000
END:STANDARD
END:VTIMEZONE
BEGIN:VEVENT
DTSTART;TZID=Europe/Brussels:20230723T214500
DTEND;TZID=Europe/Brussels:20230723T230000
DTSTAMP:20260424T195129
CREATED:20230705T094006Z
LAST-MODIFIED:20230723T071915Z
UID:10000236-1690148700-1690153200@septem.stghislain.be
SUMMARY:Concert | Piano en nocture | Arda Mustafaoglu
DESCRIPTION:⚠️ATTENTION: Aujourd’hui le concert est déplacé à l’église de Baudour en raison d’un risque d’averses et de rafales de vent ! Très bon dimanche à tous \nVivez l’expérience d’un piano nocturne dans le silence du parc de Baudour\, pour l’anniversaire des 100 ans de la présence polonaise à Saint-Ghislain en collaboration avec l’association BelPol. \n\n\n\n\n\n\n\nF. Chopin: \n\nPrelude no 20 in c minor\nMazurka A-minor Op.17 No. 4\nPrelude no 6 b minor\nMazurka B-minor Op. 33 No. 4\nPrelude no 4 e minor\nMazurka A-minor Op. 67 No. 4\nPrelude no 7 A major\n\nFantaisie-Impromptu\, Op. 66 \nPiano concerto No 2\, Second movement (Arr. for solo piano) \nBallades: \n2. F-major op.38 \n3. A flat-major op.47
URL:https://septem.stghislain.be/agenda/piano-en-nocturne/
LOCATION:Parc de Baudour\, Belgique
CATEGORIES:Baudour,Concerts,Musique
ATTACH;FMTTYPE=image/jpeg:https://septem.stghislain.be/wp-content/uploads/2023/07/piano_en_nocturne-Septem-Culture_Saint_Ghislain-2023.jpg
ORGANIZER;CN="Septem":MAILTO:info@septem.stghislain.be
END:VEVENT
END:VCALENDAR