BEGIN:VCALENDAR
VERSION:2.0
PRODID:-//Septem - ECPv6.0.13.1//NONSGML v1.0//EN
CALSCALE:GREGORIAN
METHOD:PUBLISH
X-ORIGINAL-URL:https://septem.stghislain.be
X-WR-CALDESC:évènements pour Septem
REFRESH-INTERVAL;VALUE=DURATION:PT1H
X-Robots-Tag:noindex
X-PUBLISHED-TTL:PT1H
BEGIN:VTIMEZONE
TZID:Europe/Brussels
BEGIN:DAYLIGHT
TZOFFSETFROM:+0100
TZOFFSETTO:+0200
TZNAME:CEST
DTSTART:20230326T010000
END:DAYLIGHT
BEGIN:STANDARD
TZOFFSETFROM:+0200
TZOFFSETTO:+0100
TZNAME:CET
DTSTART:20231029T010000
END:STANDARD
END:VTIMEZONE
BEGIN:VEVENT
DTSTART;TZID=Europe/Brussels:20230506T203000
DTEND;TZID=Europe/Brussels:20230506T230000
DTSTAMP:20260424T223359
CREATED:20230411T134327Z
LAST-MODIFIED:20230412T135206Z
UID:10000133-1683405000-1683414000@septem.stghislain.be
SUMMARY:Concert | An Pierlé + Enid
DESCRIPTION:X Scandalous vous retrouve pour deux nouveaux concerts :  \nAn Pierlé \nOn ne présente plus An Pierlé ! Active depuis la fin des années 90 derrière\, elle a su conquérir un large public grâce à son talent inné au piano et sa voix incroyable. Cette fois\, vous découvrirez An Pierlé en formule duo\, avec Koen Gisen\, son partenaire de vie mais aussi son complice artistique. Ce projet\, c’est une invitation à célébrer leur parcours\, leurs albums\, leurs projets\, grâce à une formule qui revient à l’essentiel sous une forme épurée : piano & voix et clarinette basse & saxophone. \nEnid \nEnid est le groupe local de cette soirée de concerts. Leur musique\, c’est une évasion dans un monde chimérique empreint de rêves\, de mythes et de poésie. Les compositions sont nées de la fusion des univers respectifs de Nawal et Pascal\, membres fondateurs du groupe. Entre inspirations celtiques et le son rock des 90’s\, Enid propose une musique aérienne\, tissée sur le fil.
URL:https://septem.stghislain.be/agenda/an-pierle-enid/
LOCATION:Les Jardins du Cloître\, 37 Grand Place\, Saint-Ghislain\, 7330\, Belgique
CATEGORIES:Concerts,Musique,Saint-Ghislain
ATTACH;FMTTYPE=image/png:https://septem.stghislain.be/wp-content/uploads/2023/04/xscandalous-an_pierle__enid-septem-culture_Saint_Ghislain-2023-1.png
ORGANIZER;CN="Septem":MAILTO:info@septem.stghislain.be
END:VEVENT
END:VCALENDAR