BEGIN:VCALENDAR
VERSION:2.0
PRODID:-//Septem - ECPv6.0.13.1//NONSGML v1.0//EN
CALSCALE:GREGORIAN
METHOD:PUBLISH
X-ORIGINAL-URL:https://septem.stghislain.be
X-WR-CALDESC:évènements pour Septem
REFRESH-INTERVAL;VALUE=DURATION:PT1H
X-Robots-Tag:noindex
X-PUBLISHED-TTL:PT1H
BEGIN:VTIMEZONE
TZID:Europe/Brussels
BEGIN:DAYLIGHT
TZOFFSETFROM:+0100
TZOFFSETTO:+0200
TZNAME:CEST
DTSTART:20230326T010000
END:DAYLIGHT
BEGIN:STANDARD
TZOFFSETFROM:+0200
TZOFFSETTO:+0100
TZNAME:CET
DTSTART:20231029T010000
END:STANDARD
END:VTIMEZONE
BEGIN:VEVENT
DTSTART;TZID=Europe/Brussels:20230303T200000
DTEND;TZID=Europe/Brussels:20230303T220000
DTSTAMP:20260425T025021
CREATED:20230121T235301Z
LAST-MODIFIED:20230121T235305Z
UID:10000078-1677873600-1677880800@septem.stghislain.be
SUMMARY:Concert | Dick Annegarn + Olivier Terwagne
DESCRIPTION:DICK ANNEGARN \nSolaire et solo. C’est ainsi qu’on pourrait décrire ce dix-huitième album studio de notre insolite et salutaire néerlandais franco-fou chantant. Dick Annegarn\, sa voix\, ses textes\, sa guitare\, dans le plus simple appareil. Tout nu\, tout cru\, tout beau. \nSöl\, donc\, c’est le titre\, avec tréma mais sans trémolo\, renoue superbement avec la veine blues-folk loufoque que Dick le troubadour réinvente à sa manière depuis plus de quatre décennies. Inutile de rappeler – mais on le fera quand même ici\, ne serait-ce que pour la jeune génération – les fleurons désormais historiques de la carrière savoureuse de cet hurluberlu fantasque\, en gammes solitaires comme en riffs de groupe ou en géographie symphonique : de “Sacré Géranium” à “Vélo vole”\, en passant par “Bruxelles”\, “Mireille”\, “Quelle belle vallée” et autre “Ubu”\, ces chansons font partie de notre patrimoine\, célébrées il n’y a pas si longtemps par une pléiade d’artistes reconnaissants\, de Souchon à -M-\, de Bashung à Calogero\, dans un Grand Dîner festif et convivial. \nMais tout ça\, c’était hier. Car notre poète batave plouc pataphysicien\, passé maître dans l’art de croquer avec gourmandise mots et mélodies et de manier guitares piquées et strophes dadaïstes\, est loin d’avoir entonné son dernier couplet. La preuve\, cet album nouveau\, enregistré seul dans sa tanière rurale de Laffite-Toupière en Haute Garonne\, confiné avec poules\, canards et lapins. Voilà du Dick comme on l’aime\, rustique et sophistiqué à la fois\, acoustique et esthétique\, dense et épuré\, toujours scandé de ces chanterelles agiles et de cette voix d’ogre débonnaire au swing bourru.  \nOLIVIER TERWAGNE \nAuteur compositeur interprète musicien saltimbanque\, Olivier Terwagne promène son piano marginal de scènes en scènes confidentielles. Son nouvel album « Idoles » est sorti en 2020 et un album de pièces instrumentales pour piano en 2021. Il compose aussi des musiques pour documentaires (Moreau\, Bucquoy…). Parmi ses questionnements\, le rapport à l’histoire\, à la mémoire et aux identités multiples dans un monde fragmenté entre mirages du développement personnel\, relativismes naïfs et essentialismes revanchards. 
URL:https://septem.stghislain.be/agenda/concert-dick-annegarn-olivier-terwagne/
LOCATION:Les Jardins du Cloître\, 37 Grand Place\, Saint-Ghislain\, 7330\, Belgique
CATEGORIES:Arts de la scène,Concerts,Musique,Saint-Ghislain
ATTACH;FMTTYPE=image/jpeg:https://septem.stghislain.be/wp-content/uploads/2023/01/dick_annegarn_olivier_terwagne-concert-septem-culture_Saint_Ghislain-2023.jpg
ORGANIZER;CN="Septem":MAILTO:info@septem.stghislain.be
END:VEVENT
END:VCALENDAR