BEGIN:VCALENDAR
VERSION:2.0
PRODID:-//Septem - ECPv6.0.13.1//NONSGML v1.0//EN
CALSCALE:GREGORIAN
METHOD:PUBLISH
X-WR-CALNAME:Septem
X-ORIGINAL-URL:https://septem.stghislain.be
X-WR-CALDESC:évènements pour Septem
REFRESH-INTERVAL;VALUE=DURATION:PT1H
X-Robots-Tag:noindex
X-PUBLISHED-TTL:PT1H
BEGIN:VTIMEZONE
TZID:Europe/Brussels
BEGIN:DAYLIGHT
TZOFFSETFROM:+0100
TZOFFSETTO:+0200
TZNAME:CEST
DTSTART:20250330T010000
END:DAYLIGHT
BEGIN:STANDARD
TZOFFSETFROM:+0200
TZOFFSETTO:+0100
TZNAME:CET
DTSTART:20251026T010000
END:STANDARD
END:VTIMEZONE
BEGIN:VEVENT
DTSTART;TZID=Europe/Brussels:20250202T160000
DTEND;TZID=Europe/Brussels:20250202T180000
DTSTAMP:20260423T151150
CREATED:20241126T103201Z
LAST-MODIFIED:20241126T103205Z
UID:10001074-1738512000-1738519200@septem.stghislain.be
SUMMARY:Concert de Gala du New Beat's Band
DESCRIPTION:Le New Beat’s Band est heureux de vous présenter son nouveau programme musical\, celui-ci sera axé sur des oeuvres de grands compositeurs et interprètes de renom dans le domaine du jazz et de la variété. C’est aussi l’occasion de vous proposer deux chanteurs et une chanteuse dans leur répertoire respectif. Armand vous ravira de sa voix ample et chaleureuse avec des oeuvres de la chanson française et américaine\, Stephan excellera dans des oeuvres de crooners qui ont marqué les 20ème et 21 ème siècles et Amandine vous emmènera dans un répertoire très varié et entraînant. L’année 2025 est aussi le 80ème anniversaire de l’armistice qui clôturera la deuxième guerre mondiale\, ce sera aussi l’occasion de faire la part belle au répertoire swing de l’orchestre de Glenn Miller. Le NBB vous donne rendez-vous le dimanche 02 février à 16h00 au Jardin du Cloître (Septem)\, Grand Place à Saint-Ghislain.
URL:https://septem.stghislain.be/agenda/new-beats-band/
LOCATION:Les Jardins du Cloître\, 37 Grand Place\, Saint-Ghislain\, 7330\, Belgique
CATEGORIES:Concerts,Musique,Saint-Ghislain,Spectacle
ATTACH;FMTTYPE=image/jpeg:https://septem.stghislain.be/wp-content/uploads/2024/11/New-beats-band-Septem-Culture_Saint_Ghislain-2025.jpg
ORGANIZER;CN="Septem":MAILTO:info@septem.stghislain.be
END:VEVENT
BEGIN:VEVENT
DTSTART;TZID=Europe/Brussels:20250213T200000
DTEND;TZID=Europe/Brussels:20250213T213000
DTSTAMP:20260423T151150
CREATED:20241122T090340Z
LAST-MODIFIED:20241210T150740Z
UID:10001070-1739476800-1739482200@septem.stghislain.be
SUMMARY:Jazz Tour | Les lundis d’Hortense | Armando Luongo “New Lands”
DESCRIPTION:Armando Luongo est l’homme que l’on retrouve depuis plus de vingt ans derrière les meilleurs saxophonistes\, guitaristes\, trompettistes et autres pianistes\, qu’ils soient belges ou internationaux. Sa réputation de batteur sideman n’est plus à faire. Mais le voici\, cette fois\, leader de sa propre formation qui va en étonner plus d’un. \nUn batteur\, dans l’esprit de la plupart\, c’est la cadence\, la pulsation\, la tension rythmique. Chez Armando Luongo\, c’est aussi le sens de la mélodie et un don certain pour la narration. Entre moments enlevés et optimistes – et d’autres plus introspectifs – le groupe nous embarque dans un jazz résolument actuel qui a su se nourrir des plus belles pages écrites par ses ainés. Laissant tout l’espace aux improvisation d’un saxophone inspiré\, d’une guitare ensoleillée\, d’un piano débridé ou encore d’une trompette très inventive\, Armando explore une large palette de sentiments et d’émotions. Les dialogues sont toujours spontanés\, vifs\, joyeux et profonds à la fois. C’est l’équilibre parfait entre douceur\, lyrisme et caractère bien trempé. Riche de belles harmonies\, de groove\, de swing ou de polyrythmies folâtres\, c’est un beau pays imaginaire que le batteur nous fait visiter. Préparez vos bagages et faite un peu de place pour en ramener des images inoubliables. \n\nMatt Chalk – saxophone alto \nWajdi Riahi – piano \nGiovanni Di Carlo – guitare \nBasile Rahola – contrebasse \nArmando Luongo – batterie  \n\n\nDans le cadre du Jazz Tour des Lundis d’Hortense. Avec l’aide des Tournées Art et Vie de la Fédération Wallonie-Bruxelles.
URL:https://septem.stghislain.be/agenda/armando-luongo/
LOCATION:Les Jardins du Cloître\, 37 Grand Place\, Saint-Ghislain\, 7330\, Belgique
CATEGORIES:Concerts,Musique,Saint-Ghislain
ATTACH;FMTTYPE=image/jpeg:https://septem.stghislain.be/wp-content/uploads/2024/11/Jazz-Tour-Les-lundis-dHortense-Armando-Luongo-Septem-Culture_Saint_Ghislain-2025-1-scaled.jpg
ORGANIZER;CN="Septem":MAILTO:info@septem.stghislain.be
END:VEVENT
BEGIN:VEVENT
DTSTART;TZID=Europe/Brussels:20250216T160000
DTEND;TZID=Europe/Brussels:20250216T180000
DTSTAMP:20260423T151150
CREATED:20241220T075246Z
LAST-MODIFIED:20250116T150844Z
UID:10001115-1739721600-1739728800@septem.stghislain.be
SUMMARY:Concert de Gala Orchestre Symphonique Royal du Val de Sambre
DESCRIPTION:Le 2ème concerto pour piano et orchestre de Chopin\, une perle de la période romantique rarement proposée dans notre région car il faut pour cela non seulement un orchestre symphonique\, mais surtout un(e) pianiste de talent pour oser relever ce défi.L’occasion vous est offerte de passer un moment musical de rêve.Mozart\, Schubert et Honegger complèteront ce beau programme à ne manquer sous aucun prétexte. \nSoliste: Emmanuelle Massart
URL:https://septem.stghislain.be/agenda/val-du-sambre/
LOCATION:Les Jardins du Cloître\, 37 Grand Place\, Saint-Ghislain\, 7330\, Belgique
CATEGORIES:Concerts,Musique,Saint-Ghislain
ATTACH;FMTTYPE=image/jpeg:https://septem.stghislain.be/wp-content/uploads/2024/12/Concert-de-Gala-Orchestre-Symphonique-Royal-du-Val-de-Sambre-Septem-Culture_Saint_Ghislain-2025.jpg
ORGANIZER;CN="Septem":MAILTO:info@septem.stghislain.be
END:VEVENT
BEGIN:VEVENT
DTSTART;TZID=Europe/Brussels:20250221T200000
DTEND;TZID=Europe/Brussels:20250221T211500
DTSTAMP:20260423T151150
CREATED:20241126T093815Z
LAST-MODIFIED:20241126T093820Z
UID:10001073-1740168000-1740172500@septem.stghislain.be
SUMMARY:Concert | Mozart VS Mozart - Humour musical
DESCRIPTION:Léopold Mozart\, le père\, musicien professionnel de haut vol\, avait un nom et même un prénom. Son talent et sa renommée pouvaient lui faire entrevoir les portes de la gloire. Mais lorsque son fils\, excessivement imprévisible\, se mêle aux affaires de son père\, tout va changer pour Léopold. En une dizaine de tableaux désopilants et un tantinet iconoclastes\, les Mozart père et fils nous relatent les épisodes les plus croustillants de la grande et de la petite histoire de Wolfgang Amadeus Mozart. Venez assister à une heure quinze de grande musique live commentée avec humour pour un voyage décalé dans la vie du compositeur le plus génial de tous les temps: Wolfgang Amadeus Mozart !
URL:https://septem.stghislain.be/agenda/mozart-vs-mozart/
LOCATION:Les Jardins du Cloître\, 37 Grand Place\, Saint-Ghislain\, 7330\, Belgique
CATEGORIES:Concerts,Musique,Saint-Ghislain,Spectacle
ATTACH;FMTTYPE=image/jpeg:https://septem.stghislain.be/wp-content/uploads/2024/11/mozart-vs-mozart-Septem-Culture_Saint_Ghislain-2025.jpg
ORGANIZER;CN="Septem":MAILTO:info@septem.stghislain.be
END:VEVENT
END:VCALENDAR