BEGIN:VCALENDAR
VERSION:2.0
PRODID:-//Septem - ECPv6.0.13.1//NONSGML v1.0//EN
CALSCALE:GREGORIAN
METHOD:PUBLISH
X-WR-CALNAME:Septem
X-ORIGINAL-URL:https://septem.stghislain.be
X-WR-CALDESC:évènements pour Septem
REFRESH-INTERVAL;VALUE=DURATION:PT1H
X-Robots-Tag:noindex
X-PUBLISHED-TTL:PT1H
BEGIN:VTIMEZONE
TZID:Europe/Brussels
BEGIN:DAYLIGHT
TZOFFSETFROM:+0100
TZOFFSETTO:+0200
TZNAME:CEST
DTSTART:20240331T010000
END:DAYLIGHT
BEGIN:STANDARD
TZOFFSETFROM:+0200
TZOFFSETTO:+0100
TZNAME:CET
DTSTART:20241027T010000
END:STANDARD
END:VTIMEZONE
BEGIN:VEVENT
DTSTART;TZID=Europe/Brussels:20241201T160000
DTEND;TZID=Europe/Brussels:20241201T173000
DTSTAMP:20260423T175933
CREATED:20240919T133318Z
LAST-MODIFIED:20241025T053610Z
UID:10000894-1733068800-1733074200@septem.stghislain.be
SUMMARY:Festival Echo | Des larmes de Jephté aux réjouissances de la Nativité
DESCRIPTION:Ensemble instrumental Florilège musical AVEC LE CONCOURS DE L’ENSEMBLE VOCAL Chantecité \nLes compositions proposées dans ce programme représentent des exemples superbes de la musique baroque européenne\, avec leurs styles distincts et leurs capacités à émouvoir et à transporter l’auditeur à travers des récits musicaux captivants. La musique de Carissimi et de Charpentier reste profondément influente et appréciée par les amateurs de musique classique aujourd’hui\, témoignant de la puissance intemporelle de leur art. \n« Jephté »\, œuvre baroque présente une fusion de la musique dramatique et sacrée\, racontant l’histoire biblique de Jephté\, un juge hébreu. Giacomo Carissimi utilise des textures vocales riches et des harmonies expressives pour illustrer les sentiments intenses des personnages et les événements dramatiques de l’histoire. Les récitatifs qui traduisent l’action de manière fluide et captivante\, souvent accompagnés par une basse continue créant une toile de fond harmonique qui soutient le texte et renforce son impact émotionnel\, sont chargés d’émotion. Les chœurs ajoutent une profondeur supplémentaire à l’ensemble\, tissant ainsi une atmosphère de grande solennité et de pathos. \nDans les œuvres proposées\, Marc-Antoine Charpentier utilise une orchestration riche et variée\, combinant habilement des instruments à cordes\, des vents et des percussions pour créer une palette sonore captivante. Les textures orchestrales évoluent de manière dynamique tout au long de l’œuvre\, allant de passages pastoraux à des moments de grande intensité dramatique avec une fluidité impressionnante. \nLes airs et les chœurs de la H314 et H416 témoignent du génie créatif de Charpentier dans le domaine de la tragédie lyrique française et sont remarquables pour leur mélodie poignante et leur expressivité émotionnelle \nLa H314 fait partie du répertoire liturgique et reflète la maîtrise de l’auteur dans le domaine de la musique sacrée baroque\, caractérisée par son expressivité\, son raffinement harmonique et sa sensibilité à la poésie du texte liturgique. La musicalité de la H416 quant à elle\, donne vie aux personnages mythologiques\, capturant à la fois leur beauté et leur humanité dans des mélodies envoûtantes et des harmonies évocatrices.
URL:https://septem.stghislain.be/agenda/rejouissance-nativite/
LOCATION:Église Saint-Géry de Baudour\, Place de Baudour\, Saint-Ghislain\, 7331\, Belgique
CATEGORIES:Concerts,Musique,Saint-Ghislain
ATTACH;FMTTYPE=image/jpeg:https://septem.stghislain.be/wp-content/uploads/2024/09/festival-echo-Des-larmes-de-Jephte-aux-rejouissances-de-la-Nativite-Septem-Culture_Saint_Ghislain-2024.jpg
ORGANIZER;CN="Septem":MAILTO:info@septem.stghislain.be
GEO:50.485163824936;3.8345378306807
X-APPLE-STRUCTURED-LOCATION;VALUE=URI;X-ADDRESS=Église Saint-Géry de Baudour Place de Baudour Saint-Ghislain 7331 Belgique;X-APPLE-RADIUS=500;X-TITLE=Place de Baudour:geo:3.8345378306807,50.485163824936
END:VEVENT
BEGIN:VEVENT
DTSTART;TZID=Europe/Brussels:20241204T143000
DTEND;TZID=Europe/Brussels:20241204T160000
DTSTAMP:20260423T175933
CREATED:20241004T105938Z
LAST-MODIFIED:20241004T105943Z
UID:10000911-1733322600-1733328000@septem.stghislain.be
SUMMARY:Ateliers Guitare avec Carlo Vargiu de 7 à 12 ans
DESCRIPTION:Plongez dans le monde de la musique lors de nos ateliers musicaux dirigés par Carlo Vargiu. Que vous soyez un jeune mélomane curieux ou un passionné plus expérimenté\, ces ateliers sont conçus pour vous faire vibrer au rythme de la musique\, sans aucune prérequis en solfège ! \nHoraires: \nPour les 7 à 12 ans: 14h30 – 16h00\nPour les participants de plus de 13 ans: 16h30 – 18h00\nInstruments: Guitare (Veuillez apporter votre propre guitare) \nCes ateliers sont spécialement adaptés aux débutants\, offrant une introduction ludique et enrichissante à la guitare et à la musique en général. Les participants auront l’occasion d’apprendre les bases de la guitare\, de jouer en groupe et de développer leur passion pour la musique. \nRejoignez-nous pour une semaine pleine de notes\, de rythmes et de découvertes musicales. Les places sont limitées\, alors réservez dès maintenant pour garantir votre participation !
URL:https://septem.stghislain.be/agenda/guitare-7-12/2024-12-04/
LOCATION:Les Jardins du Cloître\, 37 Grand Place\, Saint-Ghislain\, 7330\, Belgique
CATEGORIES:Ateliers,Jeune public,Musique,Saint-Ghislain
ATTACH;FMTTYPE=image/jpeg:https://septem.stghislain.be/wp-content/uploads/2024/05/ateliers-musicaux-Carlo-Balgiu-Septem-Culture_Saint_Ghislain-2024.jpg
ORGANIZER;CN="Septem":MAILTO:info@septem.stghislain.be
END:VEVENT
BEGIN:VEVENT
DTSTART;TZID=Europe/Brussels:20241204T163000
DTEND;TZID=Europe/Brussels:20241204T180000
DTSTAMP:20260423T175933
CREATED:20241004T110753Z
LAST-MODIFIED:20241004T110758Z
UID:10000923-1733329800-1733335200@septem.stghislain.be
SUMMARY:Ateliers Guitare avec Carlo Vargiu pour les plus de 13 ans
DESCRIPTION:Plongez dans le monde de la musique lors de nos ateliers musicaux dirigés par Carlo Vargiu. Que vous soyez un jeune mélomane curieux ou un passionné plus expérimenté\, ces ateliers sont conçus pour vous faire vibrer au rythme de la musique\, sans aucune prérequis en solfège ! \nHoraires: \nPour les 7 à 12 ans: 14h30 – 16h00\nPour les participants de plus de 13 ans: 16h30 – 18h00\nInstruments: Guitare (Veuillez apporter votre propre guitare) \nCes ateliers sont spécialement adaptés aux débutants\, offrant une introduction ludique et enrichissante à la guitare et à la musique en général. Les participants auront l’occasion d’apprendre les bases de la guitare\, de jouer en groupe et de développer leur passion pour la musique. \nRejoignez-nous pour une semaine pleine de notes\, de rythmes et de découvertes musicales. Les places sont limitées\, alors réservez dès maintenant pour garantir votre participation !
URL:https://septem.stghislain.be/agenda/guitare-13/2024-12-04/
LOCATION:Les Jardins du Cloître\, 37 Grand Place\, Saint-Ghislain\, 7330\, Belgique
CATEGORIES:Ateliers,Jeune public,Musique,Saint-Ghislain
ATTACH;FMTTYPE=image/jpeg:https://septem.stghislain.be/wp-content/uploads/2024/05/ateliers-musicaux-Carlo-Balgiu-Septem-Culture_Saint_Ghislain-2024.jpg
ORGANIZER;CN="Septem":MAILTO:info@septem.stghislain.be
END:VEVENT
BEGIN:VEVENT
DTSTART;TZID=Europe/Brussels:20241206T200000
DTEND;TZID=Europe/Brussels:20241206T213000
DTSTAMP:20260423T175933
CREATED:20240913T091759Z
LAST-MODIFIED:20240913T091804Z
UID:10000874-1733515200-1733520600@septem.stghislain.be
SUMMARY:Concert | Olivier Laurent | Le concert impossible
DESCRIPTION:Dans un esprit festif et populaire\, Olivier Laurent\, le jongleur de voix\, revient avec les meilleurs moments de ses plus beaux concerts\, où l’artiste mélange subtilement l’humour\, l’ambiance\, l’émotion\, une performance vocale absolue et bien d’autres belles surprises… \nL’artiste que vous allez apprécier donne tout sur scène. Sans calculer. Sans tricher. Lui qui a si bien incarné le « Grand Jacques »\, dans un saisissant tour de chant\, nous revient avec son « concert impossible ». Un spectacle qui lui tient particulièrement à cœur. \n« C’est un rêve de gosse qui se réalise. Je suis accompagné de musiciens hors-pair et je ressens vraiment un énorme plaisir sur scène. Ce show\, c’est un beau bébé qui va continuer à grandir. C’est le best-of de tous les plus beaux concerts. » \nOlivier Laurent n’est pas un imitateur\, c’est un « interprétateur « \, qui transmet une véritable émotion. Capable de vous emmener sur tous les registres\, de Johnny à Pavarotti\, d’Elvis à Christophe Maé. Venez vibrer avec lui !
URL:https://septem.stghislain.be/agenda/concert-impossible-olivier-laurent/
LOCATION:Les Jardins du Cloître\, 37 Grand Place\, Saint-Ghislain\, 7330\, Belgique
CATEGORIES:Concerts,Musique,Saint-Ghislain,Spectacle
ATTACH;FMTTYPE=image/jpeg:https://septem.stghislain.be/wp-content/uploads/2024/09/concert-impossible-olivier-laurent-Septem-Culture_Saint_Ghislain-2024.jpg
ORGANIZER;CN="Septem":MAILTO:info@septem.stghislain.be
END:VEVENT
BEGIN:VEVENT
DTSTART;TZID=Europe/Brussels:20241210T200000
DTEND;TZID=Europe/Brussels:20241210T213000
DTSTAMP:20260423T175933
CREATED:20240912T144636Z
LAST-MODIFIED:20241120T100855Z
UID:10000872-1733860800-1733866200@septem.stghislain.be
SUMMARY:Concert | Driss El Maloumi Trio & Watar Quintet
DESCRIPTION:Driss El Maloumi\, le virtuose marocain de l’oud\, brille par la modernité de son jeu\, la volubilité de son swing\, les couleurs novatrices de son répertoire. \n\nDetails\, son nouvel album\, allie oud\, percussions et quintette à cordes\, une rencontre dont Driss rêvait depuis de nombreuses années\, fasciné par les violons et l’harmonie des musiques des films de son enfance. \nDe ses premiers pas sur scène et en studio à ses multiples rencontres musicales – les tournées avec Jordi Savall\, entre autres –\, le natif d’Agadir a fait de son œuvre une quête : celle\, fondamentale\, de « l’extase musicale »\, du « tarab »\, cette émotion esthétique\, entre béatitude\, volupté et extase\, que l’on ressent lorsqu’on joue où que l’on écoute de la musique. \nInspiré par le confinement et\, surtout\, par le retour à la vie « normale »\, Driss El Maloumi a observé son quotidien et a retranscrit\, avec simplicité et fragilité\, ses détails les plus (in)signifiants : les lueurs de l’aube\, les gens du matin\, les bruits et les odeurs du quotidien\, les mamans préparant leurs enfants avant l’école\, la pluie qui se fait rare… \nDetails est un voyage musical intérieur et une victoire métaphorique face aux vicissitudes de la vie quotidienne. \n\n« Quand la virtuosité cède la place à l’âme pure d’une musique ancestrale d’une modernité folle… »Thierry Coljon – Le Soir \nDriss El Maloumi (oud)\, Saïd El Maloumi (percussions)\, Lahoucine Baqir (percussions)\, Amèle Metlini (premier violon)\, Silvia Bazantova (deuxième violon)\, Marie Ghitta (alto))\, Annemie Osborne (violoncelle)\, Adrien Tyberghein (contrebasse) \nUn spectacle produit par Contre-Jour et Zig Zag World.
URL:https://septem.stghislain.be/agenda/driss-el-maloumi/
LOCATION:Les Jardins du Cloître\, 37 Grand Place\, Saint-Ghislain\, 7330\, Belgique
CATEGORIES:Concerts,Musique,Saint-Ghislain
ATTACH;FMTTYPE=image/jpeg:https://septem.stghislain.be/wp-content/uploads/2024/09/Concert-Driss-El-Maloumi-Septem-Culture_Saint_Ghislain-2024.jpg
ORGANIZER;CN="Septem":MAILTO:info@septem.stghislain.be
END:VEVENT
BEGIN:VEVENT
DTSTART;TZID=Europe/Brussels:20241211T143000
DTEND;TZID=Europe/Brussels:20241211T160000
DTSTAMP:20260423T175933
CREATED:20241004T105938Z
LAST-MODIFIED:20241004T105943Z
UID:10000912-1733927400-1733932800@septem.stghislain.be
SUMMARY:Ateliers Guitare avec Carlo Vargiu de 7 à 12 ans
DESCRIPTION:Plongez dans le monde de la musique lors de nos ateliers musicaux dirigés par Carlo Vargiu. Que vous soyez un jeune mélomane curieux ou un passionné plus expérimenté\, ces ateliers sont conçus pour vous faire vibrer au rythme de la musique\, sans aucune prérequis en solfège ! \nHoraires: \nPour les 7 à 12 ans: 14h30 – 16h00\nPour les participants de plus de 13 ans: 16h30 – 18h00\nInstruments: Guitare (Veuillez apporter votre propre guitare) \nCes ateliers sont spécialement adaptés aux débutants\, offrant une introduction ludique et enrichissante à la guitare et à la musique en général. Les participants auront l’occasion d’apprendre les bases de la guitare\, de jouer en groupe et de développer leur passion pour la musique. \nRejoignez-nous pour une semaine pleine de notes\, de rythmes et de découvertes musicales. Les places sont limitées\, alors réservez dès maintenant pour garantir votre participation !
URL:https://septem.stghislain.be/agenda/guitare-7-12/2024-12-11/
LOCATION:Les Jardins du Cloître\, 37 Grand Place\, Saint-Ghislain\, 7330\, Belgique
CATEGORIES:Ateliers,Jeune public,Musique,Saint-Ghislain
ATTACH;FMTTYPE=image/jpeg:https://septem.stghislain.be/wp-content/uploads/2024/05/ateliers-musicaux-Carlo-Balgiu-Septem-Culture_Saint_Ghislain-2024.jpg
ORGANIZER;CN="Septem":MAILTO:info@septem.stghislain.be
END:VEVENT
BEGIN:VEVENT
DTSTART;TZID=Europe/Brussels:20241211T163000
DTEND;TZID=Europe/Brussels:20241211T180000
DTSTAMP:20260423T175933
CREATED:20241004T110753Z
LAST-MODIFIED:20241004T110758Z
UID:10000924-1733934600-1733940000@septem.stghislain.be
SUMMARY:Ateliers Guitare avec Carlo Vargiu pour les plus de 13 ans
DESCRIPTION:Plongez dans le monde de la musique lors de nos ateliers musicaux dirigés par Carlo Vargiu. Que vous soyez un jeune mélomane curieux ou un passionné plus expérimenté\, ces ateliers sont conçus pour vous faire vibrer au rythme de la musique\, sans aucune prérequis en solfège ! \nHoraires: \nPour les 7 à 12 ans: 14h30 – 16h00\nPour les participants de plus de 13 ans: 16h30 – 18h00\nInstruments: Guitare (Veuillez apporter votre propre guitare) \nCes ateliers sont spécialement adaptés aux débutants\, offrant une introduction ludique et enrichissante à la guitare et à la musique en général. Les participants auront l’occasion d’apprendre les bases de la guitare\, de jouer en groupe et de développer leur passion pour la musique. \nRejoignez-nous pour une semaine pleine de notes\, de rythmes et de découvertes musicales. Les places sont limitées\, alors réservez dès maintenant pour garantir votre participation !
URL:https://septem.stghislain.be/agenda/guitare-13/2024-12-11/
LOCATION:Les Jardins du Cloître\, 37 Grand Place\, Saint-Ghislain\, 7330\, Belgique
CATEGORIES:Ateliers,Jeune public,Musique,Saint-Ghislain
ATTACH;FMTTYPE=image/jpeg:https://septem.stghislain.be/wp-content/uploads/2024/05/ateliers-musicaux-Carlo-Balgiu-Septem-Culture_Saint_Ghislain-2024.jpg
ORGANIZER;CN="Septem":MAILTO:info@septem.stghislain.be
END:VEVENT
BEGIN:VEVENT
DTSTART;TZID=Europe/Brussels:20241213T200000
DTEND;TZID=Europe/Brussels:20241213T211500
DTSTAMP:20260423T175933
CREATED:20240923T064020Z
LAST-MODIFIED:20240923T064025Z
UID:10000895-1734120000-1734124500@septem.stghislain.be
SUMMARY:Concert | Hervé Douchy | Les sonates de Bach
DESCRIPTION:Johann Sébastien Bach compose les suites pour violoncelle seul entre 1717 et 1726.  \nPar ses suites\, Bach donne ses lettres de noblesse à cet instrument encore peu développé en Allemagne.Au XXe siècle\, Pablo Casals les sortira de l’ombre et elles font depuis l’objet de nombreuses interprétationsChaque suite\, de tonalité différente\, comme autant de couleurs et d’émotions\, se compose d’un prélude et de cinq danses. Les préludes de ces suites se distinguent des danses par leur caractère libre\, le compositeur n’étant pas lié aux contraintes spécifiques des règles de composition des danses. Bach y prend une grande liberté\, se rapprochant de l’improvisation. Il y déploie son génie et nous fait goûter à la profondeur spirituelle de son œuvre.Ces pièces ne sont pas des œuvres sacrées\, comme les cantates. On ne connaît d’ailleurs pas leur destination. Ceci dit\, Johann Nikolaus Forkel écrira en 1802 :  \n« Dans le temps de Bach\, il était habituellement joué à l’église\, pendant la communion\, un concerto ou un solo pour différents instruments (…) la majorité de ses pièces sont perdues. Mais nous avons conservé deux pièces principales\, qui très probablement nous ‘indemnisent’ de toutes celles perdues\, nommées : Six solos pour le violon sans accompagnement et six solos pour le Violoncello\, eux aussi sans accompagnement » \n\nHervé Douchy a fait ses études de violoncelle au Conservatoire de Bruxelles. Alors qu’il travaille à l’Orchestre Symphonique de la RTBF\, sa rencontre avec Sigiswald Kuijken l’oriente vers la pratique du violoncelle baroque\, qu’il perfectionne avec Hidemi Susuki. Il mène alors une vie de musicien concertiste qui lui permettra de jouer avec de nombreux ensembles belges et étrangers : La Petite Bande\, Il Gardelino\, La Pastorella\, Le Concert Royal\, Akademia\, Le Poème harmonique…et bien sûr les Agrémens dont il est le membre fondateur.
URL:https://septem.stghislain.be/agenda/herve-douchy/
LOCATION:Eglise de Sirault\, Rue des Déportés\, Sirault\, 7332
CATEGORIES:Concerts,Musique,Saint-Ghislain
ATTACH;FMTTYPE=image/jpeg:https://septem.stghislain.be/wp-content/uploads/2024/09/herve-douchy-Septem-Culture_Saint_Ghislain-2024.jpg
ORGANIZER;CN="Septem":MAILTO:info@septem.stghislain.be
END:VEVENT
BEGIN:VEVENT
DTSTART;TZID=Europe/Brussels:20241218T143000
DTEND;TZID=Europe/Brussels:20241218T160000
DTSTAMP:20260423T175933
CREATED:20241004T105938Z
LAST-MODIFIED:20241004T105943Z
UID:10000913-1734532200-1734537600@septem.stghislain.be
SUMMARY:Ateliers Guitare avec Carlo Vargiu de 7 à 12 ans
DESCRIPTION:Plongez dans le monde de la musique lors de nos ateliers musicaux dirigés par Carlo Vargiu. Que vous soyez un jeune mélomane curieux ou un passionné plus expérimenté\, ces ateliers sont conçus pour vous faire vibrer au rythme de la musique\, sans aucune prérequis en solfège ! \nHoraires: \nPour les 7 à 12 ans: 14h30 – 16h00\nPour les participants de plus de 13 ans: 16h30 – 18h00\nInstruments: Guitare (Veuillez apporter votre propre guitare) \nCes ateliers sont spécialement adaptés aux débutants\, offrant une introduction ludique et enrichissante à la guitare et à la musique en général. Les participants auront l’occasion d’apprendre les bases de la guitare\, de jouer en groupe et de développer leur passion pour la musique. \nRejoignez-nous pour une semaine pleine de notes\, de rythmes et de découvertes musicales. Les places sont limitées\, alors réservez dès maintenant pour garantir votre participation !
URL:https://septem.stghislain.be/agenda/guitare-7-12/2024-12-18/
LOCATION:Les Jardins du Cloître\, 37 Grand Place\, Saint-Ghislain\, 7330\, Belgique
CATEGORIES:Ateliers,Jeune public,Musique,Saint-Ghislain
ATTACH;FMTTYPE=image/jpeg:https://septem.stghislain.be/wp-content/uploads/2024/05/ateliers-musicaux-Carlo-Balgiu-Septem-Culture_Saint_Ghislain-2024.jpg
ORGANIZER;CN="Septem":MAILTO:info@septem.stghislain.be
END:VEVENT
BEGIN:VEVENT
DTSTART;TZID=Europe/Brussels:20241218T163000
DTEND;TZID=Europe/Brussels:20241218T180000
DTSTAMP:20260423T175933
CREATED:20241004T110753Z
LAST-MODIFIED:20241004T110758Z
UID:10000925-1734539400-1734544800@septem.stghislain.be
SUMMARY:Ateliers Guitare avec Carlo Vargiu pour les plus de 13 ans
DESCRIPTION:Plongez dans le monde de la musique lors de nos ateliers musicaux dirigés par Carlo Vargiu. Que vous soyez un jeune mélomane curieux ou un passionné plus expérimenté\, ces ateliers sont conçus pour vous faire vibrer au rythme de la musique\, sans aucune prérequis en solfège ! \nHoraires: \nPour les 7 à 12 ans: 14h30 – 16h00\nPour les participants de plus de 13 ans: 16h30 – 18h00\nInstruments: Guitare (Veuillez apporter votre propre guitare) \nCes ateliers sont spécialement adaptés aux débutants\, offrant une introduction ludique et enrichissante à la guitare et à la musique en général. Les participants auront l’occasion d’apprendre les bases de la guitare\, de jouer en groupe et de développer leur passion pour la musique. \nRejoignez-nous pour une semaine pleine de notes\, de rythmes et de découvertes musicales. Les places sont limitées\, alors réservez dès maintenant pour garantir votre participation !
URL:https://septem.stghislain.be/agenda/guitare-13/2024-12-18/
LOCATION:Les Jardins du Cloître\, 37 Grand Place\, Saint-Ghislain\, 7330\, Belgique
CATEGORIES:Ateliers,Jeune public,Musique,Saint-Ghislain
ATTACH;FMTTYPE=image/jpeg:https://septem.stghislain.be/wp-content/uploads/2024/05/ateliers-musicaux-Carlo-Balgiu-Septem-Culture_Saint_Ghislain-2024.jpg
ORGANIZER;CN="Septem":MAILTO:info@septem.stghislain.be
END:VEVENT
BEGIN:VEVENT
DTSTART;TZID=Europe/Brussels:20241221T200000
DTEND;TZID=Europe/Brussels:20241221T220000
DTSTAMP:20260423T175933
CREATED:20240628T074620Z
LAST-MODIFIED:20240821T073503Z
UID:10000756-1734811200-1734818400@septem.stghislain.be
SUMMARY:Concert | BJ Scott
DESCRIPTION:Venez vivre une soirée inoubliable avec BJ Scott aux Jardins du Cloître de Saint-Ghislain le 21 décembre à 20h ! \nBeverly Jo Scott\, plus connue sous le nom de BJ Scott\, une autrice-compositrice-interprète belge d’origine américaine résidant à Wezembeek-Oppem\, aux portes de Bruxelles. Reconnue pour sa voix puissante et son charisme sur scène\, BJ Scott a conquis le cœur de nombreux fans à travers ses performances captivantes. \nNe manquez pas cette occasion unique de voir cette artiste polyvalente\, qui a également marqué les esprits en tant que coach dans l’émission The Voice Belgique\, se produire en live aux Jardins du Cloître. Réservez dès maintenant vos places.
URL:https://septem.stghislain.be/agenda/bj-scott/
LOCATION:Les Jardins du Cloître\, 37 Grand Place\, Saint-Ghislain\, 7330\, Belgique
CATEGORIES:Concerts,Musique,Saint-Ghislain
ATTACH;FMTTYPE=image/jpeg:https://septem.stghislain.be/wp-content/uploads/2024/06/concert-BJ-scott-Septem-Culture_Saint_Ghislain-2024.jpg
ORGANIZER;CN="Septem":MAILTO:info@septem.stghislain.be
END:VEVENT
BEGIN:VEVENT
DTSTART;TZID=Europe/Brussels:20241222T160000
DTEND;TZID=Europe/Brussels:20241222T173000
DTSTAMP:20260423T175933
CREATED:20240913T140444Z
LAST-MODIFIED:20240913T140448Z
UID:10000875-1734883200-1734888600@septem.stghislain.be
SUMMARY:Concert | Blue Swing retombe en enfance
DESCRIPTION:Blue Swing\, c’est avant tout\, une musique que le public reconnaitra dès les premières notes … \nDès le début du concert\, les spectateurs seront sans nul doute séduits par les costumes colorés et l’ambiance décontractée que dégage Blue Swing … car l’humour et les jeux de scène font partie intégrante du spectacle ! \nC’est durant l’été 1988 que Philippe Wattecamps organise un stage d’orchestre pour musiciens débutants au sein de l’académie de musique de Colfontaine (où il est alors professeur de saxophone et clarinette). Le premier concert en octobre 1988 rencontre un vif succès et rapidement\, l’orchestre est demandé pour d’autres concerts dans la région. \n L’ « orchestre junior de l’académie de Colfontaine » était né. En 1991\, un comité de soutien se crée et l’orchestre prend son nom actuel : BLUE SWING. En juillet 2000\, Blue Swing part 12 jours en tournée à la Côte d’Azur et en avril 2003\, il anime quelques soirées en Espagne dans un hôtel de Playa de Aro (Costa Brava). \nAujourd’hui\, Blue Swing compte 40 musiciens et\, fort de ses 36 ans d’expérience\, continue à divertir un large public. Tous les 2 ans un nouveau thème est traîté. Le dimanche 22 décembre 2024\, Blue Swing vous invitera à retomber en enfance avec un spectacle comprenant les plus belles musiques de Disney (Aladdin\, Peter Pan\, Les Aristochats\, La petite sirène) mais également d’autres musiques telles que Les Simpsons\, Goldorak\, Au pays de Candy\, … \nLili Renard\, jeune chanteuse talentueuse vous interprétera certaines chansons célèbres de Disney et Rémi Ceci\, vous surprendra avec d’autres chansons plus fantaisistes. Le meilleur compliment qu’on nous fait après un concert ? « On voit que vous vous amusez beaucoup sur scène et cette chouette ambiance déborde dans le public ! «  \nAu plaisir de vous accueillir en famille le dimanche 22 décembre aux Jardins du Cloître !
URL:https://septem.stghislain.be/agenda/blue-swing/
LOCATION:Les Jardins du Cloître\, 37 Grand Place\, Saint-Ghislain\, 7330\, Belgique
CATEGORIES:Concerts,Musique,Saint-Ghislain
ATTACH;FMTTYPE=image/jpeg:https://septem.stghislain.be/wp-content/uploads/2024/09/concert-blue-swing-Septem-Culture_Saint_Ghislain-2024.jpg
ORGANIZER;CN="Septem":MAILTO:info@septem.stghislain.be
END:VEVENT
END:VCALENDAR