BEGIN:VCALENDAR
VERSION:2.0
PRODID:-//Septem - ECPv6.0.13.1//NONSGML v1.0//EN
CALSCALE:GREGORIAN
METHOD:PUBLISH
X-ORIGINAL-URL:https://septem.stghislain.be
X-WR-CALDESC:évènements pour Septem
REFRESH-INTERVAL;VALUE=DURATION:PT1H
X-Robots-Tag:noindex
X-PUBLISHED-TTL:PT1H
BEGIN:VTIMEZONE
TZID:Europe/Brussels
BEGIN:DAYLIGHT
TZOFFSETFROM:+0100
TZOFFSETTO:+0200
TZNAME:CEST
DTSTART:20240331T010000
END:DAYLIGHT
BEGIN:STANDARD
TZOFFSETFROM:+0200
TZOFFSETTO:+0100
TZNAME:CET
DTSTART:20241027T010000
END:STANDARD
END:VTIMEZONE
BEGIN:VEVENT
DTSTART;TZID=Europe/Brussels:20240601T200000
DTEND;TZID=Europe/Brussels:20240601T220000
DTSTAMP:20260424T020544
CREATED:20240110T091100Z
LAST-MODIFIED:20240110T091104Z
UID:10000477-1717272000-1717279200@septem.stghislain.be
SUMMARY:Concert | Celentano cover | Celentanissimo
DESCRIPTION:🎶🇮🇹 Concert « Celentano cover » : L’éclat belge des reprises d’Adriano Celentano ! 🎸🎤 \nNous sommes ravis de vous annoncer le concert tant attendu de « Celentano cover »\, qui aura lieu le 1er juin à 20h aux Jardins du Cloître de Saint-Ghislain. Préparez-vous à vivre une fusion musicale envoûtante et à ressentir l’énergie vibrante de cet hommage captivant à l’icône légendaire italienne\, Adriano Celentano. \nComposé de musiciens talentueux de la scène belge et italienne\, ce groupe de 8 artistes interprètera à la perfection le répertoire inoubliable d’Adriano Celentano. Vous serez transportés par les mélodies intemporelles de cet artiste emblématique\, revisitées avec passion et virtuosité.Venez chanter et danser au rythme des plus grands succès d’Adriano Celentano tels que « Azzurro »\, « Susanna »\, « Prisencolinensinainciusol » et bien d’autres encore. C’est une soirée qui promet d’être magique\, pleine de nostalgie et de souvenirs. \nNe manquez pas cette occasion unique de célébrer la musique et l’héritage d’Adriano Celentano avec « Celentano cover ». Réservez dès maintenant vos places pour une soirée inoubliable ! \n#ConcertCelentanoCover #MusiqueItalienne #Reprises #ÉnergieVibrante #Hommage #AdrianoCelentano
URL:https://septem.stghislain.be/agenda/celentano-cover/
LOCATION:Les Jardins du Cloître\, 37 Grand Place\, Saint-Ghislain\, 7330\, Belgique
CATEGORIES:Concerts,Musique,Saint-Ghislain,Spectacle
ATTACH;FMTTYPE=image/jpeg:https://septem.stghislain.be/wp-content/uploads/2024/01/celentano-cover-Septem-Culture_Saint_Ghislain-2024.jpg
ORGANIZER;CN="Septem":MAILTO:info@septem.stghislain.be
END:VEVENT
BEGIN:VEVENT
DTSTART;TZID=Europe/Brussels:20240621T193000
DTEND;TZID=Europe/Brussels:20240621T220000
DTSTAMP:20260424T020544
CREATED:20240607T075730Z
LAST-MODIFIED:20240610T055830Z
UID:10000670-1718998200-1719007200@septem.stghislain.be
SUMMARY:Musique en Soltice avec Jacky Goethals & Fred Bourlard
DESCRIPTION:🎶 Événement Spécial ! 🎶 \nRejoignez-nous pour une soirée magique avec « Musique en Solstice » au Couvent d’Hautrage avec Jacky Goethals & Fred Bourlard le 21 juin à 19h30. 🌅 \n🎵Au Programme : \nJacky Goethals en duoFred Bourlard à l’accordéon \n✨ Détails de l’Événement :📅 Date : 21 juin 🕢 Heure : 19h30 🏛️ Lieu : Couvent d’Hautrage \nL’entrée est Gratuite ! Venez nombreux partager ce moment musical inoubliable. 🎶 \n#MusiqueEnSolstice #CouventHautrage #JackyGoethals #FredBourlard #LiveMusic #21juin
URL:https://septem.stghislain.be/agenda/musique-solstice/
LOCATION:Couvent d’Hautrage\, Grand'Place\, Hautrage\, 7334
CATEGORIES:Hautrage,Musique,Saint-Ghislain
ATTACH;FMTTYPE=image/jpeg:https://septem.stghislain.be/wp-content/uploads/2024/06/soltice-en-musique-Septem-Culture_Saint_Ghislain-2024.jpg
ORGANIZER;CN="Septem":MAILTO:info@septem.stghislain.be
END:VEVENT
BEGIN:VEVENT
DTSTART;TZID=Europe/Brussels:20240628T200000
DTEND;TZID=Europe/Brussels:20240628T213000
DTSTAMP:20260424T020544
CREATED:20240328T084338Z
LAST-MODIFIED:20240412T084651Z
UID:10000509-1719604800-1719610200@septem.stghislain.be
SUMMARY:Concert RAP | KAVA - Première partie : So\, Slim et MEH
DESCRIPTION:Kava\, le jeune rappeur de Saint-Ghislain\, se produira aux Jardins du Cloître à Saint-Ghislain le vendredi 28 juin à 20h. Les billets pour cette soirée musicale exceptionnelle sont proposés au prix de 15-18€. \nKava\, un artiste polyvalent\, se distingue par sa capacité à s’adapter aisément à divers styles musicaux tels que le rap lyrical\, cloud et mainstream. Réputé pour son exigence dans l’écriture de ses textes et la profondeur de leur signification\, le rappeur accorde une attention particulière à la finalité de ses projets. Son objectif est de garantir un flow contemporain\, varié et accessible à un large public. \nPremière partie: So\, Slim et MEH \nGrâce à sa maîtrise des différents styles de rap et des tendances musicales actuelles\, Kava a su\, au fil du temps\, forger son identité musicale et artistique unique.
URL:https://septem.stghislain.be/agenda/kava/
LOCATION:Les Jardins du Cloître\, 37 Grand Place\, Saint-Ghislain\, 7330\, Belgique
CATEGORIES:Concerts,Musique,Poésie,Saint-Ghislain
ATTACH;FMTTYPE=image/jpeg:https://septem.stghislain.be/wp-content/uploads/2024/03/kava-Septem-Culture_Saint_Ghislain-2024-1.jpg
ORGANIZER;CN="Septem":MAILTO:info@septem.stghislain.be
END:VEVENT
BEGIN:VEVENT
DTSTART;TZID=Europe/Brussels:20240630T160000
DTEND;TZID=Europe/Brussels:20240630T173000
DTSTAMP:20260424T020544
CREATED:20240408T083633Z
LAST-MODIFIED:20240408T083633Z
UID:10000510-1719763200-1719768600@septem.stghislain.be
SUMMARY:Concert | JB Band
DESCRIPTION:Ne manquez pas le concert du JB Band\, le 30 juin à 16h00 aux Jardins du Cloître de Saint-Ghislain ! \nAvec ses 30 musiciens et ses 3 chanteurs\, le JB Band propose un répertoire jazz et variété qui va de Louis Armstrong à Katie Melua en passant par Johnny Hallyday ou Pink Martini. Tous sont musiciens amateurs mais sont habités par le même amour de la bonne musique et des belles chansons.\nLe JB Band pratique des genres aussi divers que le jazz\, la chanson française ou les standards des crooners américains.\nL’humour fait aussi partie intégrante du spectacle.\nLe JB Band existe depuis plus de 50 ans\, dirigé par son fondateur\, Jean Leclercq qui signe tous les arrangements.\nLe JB Band a toujours su se renouveler et coller aux tendances du moment !\nLe Band se produit aussi dans un répertoire de chant de Noël composé de grands standards et de chansons traditionnelles et va se lancer cette année dans un programme de concerts de Nouvel An.\nSi vous voulez passer un moment de plaisir et de détente en revisitant les plus belles musiques et les plus belles chansons d’hier et d’aujourd’hui\, c’est le JB Band qu’il vous faut !!! \nPour tout savoir sur la vie de l’orchestre\, son actualité et ses concerts\, une seule adresse : http://www.jbband.com/
URL:https://septem.stghislain.be/agenda/jb-band/
LOCATION:Les Jardins du Cloître\, 37 Grand Place\, Saint-Ghislain\, 7330\, Belgique
CATEGORIES:Concerts,Musique,Saint-Ghislain
ATTACH;FMTTYPE=image/jpeg:https://septem.stghislain.be/wp-content/uploads/2024/03/JB-Band-Septem-Culture_Saint_Ghislain-2024.jpg
ORGANIZER;CN="Septem":MAILTO:info@septem.stghislain.be
END:VEVENT
END:VCALENDAR