BEGIN:VCALENDAR
VERSION:2.0
PRODID:-//Septem - ECPv6.0.13.1//NONSGML v1.0//EN
CALSCALE:GREGORIAN
METHOD:PUBLISH
X-WR-CALNAME:Septem
X-ORIGINAL-URL:https://septem.stghislain.be
X-WR-CALDESC:évènements pour Septem
REFRESH-INTERVAL;VALUE=DURATION:PT1H
X-Robots-Tag:noindex
X-PUBLISHED-TTL:PT1H
BEGIN:VTIMEZONE
TZID:Europe/Brussels
BEGIN:DAYLIGHT
TZOFFSETFROM:+0100
TZOFFSETTO:+0200
TZNAME:CEST
DTSTART:20240331T010000
END:DAYLIGHT
BEGIN:STANDARD
TZOFFSETFROM:+0200
TZOFFSETTO:+0100
TZNAME:CET
DTSTART:20241027T010000
END:STANDARD
END:VTIMEZONE
BEGIN:VEVENT
DTSTART;TZID=Europe/Brussels:20240303T170000
DTEND;TZID=Europe/Brussels:20240303T183000
DTSTAMP:20260424T055551
CREATED:20231218T085018Z
LAST-MODIFIED:20231218T085022Z
UID:10000460-1709485200-1709490600@septem.stghislain.be
SUMMARY:Concert | Janosik | Musique de l'est
DESCRIPTION:🎶✨ Découvrez l’univers envoûtant de Janosik lors de leur concert le 3 mars à 17h aux Jardins du Cloître de Saint-Ghislain ! ✨🎶 \nCe groupe originaire de France\, formé en 2013\, tire son nom d’un personnage légendaire des Carpates : Janosik\, le Prince des Voleurs. Tout comme son homologue anglais Robin des Bois\, Janosik a suscité le respect et l’admiration. Aujourd’hui\, le groupe Janosik incarne la musique de l’Est. \nVenez découvrir ou redécouvrir les airs traditionnels de la région des Carpates (Pologne du Sud\, Slovaquie\, Hongrie\, Tchéquie\, etc.) avec Janosik. Leurs musiciens vous transporteront avec passion dans de magnifiques mélodies tziganes. \nLaissez-vous emporter dans un voyage musical unique et laissez la magie slave vous envelopper. Un moment inoubliable vous attend ! \nTarifs : de 10 à 12€ \nRéservez dès maintenant vos places pour ce concert exceptionnel ! \n#ConcertJanosik #MusiqueDeLEst #VoyageMusical #JardinsDuCloître #SaintGhislain
URL:https://septem.stghislain.be/agenda/janosik/
LOCATION:Les Jardins du Cloître\, 37 Grand Place\, Saint-Ghislain\, 7330\, Belgique
CATEGORIES:Concerts,Musique,Performances,Saint-Ghislain
ATTACH;FMTTYPE=image/jpeg:https://septem.stghislain.be/wp-content/uploads/2023/12/janosik-Concert-Septem-Culture_Saint_Ghislain-2024.jpg
ORGANIZER;CN="Septem":MAILTO:info@septem.stghislain.be
END:VEVENT
BEGIN:VEVENT
DTSTART;TZID=Europe/Brussels:20240308T200000
DTEND;TZID=Europe/Brussels:20240308T213000
DTSTAMP:20260424T055551
CREATED:20231107T085847Z
LAST-MODIFIED:20231204T093500Z
UID:10000394-1709928000-1709933400@septem.stghislain.be
SUMMARY:Concert | Ewazen avec Dominique Bodart\, Flavien Casaccio et Isabelle Lachapelle.
DESCRIPTION:🎶 Ne manquez pas notre concert exceptionnel le 16 mars à 20h à l’Eglise Saint-Pierre de Villerot ! 🎺🎻🎹 \nNous sommes ravis de vous convier à cet événement musical hors du commun\, mettant en vedette Dominique Bodart à la trompette\, Flavien Casaccio au piano et Isabelle Lachapelle au violon. \nPréparez-vous à être transportés dans un monde de sonorités uniques alors que ce trio de musiciens talentueux vous présentera un répertoire varié comprenant des œuvres originales captivantes. \nNous avons le plaisir de vous annoncer que l’une des pièces phares de la soirée sera le trio pour Violon\, piano et trompette d’Eric Ewazen. Cette composition promet de vous enchanter par sa créativité et son expressivité. \nJoignez-vous à nous pour une expérience musicale inoubliable. Réservez dès maintenant vos places pour cet événement qui s’annonce magique. \n#ConcertEwazen #TrioMusical #MusiqueClassique #EgliseSaintPierre #Villerot
URL:https://septem.stghislain.be/agenda/concert-ewazen/
LOCATION:Église Saint-Pierre de Villerot\, Place de Villerot\, Villerot\, 7334\, Belgique
CATEGORIES:Concerts,Musique,Saint-Ghislain
ATTACH;FMTTYPE=image/jpeg:https://septem.stghislain.be/wp-content/uploads/2023/11/concert-eric-ewazen-Septem-Culture_Saint_Ghislain-2024.jpg
ORGANIZER;CN="Septem":MAILTO:info@septem.stghislain.be
END:VEVENT
BEGIN:VEVENT
DTSTART;TZID=Europe/Brussels:20240308T200000
DTEND;TZID=Europe/Brussels:20240308T220000
DTSTAMP:20260424T055551
CREATED:20240111T134033Z
LAST-MODIFIED:20240111T134037Z
UID:10000478-1709928000-1709935200@septem.stghislain.be
SUMMARY:Concert | Soror + Strass (1ère partie)
DESCRIPTION:📣 Ne manquez pas le Concert Soror + Strass (1ère partie) le 8 mars 2024 à 20h aux Canal 10 d’Hautrage ! 🎶 \nSOROR\, groupe bruxellois formé par Sophie Chiaramonte et Alice Ably\, mélange habilement des basses envoûtantes avec une voix inspirée de Beth Gibbons. Accompagnés par la batterie tranchante de Théo Lanau et les lignes de guitare subtiles de Thibaut Lambrechts\, SOROR livre des chansons intimes et profondes. Leur premier EP\, enregistré et mixé par Koen Gisen\, a établi leur son organique et mélancolique. Après avoir tourné dans toute la Belgique et en France\, le groupe est de retour avec un premier album sorti le 22 septembre 2023. \nEn plus de la sortie de leur titre « Bohemian Paradise » en juin dernier\, SOROR propose une ambiance psychédélique\, hypnotique et langoureuse sur leur album « New Born »\, à découvrir absolument ! \nEn première partie\, ne manquez pas le groupe Strass\, originaire de la région de Mons. Avec une sonorité influencée par la musique pop rock/new wave des années 80\, ce quatuor composé d’Enrico à la batterie\, Sébastien à la basse\, Rapha aux guitares et Sab au chant\, vous fera vibrer avec leurs compositions originales et variées. \n\nPrix des billets :Préventes : 15€Sur place : 18€ \n\nRéservez dès maintenant pour une soirée musicale inoubliable ! 🎸🎤
URL:https://septem.stghislain.be/agenda/soror-strass/
LOCATION:Canal 10\, Quai Beuten 10\, Hautrage\, 7334
CATEGORIES:Concerts,Musique,Saint-Ghislain
ATTACH;FMTTYPE=image/jpeg:https://septem.stghislain.be/wp-content/uploads/2024/01/concert-soror-strass-Septem-Culture_Saint_Ghislain-2024.jpg
ORGANIZER;CN="Septem":MAILTO:info@septem.stghislain.be
END:VEVENT
BEGIN:VEVENT
DTSTART;TZID=Europe/Brussels:20240316T103000
DTEND;TZID=Europe/Brussels:20240316T123000
DTSTAMP:20260424T055551
CREATED:20230926T064641Z
LAST-MODIFIED:20240313T111525Z
UID:10000330-1710585000-1710592200@septem.stghislain.be
SUMMARY:Musique | Ensemble de la petite chapelle | Samedi Musica
DESCRIPTION:Découvrez la magie du quintette à cordes avec le violon\, l’alto\, le violoncelle et la contrebasse.Plongez dans une matinée exceptionnelle \,dans un programme varié et plaisant\, alliant la magie de la musique classique à une expérience didactique enrichissante .Des présentations captivantes de chaque instrument vous dévoileront leurs mystères et leur beauté . \nUne aventure sonore adaptée à tout âge
URL:https://septem.stghislain.be/agenda/dynamic-brass-2/
LOCATION:Couvent d’Hautrage\, Grand'Place\, Hautrage\, 7334
CATEGORIES:Arts Sonores,Ateliers,Hautrage,Musique,Rencontres,Saint-Ghislain
ATTACH;FMTTYPE=image/jpeg:https://septem.stghislain.be/wp-content/uploads/2023/09/samedi-musica-Saint-Ghislain-Autrement-Septem-Culture_Saint_Ghislain-2024-1.jpg
ORGANIZER;CN="Septem":MAILTO:info@septem.stghislain.be
END:VEVENT
BEGIN:VEVENT
DTSTART;TZID=Europe/Brussels:20240317T170000
DTEND;TZID=Europe/Brussels:20240317T190000
DTSTAMP:20260424T055551
CREATED:20230928T104613Z
LAST-MODIFIED:20240205T123656Z
UID:10000351-1710694800-1710702000@septem.stghislain.be
SUMMARY:Concert | Yves Duteil | COMPLET
DESCRIPTION:Toujours maire de Précy-sur-Marne\, petite commune de la région parisienne où Barbara a fini ses jours\, Yves Duteil est un artiste hors mode. Avec 13 albums originaux et 50 ans de carrière\, en musique\, il est toujours resté fidèle à un esprit artisan hérité de Georges Brassens.Le voici de passage chez nous afin de vous faire vivre une soirée inoubliable.
URL:https://septem.stghislain.be/agenda/yves-duteil/
LOCATION:Les Jardins du Cloître\, 37 Grand Place\, Saint-Ghislain\, 7330\, Belgique
CATEGORIES:Concerts,Musique,Saint-Ghislain
ATTACH;FMTTYPE=image/jpeg:https://septem.stghislain.be/wp-content/uploads/2023/09/yves_duteil-Septem-Culture_Saint_Ghislain-2023.jpg
ORGANIZER;CN="Septem":MAILTO:info@septem.stghislain.be
END:VEVENT
BEGIN:VEVENT
DTSTART;TZID=Europe/Brussels:20240319T200000
DTEND;TZID=Europe/Brussels:20240319T213000
DTSTAMP:20260424T055551
CREATED:20231117T140732Z
LAST-MODIFIED:20240311T083121Z
UID:10000423-1710878400-1710883800@septem.stghislain.be
SUMMARY:Concert | Orchestre d'ARTS2 | Concert spécial Mendelssohn
DESCRIPTION:🎶 Ne manquez pas le concert de l’ORCHESTRE D’ARTS2 ! 🎶 \n📅 Date : 19 mars⏰ Heure : 20h📍 Lieu : Jardins du Cloître de Saint-Gislain \nPrix des billets : de 8 à 10€ \nL’orchestre des étudiants du Conservatoire royal de Mons-ARTS2\, dirigé par le talentueux chef Nicolas Krüger\, revient pour un concert exceptionnel mettant à l’honneur Mendelssohn. Laissez-vous emporter par le souffle romantique de la Symphonie n°3 « Écossaise » et l’ouverture Les Hébrides. \nAu programme de cette soirée\, vous aurez également le plaisir de découvrir le Konzertstück pour hautbois et orchestre de Julius Rietz\, interprété par le brillant hautboïste Bram Nolf\, professeur au Conservatoire de Mons et soliste au Belgian National Orchestra. \nUn programme riche et captivant vous attend : \nFelix Mendelssohn\, Les Hébrides\, ouverture\, op. 26 \nDirection : Julien Jacquemart\, étudiant en direction d’orchestre à ARTS2-Conservatoire royal de Mons \nJulius Rietz\, Konzertstück pour hautbois et orchestre\, op. 33 \n\nAndante sostenuto\nIntermezzo: Allegro con moto\nFinale: Allegretto animato\n\nHautbois solo : Bram Nolf\, professeur à ARTS2-Conservatoire royal de Mons / Soliste au Belgian National Orchestra \nDirection : Nicolas Kruger\, professeur à ARTS2-Conservatoire royal de Mons \nFelix Mendelssohn\, Symphonie n°3 en la mineur « Écossaise »\, op. 56 \n\nAndante con moto\nVivace non troppo\nAdagio\nAllegro vivacissimo\n\nDirection : Nicolas Kruger\, professeur à ARTS2-Conservatoire royal de Mons \nConcermeister : Gleb Gladkov / Guillaume Duby \nNe manquez pas cette occasion de vivre une soirée musicale inoubliable en compagnie de l’ORCHESTRE D’ARTS2. Réservez vos billets dès maintenant et laissez-vous transporter par les mélodies envoûtantes de Mendelssohn ! \n#Concert #ORCHESTREDARTS2 #MusiqueClassique #JardinsduCloître #Mendelssohn #SymphonieÉcossaise
URL:https://septem.stghislain.be/agenda/concert-mendelssohn/
LOCATION:Les Jardins du Cloître\, 37 Grand Place\, Saint-Ghislain\, 7330\, Belgique
CATEGORIES:Concerts,Musique,Saint-Ghislain
ATTACH;FMTTYPE=image/jpeg:https://septem.stghislain.be/wp-content/uploads/2023/11/Concert-orchestre-ARTS²-Septem-Culture_Saint_Ghislain-2024.jpg
ORGANIZER;CN="Septem":MAILTO:info@septem.stghislain.be
END:VEVENT
BEGIN:VEVENT
DTSTART;TZID=Europe/Brussels:20240322T200000
DTEND;TZID=Europe/Brussels:20240322T220000
DTSTAMP:20260424T055551
CREATED:20240116T155724Z
LAST-MODIFIED:20240117T142536Z
UID:10000481-1711137600-1711144800@septem.stghislain.be
SUMMARY:Concert | Rock | Je t'aime + PARTIKUL
DESCRIPTION:📢 CONCERT – JE T’AIME 🎶 \nNe manquez pas le concert explosif de « Je t’aime » qui aura lieu le 22 mars à 20h au Canal 10 d’Hautrage ! 🔥 \nDécouvrez le trio incroyable composé de dBoy\, Tall Bastard et Crazy Z.\, des « partners in crime »\, qui vous transporteront dans un mélange électrisant d’electro-clash\, de new-wave et de post-punk. \nDepuis leur formation en 2018\, « Je t’aime » a su se démarquer avec un premier album éponyme\, taillé dans les pierres des caves de la vieille Europe. Signés sur les prestigieux labels Icy Cold Records et Manic Depression Records\, leur musique rappelle la grande époque de la Factory mancunienne. \nEn seulement une année\, le groupe a participé à des événements majeurs tels que le W-Fest et le Owls & Bats\, et s’est produit dans toute l’Europe. Leur album live captivant\, « Live At Gibus »\, enregistré à Paris\, a été le témoin de leur démarrage spectaculaire. \nEn 2021\, la discrétion des trois hommes a suscité des interrogations chez leurs labels. Étaient-ils de véritables musiciens capables d’écrire de nouvelles chansons ou était-ce juste un coup de chance éphémère ? Mais en réalité\, le groupe travaillait sur un projet d’une plus grande envergure. Ils se sont isolés sur la côte bretonne pour enregistrer « PASSIVE/AGRESSIVE »\, un ambitieux double album. \nEn 2022\, la première partie\, « PASSIVE »\, a été dévoilée le 14 février\, jour de la Saint-Valentin\, et la seconde partie\, « AGRESSIVE »\, le 1er novembre\, lors de la fête des morts. \nDepuis\, le trio est de nouveau sur les routes pour défendre ce double album\, avec des apparitions remarquées lors de festivals européens tels que le Castle Party Festival en Pologne\, le Wave-Gotik-Treffen en Allemagne\, le Festival Extramuralhas au Portugal\, et le Infest Festival en Angleterre. \nNe manquez pas cette occasion unique de vivre une expérience musicale intense et mémorable avec « Je t’aime ». Réservez vos places dès maintenant et préparez-vous à être transportés dans un univers sonore captivant ! \nPrix: Prévente 15€ / Plein tarif: 18€ \n#Concert #Musique #JeTaime #ElectroClash #NewWave #PostPunk #RaindanceFormation #PassionCinéma
URL:https://septem.stghislain.be/agenda/concert-je-t-aime/
LOCATION:Canal 10\, Quai Beuten 10\, Hautrage\, 7334
CATEGORIES:Concerts,Musique,Saint-Ghislain
ATTACH;FMTTYPE=image/jpeg:https://septem.stghislain.be/wp-content/uploads/2024/01/concert-je-t-aime-Septem-Culture_Saint_Ghislain-2024.jpg
ORGANIZER;CN="Septem":MAILTO:info@septem.stghislain.be
END:VEVENT
BEGIN:VEVENT
DTSTART;TZID=Europe/Brussels:20240324T160000
DTEND;TZID=Europe/Brussels:20240324T190000
DTSTAMP:20260424T055551
CREATED:20240105T074907Z
LAST-MODIFIED:20240305T084645Z
UID:10000467-1711296000-1711306800@septem.stghislain.be
SUMMARY:Divertissement | Thé dansant
DESCRIPTION:🎺 Ne manquez pas notre « Thé dansant » le 24 mars à 16h à la salle des fêtes de Villerot ! 🎹 \nPlongez dans l’univers musical de Gianni Madison\, un artiste aux multiples facettes : chanteur\, claviériste\, trompettiste et accordéoniste. Laissez-vous également transporter par B.Claude\, qui revisite les chansons mémorables de Claude François. Un mélange parfait pour une soirée de danse et de mélodies captivantes. \nCette soirée unique promet de vous offrir des moments inoubliables\, que vous soyez un admirateur de ces artistes ou que vous les découvriez. Joignez-vous à nous pour une expérience musicale exceptionnelle. \nLes billets sont disponibles au prix de 10 à 12 €. \n#ThéDansant #JoEtClaudy #AmbianceFestive #MusiqueEntraînante #JardinsDuCloître #SaintGhislain
URL:https://septem.stghislain.be/agenda/divertissement-the-dansant-2/
LOCATION:Salle polyvalente de Villerot\, rue du Presbytère\, Villerot\, 7334
CATEGORIES:Danse,Musique,Rencontres,Saint-Ghislain
ATTACH;FMTTYPE=image/jpeg:https://septem.stghislain.be/wp-content/uploads/2024/01/the-dansant-Saint-Ghislain-Autrement-Septem-Culture_Saint_Ghislain-2024.jpg
ORGANIZER;CN="Septem":MAILTO:info@septem.stghislain.be
END:VEVENT
BEGIN:VEVENT
DTSTART;TZID=Europe/Brussels:20240329T200000
DTEND;TZID=Europe/Brussels:20240329T213000
DTSTAMP:20260424T055551
CREATED:20231218T090146Z
LAST-MODIFIED:20231218T090149Z
UID:10000461-1711742400-1711747800@septem.stghislain.be
SUMMARY:Concert | Hommage à Jacques Brel | Olivier Laurent
DESCRIPTION:🎵✨ Ne manquez pas notre événement spécial « Hommage à Jacques Brel » le 29 mars à 20h aux Jardins du Cloître de Saint-Ghislain ! ✨🎵 \nReplongez dans l’univers intemporel de Jacques Brel grâce à Olivier Laurent\, qui rend hommage à ce grand auteur-compositeur-interprète décédé en 1978 à l’âge de 49 ans. \nÀ l’occasion du quarante-cinquième anniversaire de la disparition de Jacques Brel\, Septem vous invite à assister à un spectacle-hommage unique dédié à ce chanteur belge légendaire. \nVivez en direct le répertoire inoubliable de Jacques Brel\, grâce à la performance époustouflante d’Olivier Laurent. Il transmet avec passion la voix\, la rage\, l’ironie et la tendresse propre à l’artiste. C’est un spectacle touchant et émouvant qui redonne vie au grand Jacques Brel. \nDurée du spectacle : 1h30 \nNe manquez pas cette soirée mémorable et réservez dès maintenant vos places pour ce moment d’émotion et de musique exceptionnel ! \nTarifs : de 22 à 25 € \n#HommageAJacquesBrel #OlivierLaurent #MusiqueBelge #JardinsDuCloître #SaintGhislain
URL:https://septem.stghislain.be/agenda/hommage-jacques-brel/
LOCATION:Les Jardins du Cloître\, 37 Grand Place\, Saint-Ghislain\, 7330\, Belgique
CATEGORIES:Chant,Concerts,Musique,Performances,Saint-Ghislain
ATTACH;FMTTYPE=image/jpeg:https://septem.stghislain.be/wp-content/uploads/2023/12/hommage-jacques-brel-olivier-laurent-Septem-Culture_Saint_Ghislain-2024.jpg
ORGANIZER;CN="Septem":MAILTO:info@septem.stghislain.be
END:VEVENT
END:VCALENDAR