BEGIN:VCALENDAR
VERSION:2.0
PRODID:-//Septem - ECPv6.0.13.1//NONSGML v1.0//EN
CALSCALE:GREGORIAN
METHOD:PUBLISH
X-ORIGINAL-URL:https://septem.stghislain.be
X-WR-CALDESC:évènements pour Septem
REFRESH-INTERVAL;VALUE=DURATION:PT1H
X-Robots-Tag:noindex
X-PUBLISHED-TTL:PT1H
BEGIN:VTIMEZONE
TZID:Europe/Brussels
BEGIN:DAYLIGHT
TZOFFSETFROM:+0100
TZOFFSETTO:+0200
TZNAME:CEST
DTSTART:20240331T010000
END:DAYLIGHT
BEGIN:STANDARD
TZOFFSETFROM:+0200
TZOFFSETTO:+0100
TZNAME:CET
DTSTART:20241027T010000
END:STANDARD
END:VTIMEZONE
BEGIN:VEVENT
DTSTART;TZID=Europe/Brussels:20240202T200000
DTEND;TZID=Europe/Brussels:20240202T213000
DTSTAMP:20260424T070737
CREATED:20231129T125149Z
LAST-MODIFIED:20231205T100642Z
UID:10000431-1706904000-1706909400@septem.stghislain.be
SUMMARY:Concert Rap | Septematik | L'hexaler
DESCRIPTION:🎤 Ne manquez pas le Concert Rap | Septematik | L’hexaler le 2 février à 20h ! 🎶\nUne soirée époustouflante vous attend\, avec une programmation de talents locaux qui ne manqueront pas de vous faire vibrer. \nSpetematik\, 4 ème édition un peu « spéciale ». \nEn effet\, elle met à l’honneur\, « L’HEXALER »\, pionnier du rap Belge pour ses 25 ans de carrière.\nLe Mc originaire de Seraing nous fera l’honneur de sa présence le 2 février aux côtés de nos rappeurs locaux : MSA\, CI2C\, TRIIBOY\, CKZ et SEMPAÏ.\nAu programme\, un cocktail alliant le fond\, la forme\, l’expérience et la fraîcheur !\n \n\nLa programmation \n \n\n– 18h : ouverture des portes\n– 18h30 – 19h30 : OPEN MIC \n– 19h40 – 20h00 : MSA\n– 20h05 – 20h25 : Ci2C\n– entracte\n– 20h45 – 21h10 TRIIBOY\n– 21h15-21h40 : CKZ\n– 21h45 – 22h10: SEMPAI\n– entracte\n– 22h30- finish : L’HEXALER\n\n\nPréparez-vous à vivre des performances extraordinaires et à plonger dans l’univers du rap. Ces artistes locaux promettent une expérience musicale inoubliable !Le prix des billets est de 10 à 12 €. Réservez dès maintenant pour ne pas manquer cette soirée exceptionnelle !#ConcertRap #Septematik #Lhexaler #Musique #SoiréeInoubliable
URL:https://septem.stghislain.be/agenda/septematik-hexaler/
LOCATION:Les Jardins du Cloître\, 37 Grand Place\, Saint-Ghislain\, 7330\, Belgique
CATEGORIES:Concerts,Musique,Saint-Ghislain
ATTACH;FMTTYPE=image/jpeg:https://septem.stghislain.be/wp-content/uploads/2023/11/concert-rap-septematik-hexaler-Septem-Culture_Saint_Ghislain-2024.jpg
ORGANIZER;CN="Septem":MAILTO:info@septem.stghislain.be
END:VEVENT
BEGIN:VEVENT
DTSTART;TZID=Europe/Brussels:20240203T200000
DTEND;TZID=Europe/Brussels:20240203T213000
DTSTAMP:20260424T070737
CREATED:20231108T072731Z
LAST-MODIFIED:20240109T122412Z
UID:10000403-1706990400-1706995800@septem.stghislain.be
SUMMARY:Chanson italienne | Carosello | Il Carosello show
DESCRIPTION:🎶 Ne manquez pas le show « Carosello » qui aura lieu le 3 février 2024 à 20h aux Jardins du Cloître de Saint-Ghislain ! 🇮🇹💫 \nCinq talentueux musiciens d’origine italienne\, réunis sous le nom du groupe « Il Carosello show\, » vous invitent à une expérience musicale extraordinaire en revisitant les plus belles chansons italiennes\, avec une attention particulière portée aux mélodies siciliennes et napolitaines. \n\nAu chant Sergio Erba .\nContrebasse accordéon Giacomo Aronica.\nGuitare Patrick Déltenre. \nPiano Silvano Macaluso. Et a la batterie Stéphane Grillo.\n\nEn fusionnant leurs héritages culturels riches et variés\, ils parviennent à capturer l’essence de la musique italienne tout en y insufflant une nouvelle énergie et une créativité débordante. \nLeur interprétation unique des chansons traditionnelles italiennes évoque à la fois la nostalgie et l’excitation\, créant ainsi une expérience musicale immersive et captivante pour leur public. \nÀ travers leur passion pour la musique\, « Il Carosello Italiano » démontre comment l’art peut transcender les frontières\, unissant les gens du monde entier grâce à la beauté de la mélodie italienne\, tout en laissant leur empreinte artistique personnelle sur ce précieux héritage musical. \nLeur engagement à réinventer ces chansons emblématiques est une véritable célébration de la musique italienne\, un voyage musical envoûtant qui enchante les oreilles et l’âme. \nRéservez dès maintenant vos places pour une soirée inoubliable de musique italienne enchanteresse ! \n#ShowCarosello #JardinsDuCloître #SaintGhislain #MusiqueItalienne #ExpérienceMusicale #Créativité
URL:https://septem.stghislain.be/agenda/carosello/
LOCATION:Les Jardins du Cloître\, 37 Grand Place\, Saint-Ghislain\, 7330\, Belgique
CATEGORIES:Chant,Concerts,Musique,Saint-Ghislain
ATTACH;FMTTYPE=image/jpeg:https://septem.stghislain.be/wp-content/uploads/2023/11/show-carosello-Septem-Culture_Saint_Ghislain-2024.jpg
ORGANIZER;CN="Septem":MAILTO:info@septem.stghislain.be
END:VEVENT
BEGIN:VEVENT
DTSTART;TZID=Europe/Brussels:20240204T160000
DTEND;TZID=Europe/Brussels:20240204T173000
DTSTAMP:20260424T070737
CREATED:20240103T142244Z
LAST-MODIFIED:20240103T142453Z
UID:10000464-1707062400-1707067800@septem.stghislain.be
SUMMARY:Divertissement | Les copains d'abord ! | Gil Depreter & Claudy Mahieu
DESCRIPTION:Les Copains d’abord\, pour toi mon frère !Gil Depreter et Claudy Mahieu invitent Bernard Baumans\, Nathalie Danaux\, Max Charue et …Un spectacle fait de poésies\, de musiques et de chansons sur le thème de l’amour et de l’amitié. Les 3 « B » Brel\, Brassens et Bécaud seront nos guides…
URL:https://septem.stghislain.be/agenda/les-copains-d-abord/
LOCATION:Les Jardins du Cloître\, 37 Grand Place\, Saint-Ghislain\, 7330\, Belgique
CATEGORIES:Chant,Musique,Poésie,Saint-Ghislain,Spectacle
ATTACH;FMTTYPE=image/jpeg:https://septem.stghislain.be/wp-content/uploads/2024/01/les-copains-d-abord-gil-depreter-claudy-mahieu-Septem-Culture_Saint_Ghislain-2024.jpg
ORGANIZER;CN="Septem":MAILTO:info@septem.stghislain.be
END:VEVENT
BEGIN:VEVENT
DTSTART;TZID=Europe/Brussels:20240206T140000
DTEND;TZID=Europe/Brussels:20240206T160000
DTSTAMP:20260424T070737
CREATED:20231106T084821Z
LAST-MODIFIED:20240115T120949Z
UID:10000389-1707228000-1707235200@septem.stghislain.be
SUMMARY:Divertissement | Les après-midi Bonheur | Amour & Carnaval
DESCRIPTION:🎭 Ne manquez pas notre divertissement « Les après-midi  Bonheur\, Amour & Carnaval » le 6 février à 14h aux Jardins du Cloître de Saint-Ghislain ! 🎉 \nEn février\, à l’approche de la Saint-Valentin\, nous allons réveiller votre cœur romantique ou sensuel avec les plus belles chansons d’amour. Laissez-vous emporter par les mélodies envoûtantes et laissez votre passion s’exprimer. \nMais ce n’est pas tout ! Février est également le mois des carnavals\, une période de renouveau et de festivités populaires. Attendez-vous à des rythmes fous et entraînants qui vous feront danser et vibrer au son de la musique. \nCe spectacle rendra également hommage au cinéma avec une évocation spéciale du film culte « L’Homme de Rio »\, qui a marqué le début de la carrière légendaire de Jean-Paul Belmondo. \nRéservez dès maintenant vos places pour vivre une expérience unique mêlant bonheur\, amour et carnaval. Les billets sont disponibles au prix de 15 à 18 €. \nPour le plaisir d’une programmation divertissante dédicacée au public dit « senior »\, populaire\, sans prise de tête\, mais de qualité ! \nDe la bonne variété\, des chansons\, de la grande musique et un clin d’œil à l’actualité ; le tout réuni et mesuré comme un délicieux cocktail. \nVoilà les ingrédients de la recette des « Après-midi Bonheur » concocté avec talent par les artistes\, emmenés musicalement par Claudy Mahieu\, que vous allez découvrir sur la scène des « Jardins du Cloître » \nAlors\, n’hésitez pas à nous rejoindre pour vivre et partager en toute décontraction ces nouveaux rendez-vous de votre agenda culturel ! \nEt pour terminer ce menu alléchant\, des « thés dansants » seront organisés à St-Ghislain et Villerot pour vous permettre de participer pleinement à la fête ! \nEn espérant vous rencontrer à l’une ou l’autre de ces représentations\, je vous souhaite la plus belle des « saisons bonheur » car la culture\, c’est la Santé ! \n\n\nLe dimanche 4 février 2024 à 16h \n\n\nLes Copains d’abord\, pour toi mon frère ! \nGil Depreter et Claudy Mahieu invitent Bernard Baumans\, Nathalie Danaux\, Max Charue et … \nUn spectacle fait de poésies\, de musiques et de chansons sur le thème de l’amour et de l’amitié. Les 3 « B » Brel\, Brassens et Bécaud seront nos guides… \n\n\nLe mardi 6 février à 14h \n\n\nLes Chansons d’Amour \nGil Depreter et Claudy Mahieu invitent Jean-François David et Sabrina Klinkenberg  \nUn spectacle de chansons d’amours pour la St-Valentin toute proche ; une vraie fête pour les amoureux. \n\n\nLe mardi 16 avril – 14h \n\n\nQu’est-ce qu’on attend pour être heureux ? \nGil Depreter\, Claudy Mahieu et leurs invités pour un spectacle débridé plein de joie et de bonne humeur ; Vive le printemps ! \nLes dimanches dansants  \n  \nGil Depreter \n#Divertissement #BonheurAmourCarnaval #ChansonsDAmour #Carnaval #Cinéma #JardinsDuCloître #SaintGhislain
URL:https://septem.stghislain.be/agenda/rdv-bonheur-amour-carnaval/
LOCATION:Les Jardins du Cloître\, 37 Grand Place\, Saint-Ghislain\, 7330\, Belgique
CATEGORIES:Musique,Rencontres,Saint-Ghislain
ATTACH;FMTTYPE=image/jpeg:https://septem.stghislain.be/wp-content/uploads/2023/11/rendez-vous-bonheur-amourcarnaval-Septem-Culture_Saint_Ghislain-2024.jpg
ORGANIZER;CN="Septem":MAILTO:info@septem.stghislain.be
END:VEVENT
BEGIN:VEVENT
DTSTART;TZID=Europe/Brussels:20240210T200000
DTEND;TZID=Europe/Brussels:20240210T220000
DTSTAMP:20260424T070737
CREATED:20231106T090246Z
LAST-MODIFIED:20231106T090249Z
UID:10000390-1707595200-1707602400@septem.stghislain.be
SUMMARY:Divertissement | Cabaret Rive Gauche
DESCRIPTION:🎭 Ne manquez pas notre « Cabaret Rive Gauche » le 10 février à 20h aux Jardins du Cloître de Saint-Ghislain ! 🌟 \nVenez vous immerger dans l’univers envoûtant de la chanson française avec des chansons mythiques et coquines qui célèbrent l’amour. Au son de quatre musiciens live et accompagnés d’une quinzaine de talentueux chanteuses et chanteurs\, cette soirée promet d’être magique. \nQue vous soyez à la recherche de provocation\, de sensibilité\, d’humour ou de curiosité\, ce cabaret vous transportera au cœur de la musique française. Vous découvrirez de nouvelles pépites musicales tout en retrouvant des airs bien connus qui feront battre votre cœur et vous donneront envie de chanter à tue-tête. \nC’est une soirée pour tous les amoureux de la musique\, qu’ils soient novices ou connaisseurs. Laissez-vous surprendre par des performances captivantes et des voix exceptionnelles qui résonneront dans vos cœurs. \nRéservez dès maintenant vos places pour cette soirée inoubliable. Les billets sont disponibles au prix de 18 à 15 €. \n#CabaretRiveGauche #ChansonFrançaise #MusiqueLive #DécouverteMusicale #JardinsDuCloître #SaintGhislain
URL:https://septem.stghislain.be/agenda/cabaret-rive-gauche/
LOCATION:Les Jardins du Cloître\, 37 Grand Place\, Saint-Ghislain\, 7330\, Belgique
CATEGORIES:Concerts,Musique,Saint-Ghislain,Spectacle
ATTACH;FMTTYPE=image/jpeg:https://septem.stghislain.be/wp-content/uploads/2023/11/cabaret-rive-gauche-Septem-Culture_Saint_Ghislain-2024.jpg
ORGANIZER;CN="Septem":MAILTO:info@septem.stghislain.be
END:VEVENT
BEGIN:VEVENT
DTSTART;TZID=Europe/Brussels:20240211T160000
DTEND;TZID=Europe/Brussels:20240211T173000
DTSTAMP:20260424T070737
CREATED:20231106T074629Z
LAST-MODIFIED:20231106T074632Z
UID:10000386-1707667200-1707672600@septem.stghislain.be
SUMMARY:Concert | New Beat’s Band
DESCRIPTION:🎶 Ne manquez pas le concert de New Beat’s Band\, qui célèbre ses 35 ans\, le 11 février à 16h aux Jardins du Cloître de Saint-Ghislain ! 🎶 \nCréé en octobre 1988 par Giovanni Vero\, pédagogue et musicien professionnel\, le New Beat’s Band a parcouru un long chemin\, se produisant dans toutes les régions de Belgique ainsi qu’en République tchèque\, en France et en Allemagne. \nPour cet événement spécial\, l’orchestre vous réserve un programme à la hauteur de ses 35 années d’expérience. Il sera accompagné d’artistes bien connus de la région et du pays\, tels que Morgane (Eurovision 1992)\, Jo Scinta\, Jordan Dupont (Pilgrims) et Amandine. Ensemble\, ils vous offriront un spectacle alléchant et enthousiasmant sur la scène des Jardins du Cloître. \nRéservez dès maintenant vos places pour cette occasion unique de célébrer la musique et de profiter de performances exceptionnelles. Pour plus d’informations et réservations\, contactez Septem (Ex Foyer Culturel de Saint-Ghislain) au 065/80 35 15. \n#Concert #NewBeatsBand #35Ans #Musique #JardinsDuCloître #SaintGhislain
URL:https://septem.stghislain.be/agenda/new-beat-s-band/
LOCATION:Les Jardins du Cloître\, 37 Grand Place\, Saint-Ghislain\, 7330\, Belgique
CATEGORIES:Chant,Concerts,Musique,Saint-Ghislain
ATTACH;FMTTYPE=image/jpeg:https://septem.stghislain.be/wp-content/uploads/2023/11/New-Beat-s-Band-Septem-Culture_Saint_Ghislain-2023.jpg
ORGANIZER;CN="Septem":MAILTO:info@septem.stghislain.be
END:VEVENT
BEGIN:VEVENT
DTSTART;TZID=Europe/Brussels:20240214T200000
DTEND;TZID=Europe/Brussels:20240214T213000
DTSTAMP:20260424T070737
CREATED:20231106T080129Z
LAST-MODIFIED:20231106T080254Z
UID:10000387-1707940800-1707946200@septem.stghislain.be
SUMMARY:Concert | Bruno Djarane
DESCRIPTION:🎺 Ne manquez pas le concert de Bruno Djarane le 14 février à 20h aux jardins du cloître de Saint-Ghislain ! 🎺 \nCet artiste musicien chanteur a une particularité unique : il allie la trompette et le chant sur scène. Avec un charisme indiscutable\, Bruno Djarane vous promet un spectacle inoubliable qui saura conquérir le cœur de tous les spectateurs. \nEntre souvenirs et émotions\, le tout enveloppé d’un humour déconcertant\, son répertoire composé à 100% de chansons françaises a déjà conquis des milliers d’hommes et de femmes depuis le début de sa carrière en 2016 en France\, en Belgique\, en Espagne et lors de multiples croisières à travers l’Europe… Et maintenant\, c’est aux jardins du cloître de Saint-Ghislain qu’il se produira. \nRéservez dès maintenant vos places pour assister à ce moment musical unique. Bruno Djarane saura vous faire vibrer et vous transporter dans un univers enchanteur. \n#Concert #BrunoDjarane #TrompetteEtChant #ChansonsFrançaises #JardinsDuCloître #SaintGhislain
URL:https://septem.stghislain.be/agenda/concert-bruno-djarane/
LOCATION:Les Jardins du Cloître\, 37 Grand Place\, Saint-Ghislain\, 7330\, Belgique
CATEGORIES:Chant,Concerts,Musique,Saint-Ghislain
ATTACH;FMTTYPE=image/jpeg:https://septem.stghislain.be/wp-content/uploads/2023/11/bruno-djarane-Septem-Culture_Saint_Ghislain-2023.jpg
ORGANIZER;CN="Septem":MAILTO:info@septem.stghislain.be
END:VEVENT
BEGIN:VEVENT
DTSTART;TZID=Europe/Brussels:20240216T200000
DTEND;TZID=Europe/Brussels:20240216T213000
DTSTAMP:20260424T070737
CREATED:20231106T082606Z
LAST-MODIFIED:20231106T082609Z
UID:10000388-1708113600-1708119000@septem.stghislain.be
SUMMARY:Musiques | Folklore | Jeunesses musicales Tengerton
DESCRIPTION:🎶 Ne manquez pas le spectacle musical « Jeunesses Musicales Tengerton » qui aura lieu le 16 février à 20h aux Jardins du Cloître de Saint-Ghislain ! 🎶 \nSuccédant au légendaire Egschiglen\, Tengerton est un ensemble mongol formé en 2023 par les maîtres Uugan et Nasaa\, accompagnés des jeunes musiciens Yesuu et Dalai. Ensemble\, ils forment un quatuor à cordes représentant quatre générations\, créant un répertoire original imprégné du riche patrimoine des chants traditionnels mongols. \nOriginaires de Mongolie\, ayant grandi en plein air dans le désert du Gobi\, ces musiciens ont hérité d’une longue tradition musicale nomade. Leur maîtrise de l’art du chant et des instruments traditionnels\, tels que le moriin khuur (vièle à tête de cheval) et le chant diphonique khöömii\, leur a valu de nombreuses distinctions. \nÀ travers leur musique\, ils rendent hommage aux bergers nomades et transmettent les émotions profondes inspirées par les vastes étendues arides de leur pays\, transportées par le vent. Leur mission est de préserver la paix et le respect des forces de la nature. \nNe manquez pas cette occasion unique de découvrir la richesse de la musique mongole et de vous laisser transporter par les mélodies envoûtantes de Tengerton. \nRéservez dès maintenant vos places pour cet événement inoubliable. Les billets sont disponibles au prix de 10 à 12 €. \n#SpectacleMusical #JeunessesMusicalesTengerton #MusiqueMongole #ChantDiphonique #JardinsDuCloître #SaintGhislain
URL:https://septem.stghislain.be/agenda/jeunesses-musicale-tengerton/
LOCATION:Les Jardins du Cloître\, 37 Grand Place\, Saint-Ghislain\, 7330\, Belgique
CATEGORIES:Arts Sonores,Chant,Concerts,Musique,Saint-Ghislain
ATTACH;FMTTYPE=image/jpeg:https://septem.stghislain.be/wp-content/uploads/2023/11/Jeunesses-musicales-Tengerton-Septem-Culture_Saint_Ghislain-2023.jpg
ORGANIZER;CN="Septem":MAILTO:info@septem.stghislain.be
END:VEVENT
BEGIN:VEVENT
DTSTART;TZID=Europe/Brussels:20240217T200000
DTEND;TZID=Europe/Brussels:20240217T213000
DTSTAMP:20260424T070737
CREATED:20231130T091220Z
LAST-MODIFIED:20231130T091223Z
UID:10000435-1708200000-1708205400@septem.stghislain.be
SUMMARY:Divertissement | Chant et danse | Astoria Dance
DESCRIPTION:🎉 Ne ratez pas l’événement « Astoria Danse » le 17 février à 20h aux Jardins du Cloître de Saint-Ghislain ! 🌟 \nVenez découvrir Astoria\, un ensemble musical qui interprète les œuvres d’Astor Piazzolla adaptées et transcrites par l’accordéoniste Christophe Delporte. Leur identité musicale se distingue par leur énergie\, leur rigueur et l’émotion palpable dans leurs interprétations. \nDans la lignée d’Astor Piazzolla\, Astoria trouve son essence à la croisée des chemins. Ils allient la qualité musicale et la maîtrise instrumentale propre à l’univers classique\, tout en préservant la magie rythmique et mélodique des originaux. \nEn échangeant les plafonds bas des bars enfumés et des studios d’enregistrement pour les salles de concert\, Astoria répond aux aspirations du compositeur lui-même. Astor Piazzolla aimait laisser s’épanouir les sonorités uniques et inimitables de son ensemble dans des cadres appropriés. \nDepuis leur création en 2004\, Astoria a participé à de nombreuses émissions de télévision telles que « Vivement Dimanche » présentée par Michel Drucker sur France 2\, et des programmes radio tels que « Le Monde est un Village » sur RTBF La Première. Ils ont enregistré cinq albums et un DVD\, et sont actuellement signés chez Antarctica Records. \nAcclamé par la presse et invité de grands festivals nationaux et internationaux\, Astoria a su conquérir les scènes les plus prestigieuses. Leurs interprétations des standards du « tango nuevo » suscitent une large palette d’émotions\, allant de la malice tendre à la douce nostalgie en passant par une joie débordante. Astoria vous fera voyager des faubourgs de Buenos Aires jusqu’aux terres chaudes enfouies sous la flore tropicale. \nL’ensemble est composé d’Isabelle Chardon au violon\, Jennifer Scavuzzo au chant\, Léonardo Anglani au piano\, Eric Chardon au violoncelle\, Adrien Tyberghein à la contrebasse et Christophe Delporte à l’accordéon\, accordina et bandonéon. Ils seront accompagnés par des invités tels que Marc Grauwels à la flûte\, Fumito Nunoya au marimba\, Dante et Monika Dominguez pour la danse\, ainsi que le chœur The New Baroque Times Voices. \nNe manquez pas cette soirée exceptionnelle ! Les billets sont disponibles au prix de 22 à 25 €. \n#AstoriaDanse #MusiqueLatine #TangoNouveau #SaintGhislain
URL:https://septem.stghislain.be/agenda/astoria-danse/
LOCATION:Les Jardins du Cloître\, 37 Grand Place\, Saint-Ghislain\, 7330\, Belgique
CATEGORIES:Danse,Musique,Saint-Ghislain,Spectacle
ATTACH;FMTTYPE=image/jpeg:https://septem.stghislain.be/wp-content/uploads/2023/11/astoria-danse-Septem-Culture_Saint_Ghislain-2024.jpg
ORGANIZER;CN="Septem":MAILTO:info@septem.stghislain.be
END:VEVENT
BEGIN:VEVENT
DTSTART;TZID=Europe/Brussels:20240218T160000
DTEND;TZID=Europe/Brussels:20240218T190000
DTSTAMP:20260424T070737
CREATED:20231106T130622Z
LAST-MODIFIED:20240108T112331Z
UID:10000391-1708272000-1708282800@septem.stghislain.be
SUMMARY:Divertissement | Thé dansant
DESCRIPTION:🎺 Ne manquez pas notre « Thé dansant » le 18 février à 16h aux Jardins du Cloître de Saint-Ghislain ! 🎹 \nJo\, accompagné de sa trompette\, et Claudy\, de son clavier\, sont des artistes incontournables dans notre région. Leur talent indéniable et leur popularité en font les chouchous de nombreux fans. \nCe duo dynamique vous transportera dans une ambiance festive et vous fera swinguer sur des airs qui évoqueront vos meilleurs souvenirs. Préparez-vous à danser et à vous laisser emporter par la musique entraînante de Jo et Claudy. \nSeptem\, en collaboration avec Retro Bonheur\, vous propose une série de thés dansants qui promettent d’être mémorables. Et pour inaugurer cette programmation\, nous ne pouvions choisir meilleurs hôtes que ces joyeux lurons. Attendez-vous à une après-midi remplie de bonne humeur et de convivialité. \nRéservez dès maintenant vos places pour cet événement incontournable. Les billets sont disponibles au prix de 10 à 12 €. \n#ThéDansant #JoEtClaudy #AmbianceFestive #MusiqueEntraînante #JardinsDuCloître #SaintGhislain
URL:https://septem.stghislain.be/agenda/the-dansant/
LOCATION:Les Jardins du Cloître\, 37 Grand Place\, Saint-Ghislain\, 7330\, Belgique
CATEGORIES:Danse,Musique,Rencontres,Saint-Ghislain
ATTACH;FMTTYPE=image/jpeg:https://septem.stghislain.be/wp-content/uploads/2023/11/the-dansant-Septem-Culture_Saint_Ghislain-2024.jpg
ORGANIZER;CN="Septem":MAILTO:info@septem.stghislain.be
END:VEVENT
BEGIN:VEVENT
DTSTART;TZID=Europe/Brussels:20240223T200000
DTEND;TZID=Europe/Brussels:20240223T213000
DTSTAMP:20260424T070737
CREATED:20231211T090727Z
LAST-MODIFIED:20231211T090730Z
UID:10000443-1708718400-1708723800@septem.stghislain.be
SUMMARY:Jazz | Marc Frankinet Quartet
DESCRIPTION:🎺🥁🎹 RDV JAZZ à ne pas manquer ! 🎶 \nLe 23 février à 20h\, le Marc Frankinet Quartet enflammera les Jardins du Cloître de Saint-Ghislain avec une soirée de jazz inoubliable. Vous êtes tous invités à assister à ce concert exceptionnel ! \nAu programme\, Marc Frankinet et son quartet revisiteront les compositions emblématiques des jazzmen liégeois qui ont marqué l’histoire de cette charmante petite ville provinciale et au-delà. Préparez-vous à découvrir une dizaine de morceaux\, parfois méconnus\, mais remplis de surprises envoûtantes. \nNe manquez pas l’occasion de vous plonger dans l’univers captivant du jazz et de vibrer au rythme des talents de ces musiciens hors pair. \nTarifs : 15-18€ \nRéservez dès maintenant votre place pour cette soirée musicale unique ! \n#Jazz #MusiqueLive #SaintGhislain
URL:https://septem.stghislain.be/agenda/jazz-marc-frankinet-quartet/
LOCATION:Les Jardins du Cloître\, 37 Grand Place\, Saint-Ghislain\, 7330\, Belgique
CATEGORIES:Concerts,Musique,Saint-Ghislain
ATTACH;FMTTYPE=image/jpeg:https://septem.stghislain.be/wp-content/uploads/2023/12/Marc-Frankinet-QuartetSeptem-Culture_Saint_Ghislain-2024.jpg
ORGANIZER;CN="Septem":MAILTO:info@septem.stghislain.be
END:VEVENT
BEGIN:VEVENT
DTSTART;TZID=Europe/Brussels:20240224T200000
DTEND;TZID=Europe/Brussels:20240224T213000
DTSTAMP:20260424T070737
CREATED:20231116T091038Z
LAST-MODIFIED:20231116T091042Z
UID:10000409-1708804800-1708810200@septem.stghislain.be
SUMMARY:Ciné-concert | " Coups de Génie » Laurel  et Hardy
DESCRIPTION:🎥🎶 Ne manquez pas le ciné-concert « Laurel et Hardy : Coups de Génie » ! 🎥🎶 \n📅 Date : 24 février⏰ Heure : 20h📍 Lieu : Jardins du Cloître de Saint-Ghislain \nLe talentueux pianiste et compositeur Christian Leroy\, accompagné de son ensemble Metarythmes composé de Philippe Saucez (clarinettes)\, Piet van Bockstal (hautbois) et Jeannot Gillis (violon)\, vous invitent à une soirée d’aventure avec Laurel et Hardy. \nCe programme présente trois courts-métrages tournés au tout début de leur duo\, entre 1927 et 1929\, où l’on retrouve tous les ingrédients qui ont fait leur succès : une maladresse d’un niveau rarement égalé et un goût prononcé pour la destruction de tout ce qui les entoure. \nL’Ensemble Metarythmes\, habitué à travailler sur des films puissants\, crée des œuvres musicales en parfaite connexion avec l’esprit des réalisateurs. Avec « Coups de Génie » mettant en scène Laurel et Hardy\, vous plongerez dans l’univers de ces deux acteurs de légende\, traversant toutes les générations. La musique interprétée par l’Ensemble Metarythmes accompagnera ces courts-métrages avec audace\, offrant plusieurs niveaux de lecture. \nLaurel et Hardy forment un tandem iconique : un joufflu qui roule des mécaniques et un lunaire. Leur association a été l’une des plus fécondes de toute l’histoire du burlesque. Dans ce programme\, vous retrouverez leur maladresse inégalée et leur goût pour la destruction de tout ce qui les entoure. \nRejoignez-nous pour une soirée pleine d’humour et de nostalgie en compagnie de Laurel et Hardy ! Achetez dès maintenant vos billets pour cette expérience unique au ciné-concert « Laurel et Hardy : Coups de Génie ». \n#cinéconcert #LaureletHardy #CoupsDeGénie #musique #humour #JardinsduCloître
URL:https://septem.stghislain.be/agenda/coups-de-genie-laurel-et-hardy/
LOCATION:Les Jardins du Cloître\, 37 Grand Place\, Saint-Ghislain\, 7330\, Belgique
CATEGORIES:Concerts,Films,Musique,Projections,Saint-Ghislain
ATTACH;FMTTYPE=image/jpeg:https://septem.stghislain.be/wp-content/uploads/2023/11/Laurel-et-Hardy-premiers-coups-de-genie-Septem-Culture_Saint_Ghislain-2024.jpg
ORGANIZER;CN="Septem":MAILTO:info@septem.stghislain.be
END:VEVENT
END:VCALENDAR