BEGIN:VCALENDAR
VERSION:2.0
PRODID:-//Septem - ECPv6.0.13.1//NONSGML v1.0//EN
CALSCALE:GREGORIAN
METHOD:PUBLISH
X-WR-CALNAME:Septem
X-ORIGINAL-URL:https://septem.stghislain.be
X-WR-CALDESC:évènements pour Septem
REFRESH-INTERVAL;VALUE=DURATION:PT1H
X-Robots-Tag:noindex
X-PUBLISHED-TTL:PT1H
BEGIN:VTIMEZONE
TZID:Europe/Brussels
BEGIN:DAYLIGHT
TZOFFSETFROM:+0100
TZOFFSETTO:+0200
TZNAME:CEST
DTSTART:20230326T010000
END:DAYLIGHT
BEGIN:STANDARD
TZOFFSETFROM:+0200
TZOFFSETTO:+0100
TZNAME:CET
DTSTART:20231029T010000
END:STANDARD
END:VTIMEZONE
BEGIN:VEVENT
DTSTART;TZID=Europe/Brussels:20231103T200000
DTEND;TZID=Europe/Brussels:20231103T220000
DTSTAMP:20260424T115102
CREATED:20230818T040944Z
LAST-MODIFIED:20230818T040944Z
UID:10000270-1699041600-1699048800@septem.stghislain.be
SUMMARY:Concert | Emmanuel Picardi & The Bright Sorrow
DESCRIPTION:Une présence indéniable sur scène\, une énergie\, de la dynamique et des nuances\nUne guitare qui fait vibrer les âmes\nDes standards du blues revisités\, des reprises réinventées et des compositions relevées\, en français\nDes musiciens qui ont de la route et du plaisir à jouer ensemble \nEntre Riffs\, Swing\, Soul\, Boogie\, Rock\, Smash & Slap\, Emmanuel Picardi chante le Blues. Le sien\, d’abord\, en français (entre autres). C’est son « Babil In Blues » !\nCelui des autres aussi\, au sien intimement mêlé : Blind Willie Johnson\, C. Singleton\, Albert King\, J. Beach\, B.B King\, Don Nix\, Sonnie & Brownie\,…\nAccompagné par Stephan Mossiat\, Marc Weymaere et de Paolo Ragatzu – The Bright Sorrow –\, c’est tout un voyage !\nLe groove rivé au fond de l’âme. \nDu Blues-Rock en Français et en Anglais (compositions originales et reprises) ! \nhttps://youtu.be/jCwq9Ump82I
URL:https://septem.stghislain.be/agenda/emmanuel-picardi-and-the-bright-sorrow/
LOCATION:Les Jardins du Cloître\, 37 Grand Place\, Saint-Ghislain\, 7330\, Belgique
CATEGORIES:Concerts,Musique,Saint-Ghislain
ATTACH;FMTTYPE=image/jpeg:https://septem.stghislain.be/wp-content/uploads/2023/08/Emmanuel_Picardi-Septem-Culture_Saint_Ghislain-2023.jpg
ORGANIZER;CN="Septem":MAILTO:info@septem.stghislain.be
END:VEVENT
BEGIN:VEVENT
DTSTART;TZID=Europe/Brussels:20231109T200000
DTEND;TZID=Europe/Brussels:20231109T220000
DTSTAMP:20260424T115102
CREATED:20230817T183745Z
LAST-MODIFIED:20230926T063620Z
UID:10000268-1699560000-1699567200@septem.stghislain.be
SUMMARY:Concert | Wonky Clock
DESCRIPTION:Wonky Clock est né au début de l’année 2015 de la rencontre improbable entre un dj/producteur de musique électronique et une flûtiste issue du Conservatoire Classique. Après une longue phase de maturation en studio\, le duo commence à se produire sur scène à la fois en Belgique et en France. Leur musique surprend et interpelle : Wonky Clock offre en effet au public un véritable récital où les compositions emblématiques de Tchaïkovski\, Schubert ou encore Brahms croisent beats hip hop\, wobbles tonitruantes et basslines enfumées. Au fil des concerts\, les morceaux proposés par le duo s’affinent et un univers très particulier\, devant autant à l’esthétique de la Belle Epoque qu’aux climats industriels du dubstep\, voit peu à peu le jour.
URL:https://septem.stghislain.be/agenda/wonky-clock/
LOCATION:Les Jardins du Cloître\, 37 Grand Place\, Saint-Ghislain\, 7330\, Belgique
CATEGORIES:Concerts,Musique,Saint-Ghislain
ATTACH;FMTTYPE=image/jpeg:https://septem.stghislain.be/wp-content/uploads/2023/08/wonky_clock-Septem-Culture_Saint_Ghislain-2023-1.jpg
ORGANIZER;CN="Septem":MAILTO:info@septem.stghislain.be
END:VEVENT
BEGIN:VEVENT
DTSTART;TZID=Europe/Brussels:20231116T200000
DTEND;TZID=Europe/Brussels:20231116T220000
DTSTAMP:20260424T115102
CREATED:20230915T143141Z
LAST-MODIFIED:20230915T143146Z
UID:10000325-1700164800-1700172000@septem.stghislain.be
SUMMARY:Spectacle musical | Pirly Zurstrassen
DESCRIPTION:Intense\, persistante cette musique fait son effet\, en dépit de tout. \nRépétition lancinante et violente de certains thèmes\, circularité des pièces\, courtes\, qui s’enchaînent dans cette suite\, en une belle continuité\, plus de rupture ni de transition entre les titres. \nOn s’abandonne alors à une transe\, comme dans certaines pièces\, pour violon justement\, de Philip Glass. On ne sait absolument pas dans quel style on navigue\, le jazz est assez loin. \nMais après tout on s’en moque\, dans cette ritournelle sous influence\, sous l’emprise de ces ‘violon et piano’ enragés parfois pour notre plus grande jouissance. \nSoutenu par le piano mélancolique\, sombre ou violemment percussif.
URL:https://septem.stghislain.be/agenda/pirly-zurstrassen/
LOCATION:Les Jardins du Cloître\, 37 Grand Place\, Saint-Ghislain\, 7330\, Belgique
CATEGORIES:Musique,Saint-Ghislain,Spectacle
ATTACH;FMTTYPE=image/jpeg:https://septem.stghislain.be/wp-content/uploads/2023/09/Pirly_Zurstrassen-Septem-Culture_Saint_Ghislain-2023.jpg
ORGANIZER;CN="Septem":MAILTO:info@septem.stghislain.be
END:VEVENT
BEGIN:VEVENT
DTSTART;TZID=Europe/Brussels:20231118T200000
DTEND;TZID=Europe/Brussels:20231118T220000
DTSTAMP:20260424T115102
CREATED:20230915T145520Z
LAST-MODIFIED:20231017T083747Z
UID:10000327-1700337600-1700344800@septem.stghislain.be
SUMMARY:Musique |  Petites perles de la musique de grands compositeurs.
DESCRIPTION:W.A. Mozart (1756 – 1791)\n\nRicevete \, O Padroncina \nKomm\, lieber Mai \n\nLudwig Van Beethoven (1770- 1827)\n\nSeus lindos holhos (portugais) \nBolero a due (espagnol) \nYa no quiero embarcarme \n\nFranz Schubert (1797 – 1828)\n\nAn die Musik \nDer Lindenbaum \nHeidenröslein \n\nFelix Mendelssohn-Bartholdy (1809 – 1847)\n\nAbendlied \n\nRobert Schumann (1810 – 1856)\n\nWenn ich ein Vögelein wär \nSchön Blümelein \n\nJohannes Brahms (1833 – 1897)\n\nIch Fahr dahin \nGuten Abend\, Gut Nacht \nDie Meere \n\nCésar Franck: (1822 – 1890)\n\nPanis angelicus \n\nGabriel Fauré (1845 – 1924)\n\nCantique de Racine \n\nAntonin Dvorak (1841 – 1904)\n\nJablko (Greeting from Afar) \nZelenaj se\, Zelenay… (Omens) \n\nSergeï Rachmaninov (1873 – 1943)\n\nNotchka \nZodryemali volny \nVokalise \n  \nListe alphabétique des titres \n\nAbendlied (Mendelssohn)\nAn die Musik (Schubert)3\nBolero a due (espagnol) (Beethoven)\nCantique de Racine (Fauré)\nDer Lindenbaum (Schubert)\nDie Meere (Brahms)\nGuten Abend\, Gut Nacht (Brahms)\nHeidenröslein (Schubert)\nIch Fahr dahin (Brahms)\nJablko (Greeting from Afar) (Dvorak)\nKomm\, lieber Mai (Mozart)\nNotchka (Rachmaninov)\nPanis angelicus (César Franck)\nRicevete \, O Padroncina (Mozart)\nSchön Blümelein (Schumann)\nSeus lindos holhos (portugais) (Beethoven)\nVokalise (Rachmaninov)\nWenn ich ein Vögelein wär (Schumann)\nYa no quiero embarcarme (Beethoven)\nZelenaj se\, Zelenay… (Omens) (Dvorak)\nZodryemali volny (Rachmaninov)
URL:https://septem.stghislain.be/agenda/perles-de-la-musique/
LOCATION:Les Jardins du Cloître\, 37 Grand Place\, Saint-Ghislain\, 7330\, Belgique
CATEGORIES:Concerts,Musique,Saint-Ghislain
ATTACH;FMTTYPE=image/jpeg:https://septem.stghislain.be/wp-content/uploads/2023/09/petites-perles-Septem-Culture_Saint_Ghislain-2023.jpg
ORGANIZER;CN="Septem":MAILTO:info@septem.stghislain.be
END:VEVENT
BEGIN:VEVENT
DTSTART;TZID=Europe/Brussels:20231119T160000
DTEND;TZID=Europe/Brussels:20231119T173000
DTSTAMP:20260424T115102
CREATED:20230915T150249Z
LAST-MODIFIED:20231010T103311Z
UID:10000328-1700409600-1700415000@septem.stghislain.be
SUMMARY:Divertissement | Concert | L’ AMADEUS ORCHESTRA
DESCRIPTION:La formation de Pascal DONZE a l’originale particularité de constituer un orchestre à géométrie variable\, qui associe musiciens professionnels et jeunes talents prometteurs. \nCette formule inédite d’orchestre propose un répertoire particulièrement éclectique\, qui\, au gré des aspirations de ses membres\, explore tant la grande musique classique ou l’opéra que la variété et la comédie musicale. \nAMADEUS ORCHESTRA\, unique Orchestre de Salon* subsistant dans la région\, vous invite à (re)-découvrir les plus beaux airs d’opéra et du répertoire classique. \nLA FORZA DEL DESTINOINTERMEZZO CAVALIERA RUSTICANA LA CHAUVE SOURISPIZZICATO POLKARUSSALKALA VALSE N°2LE FRENCH CAN CANLA VALSE DES FLEURSCONCERTO D’ARANJUEZLA DANSE D’ANITRAO MIO BABBINO CAROLE SIFFLEUR ET SON CHIENLA VALSE DE COPPELIAMEINE LIPPEN\, SIE KUSSEN SO HEIB \n*Orchestre de salon : « Mini » Orchestre Philharmonique capable de reproduire avec authenticité les œuvres pour grand orchestre symphonique.
URL:https://septem.stghislain.be/agenda/amadeus-orchestra/
LOCATION:Les Jardins du Cloître\, 37 Grand Place\, Saint-Ghislain\, 7330\, Belgique
CATEGORIES:Concerts,Musique,Saint-Ghislain
ATTACH;FMTTYPE=image/jpeg:https://septem.stghislain.be/wp-content/uploads/2023/09/amadeus_orchestra-Septem-Culture_Saint_Ghislain-2023.jpg
ORGANIZER;CN="Septem":MAILTO:info@septem.stghislain.be
END:VEVENT
END:VCALENDAR