BEGIN:VCALENDAR
VERSION:2.0
PRODID:-//Septem - ECPv6.0.13.1//NONSGML v1.0//EN
CALSCALE:GREGORIAN
METHOD:PUBLISH
X-ORIGINAL-URL:https://septem.stghislain.be
X-WR-CALDESC:évènements pour Septem
REFRESH-INTERVAL;VALUE=DURATION:PT1H
X-Robots-Tag:noindex
X-PUBLISHED-TTL:PT1H
BEGIN:VTIMEZONE
TZID:Europe/Brussels
BEGIN:DAYLIGHT
TZOFFSETFROM:+0100
TZOFFSETTO:+0200
TZNAME:CEST
DTSTART:20230326T010000
END:DAYLIGHT
BEGIN:STANDARD
TZOFFSETFROM:+0200
TZOFFSETTO:+0100
TZNAME:CET
DTSTART:20231029T010000
END:STANDARD
END:VTIMEZONE
BEGIN:VEVENT
DTSTART;TZID=Europe/Brussels:20231007T200000
DTEND;TZID=Europe/Brussels:20231007T220000
DTSTAMP:20260424T131552
CREATED:20230906T061843Z
LAST-MODIFIED:20230906T061847Z
UID:10000304-1696708800-1696716000@septem.stghislain.be
SUMMARY:Concert | Barbara Wiernik "Ellipse"
DESCRIPTION:Plongez dans l’univers envoûtant d’Ellipse\, un voyage musical où les mots se font écho des silences suspendus. Laissez-vous séduire par la délicatesse des notes qui se tissent comme un dessin\, révélant des contours insoupçonnés. \nLe quartet de Barbara Wiernik\, composé de voix\, clarinette et clarinette basse\, violoncelle\, vibraphone et marimba\, offre une expérience audacieuse et unique. Ces instruments atypiques fusionnent harmonieusement\, créant un mélange captivant de musique de chambre\, de jazz et de chanson. Laissez-vous porter par des compositions tantôt orchestrées\, tantôt improvisées\, qui vous emmèneront dans des contrées musicales inexplorées. \nLes textes originaux évoquent l’oubli\, le lâcher-prise\, la féminité et des parcelles de vies\, mais aussi des sujets engagés et actuels. Plongez dans ces paroles vibrantes\, portées par la plume talentueuse de Barbara Wiernik et d’Alain Pierre. Leurs musiques sont un feu d’artifice de couleurs et de vibrations\, une source de fraîcheur et de poésie. \nEllipse vous transporte dans un espace libéré où la magie opère entre les lignes et les notes. Préparez-vous à être enchanté par cette fusion artistique unique. \nLine Up :Barbara WIERNIK: chantLuis Miguel AGUILAR: clarinette – clarinette basseSigrid VANDENBOGAERDE: violoncelleBart QUARTIER: marimba – vibraphone \nVincent DE BAST: sonorisation \nCompositions : Alain PIERRE et Barbara WIERNIKTextes : Barbara WIERNIKArrangements : Alain PIERRE
URL:https://septem.stghislain.be/agenda/concert-ellipse/
LOCATION:Les Jardins du Cloître\, 37 Grand Place\, Saint-Ghislain\, 7330\, Belgique
CATEGORIES:Concerts,Musique,Saint-Ghislain
ATTACH;FMTTYPE=image/jpeg:https://septem.stghislain.be/wp-content/uploads/2023/08/concert_ellipse-Septem-Culture_Saint_Ghislain-2023.jpg
ORGANIZER;CN="Septem":MAILTO:info@septem.stghislain.be
END:VEVENT
BEGIN:VEVENT
DTSTART;TZID=Europe/Brussels:20231017T140000
DTEND;TZID=Europe/Brussels:20231017T170000
DTSTAMP:20260424T131552
CREATED:20231010T094545Z
LAST-MODIFIED:20231010T094700Z
UID:10000364-1697551200-1697562000@septem.stghislain.be
SUMMARY:Divertissement | Spectacle | Les RDV Bonheur | L'été indien
DESCRIPTION:Le premier rendez-vous est fixé sur le thème de l’été indien ; l’occasion de se remettre dans l’oreille les tubes de l’été et de célébrer l’automne qui s’en vient… \nUn cycle de rendez-vous pour découvrir ou redécouvrir le plaisir d’une programmation divertissante\, populaire\, sans prise de tête\, mais de qualité ! De la bonne variété\, des chansons\, de la grande musique\, de la danse\, un clin d’œil au cinéma et à l’actualité le tout réuni et mesuré comme un délicieux cocktail. Voilà les ingrédients de la recette des « Rendez-vous Bonheur » concocté avec talent par les artistes que vous allez découvrir sur la scène des « Jardins du Cloître ». \nAlors\, n’hésitez pas à nous rejoindre pour vivre et partager en toute décontraction ces nouveaux rendez-vous de votre agenda culturel ! \nDiffusion d’un extrait de film: Conte d’automne
URL:https://septem.stghislain.be/agenda/les-rdv-bonheur-ete-indien/
LOCATION:Les Jardins du Cloître\, 37 Grand Place\, Saint-Ghislain\, 7330\, Belgique
CATEGORIES:Musique,Saint-Ghislain,Spectacle
ATTACH;FMTTYPE=image/jpeg:https://septem.stghislain.be/wp-content/uploads/2023/10/les-rdv-bonheur-joe-dassin-Septem-Culture_Saint_Ghislain-2023.jpg
ORGANIZER;CN="Septem":MAILTO:info@septem.stghislain.be
END:VEVENT
BEGIN:VEVENT
DTSTART;TZID=Europe/Brussels:20231021T200000
DTEND;TZID=Europe/Brussels:20231021T223000
DTSTAMP:20260424T131552
CREATED:20230818T040207Z
LAST-MODIFIED:20230829T054942Z
UID:10000269-1697918400-1697927400@septem.stghislain.be
SUMMARY:Concert | Tre Voce | COMPLET
DESCRIPTION:CONCERT COMPLET  \nCe groupe vocal est né tout d’abord\, d’une rencontre amicale\, ensuite artistique. \nSon nom signifie « Trois Voix » et fait référence aux trois artistes qui le composent : Christophe\, Stéphane et Salvatore. \nLeur style musical puise ses influences aussi bien dans la musique classique que dans la pop. \nLeur secret : revisiter de grands standards de la variété française et internationale en leur attribuant une couleur toute particulière et en les ramenant dans leur propre univers artistique à trois voix. \nDURÉE 2h30
URL:https://septem.stghislain.be/agenda/tre-voce/
LOCATION:Les Jardins du Cloître\, 37 Grand Place\, Saint-Ghislain\, 7330\, Belgique
CATEGORIES:Chant,Concerts,Musique,Saint-Ghislain
ATTACH;FMTTYPE=image/jpeg:https://septem.stghislain.be/wp-content/uploads/2023/08/tre_voce-Septem-Culture_Saint_Ghislain-2023.jpg
ORGANIZER;CN="Septem":MAILTO:info@septem.stghislain.be
END:VEVENT
BEGIN:VEVENT
DTSTART;TZID=Europe/Brussels:20231028T203000
DTEND;TZID=Europe/Brussels:20231028T220000
DTSTAMP:20260424T131552
CREATED:20230926T071915Z
LAST-MODIFIED:20231023T175623Z
UID:10000335-1698525000-1698530400@septem.stghislain.be
SUMMARY:Concert | Tempête Bleue
DESCRIPTION:Une traversée dans les paysages de l’âme\, au cœur de l’introspection.De la P.O.P\, Poésie Orageuse et Profonde\, en français.Le trio propose un style différent mais pas étranger. Hors des sentiers tracés couplet refrain\, on plonge dans chaque morceau comme dans une poésie aux vers libres. Une musique atmosphérique et des textes forts.Les ambiances sont planantes et percutantes. Les mots viennent heurter et réveiller. On ose dire et on ose ressentir. \nOn est sur le fil\, en équilibre entre les effets stellaires et pinkflodiens de la guitare électrique et la danse rythmique d’une percussion qui pulse au rythme de la terre et de nos racines.
URL:https://septem.stghislain.be/agenda/tempete-bleue/
LOCATION:Les Jardins du Cloître\, 37 Grand Place\, Saint-Ghislain\, 7330\, Belgique
CATEGORIES:Concerts,Musique,Saint-Ghislain
ATTACH;FMTTYPE=image/jpeg:https://septem.stghislain.be/wp-content/uploads/2023/09/concert-tempete-bleue-Septem-Culture_Saint_Ghislain-2023.jpg
ORGANIZER;CN="Septem":MAILTO:info@septem.stghislain.be
END:VEVENT
END:VCALENDAR