BEGIN:VCALENDAR
VERSION:2.0
PRODID:-//Septem - ECPv6.0.13.1//NONSGML v1.0//EN
CALSCALE:GREGORIAN
METHOD:PUBLISH
X-ORIGINAL-URL:https://septem.stghislain.be
X-WR-CALDESC:évènements pour Septem
REFRESH-INTERVAL;VALUE=DURATION:PT1H
X-Robots-Tag:noindex
X-PUBLISHED-TTL:PT1H
BEGIN:VTIMEZONE
TZID:Europe/Brussels
BEGIN:DAYLIGHT
TZOFFSETFROM:+0100
TZOFFSETTO:+0200
TZNAME:CEST
DTSTART:20230326T010000
END:DAYLIGHT
BEGIN:STANDARD
TZOFFSETFROM:+0200
TZOFFSETTO:+0100
TZNAME:CET
DTSTART:20231029T010000
END:STANDARD
END:VTIMEZONE
BEGIN:VEVENT
DTSTART;TZID=Europe/Brussels:20230408T203000
DTEND;TZID=Europe/Brussels:20230408T220000
DTSTAMP:20260424T233624
CREATED:20230403T133307Z
LAST-MODIFIED:20230405T061227Z
UID:10000118-1680985800-1680991200@septem.stghislain.be
SUMMARY:O’Tchalaï et le Chœur Droga Mleczna
DESCRIPTION:ATTENTION ! Ce concert est reporté au printemps 2024. \nLe quartet O’tchalaï explore les musiques et chansons des Balkans et des Tsiganes\, créant des ambiances tantôt enneigées et vastes\, tantôt confinées et intimistes\, au fil de leurs voyages de Bucarest à Sofia\, d’Odessa à Thessalonique. Accompagné d’un chœur de 35 chanteurs et chanteuses\, le groupe chante\, rit\, pleure\, aime\, se déchire et se retrouve\, dans un tourbillon de vie. \n\nMonique Gelders : chant\, accordéonAurelie Goudaer : violon\, chantAlexandre Furnelle : contrebasseStephan Pougin : percussionsNinon Robin : danse \n\n\nLe Choeur Droga Mleczna : Nathalie Bauduin\, Natchou Bosret\, Annick Cornette\, Christine Crutzen\, Françoise Daoust\, Gaëlle de Crombrugghe\, Raphaelle de Menten\, Francoise Dutrieue\, Marc Erman\, Christine Flore\, Evelyne Flore\, Julie Gallifet\, Christine Georis\, Marianne Georis\, An Goedertier\, Isabelle Gontier\, Annick Honorez\, Karin et Jean-François Hubermont\, Isabelle Lamouline\, Karin Laporte\, Corinne Lecerf\, Guillaume Lethe\, Claudine Lewalle\, Odile Maisse\, Bernadette Maquet\, Michaëla Marginet\, Gaëtan Moyersoen\, Frédérique Rochette\, Cayenne Seydel\, Sylvie Suleau\, Joëlle Waterschoot et Sophie Ypersiel…
URL:https://septem.stghislain.be/agenda/otchalai-et-le-choeur-droga-mleczna/
LOCATION:Les Jardins du Cloître\, 37 Grand Place\, Saint-Ghislain\, 7330\, Belgique
CATEGORIES:Arts de la scène,Chant,Concerts,Danse,Musique,Saint-Ghislain
ATTACH;FMTTYPE=image/png:https://septem.stghislain.be/wp-content/uploads/2023/04/Copie-de-Affiche-OTchalai-Couverture-Facebook-2.png
ORGANIZER;CN="Septem":MAILTO:info@septem.stghislain.be
END:VEVENT
BEGIN:VEVENT
DTSTART;TZID=Europe/Brussels:20230416T160000
DTEND;TZID=Europe/Brussels:20230416T180000
DTSTAMP:20260424T233624
CREATED:20230403T111456Z
LAST-MODIFIED:20230410T114331Z
UID:10000116-1681660800-1681668000@septem.stghislain.be
SUMMARY:Concertos Brandebourgeois - Le Florilège Musical
DESCRIPTION:Venez découvrir ce dimanche\, dans un concert d’exception\, le 2ème et le 4ème concerto brandebourgeois de J.S. Bach\, tous deux exécutés par le « Le Florilège musical »\, un ensemble spécialisé dans la musique ancienne\, composé de musiciens professionnels interprétant les œuvres sur instruments historiques. \n\n\n\n\nLes Concertos Brandebourgeois sont une série de six concertos baroques composés par Johann Sebastian Bach au début du XVIIIe siècle. Ils ont été commandés par le margrave de Brandebourg\, Christian Ludwig\, et sont devenus l’une des œuvres les plus connues et appréciées de Bach. \nChaque concerto est composé pour un ensemble différent d’instruments\, allant du violon solo au groupe complet de cordes\, en passant par les instruments à vent et les claviers. Chaque concerto est également unique dans sa structure\, mais tous présentent une grande virtuosité et une grande complexité technique. \nLes Concertos Brandebourgeois ont été considérés comme une étape importante dans l’histoire de la musique baroque et ont influencé de nombreux compositeurs après Bach. Ils restent aujourd’hui très populaires et sont régulièrement joués lors de concerts et d’enregistrements.
URL:https://septem.stghislain.be/agenda/concerto-brandebourgeois-le-florilege-musical/
LOCATION:Église Saint-Géry de Baudour\, Place de Baudour\, Saint-Ghislain\, 7331\, Belgique
CATEGORIES:Arts de la scène,Baudour,Concerts,Musique
ATTACH;FMTTYPE=image/jpeg:https://septem.stghislain.be/wp-content/uploads/2023/04/epicura_et_septem-concerto_brandebourgeois-septem-culture_Saint_Ghislain-2023.jpg
ORGANIZER;CN="Septem":MAILTO:info@septem.stghislain.be
GEO:50.485163824936;3.8345378306807
X-APPLE-STRUCTURED-LOCATION;VALUE=URI;X-ADDRESS=Église Saint-Géry de Baudour Place de Baudour Saint-Ghislain 7331 Belgique;X-APPLE-RADIUS=500;X-TITLE=Place de Baudour:geo:3.8345378306807,50.485163824936
END:VEVENT
BEGIN:VEVENT
DTSTART;TZID=Europe/Brussels:20230423T170000
DTEND;TZID=Europe/Brussels:20230423T183000
DTSTAMP:20260424T233624
CREATED:20230312T222158Z
LAST-MODIFIED:20230312T223244Z
UID:10000100-1682269200-1682274600@septem.stghislain.be
SUMMARY:Concert | Antoine Delie
DESCRIPTION:Antoine Delie est un jeune chanteur belge. Finaliste de THE VOICE – La plus Belle Voix saison 9\, il s’est fait remarquer avec sa reprise de La Pluie du rappeur français Orelsan. Il avait déjà participé à la version belge du programme en 2015\, dans l’équipe de Chimène Badi qui l’avait mené jusqu’aux quart de finale. Il pratique plusieurs formes d’art telles que le chant\, le piano\, le théâtre… Et se passionne également pour les arts visuels\, l’art floral\, etc. \nInstituteur primaire de formation\, il fait\, à l’âge de 21 ans\, un voyage de plusieurs semaines en Bolivie qui bouleverse sa vie. À son retour\, il assume sa personnalité\, son look coloré et décalé et s’affirme en tant qu’artiste. Il décide alors de se consacrer entièrement à la musique. Antoine puise son inspiration dans les grands classiques de la chanson française ainsi que dans la musique POP actuelle. Ses goûts musicaux assez éclectiques le poussent à proposer une musique\, tantôt mélancolique et acoustique\, tantôt colorée et plus electro.
URL:https://septem.stghislain.be/agenda/concert-antoine-delie/
LOCATION:Les Jardins du Cloître\, 37 Grand Place\, Saint-Ghislain\, 7330\, Belgique
CATEGORIES:Arts de la scène,Concerts,Musique,Saint-Ghislain
ATTACH;FMTTYPE=image/jpeg:https://septem.stghislain.be/wp-content/uploads/2023/03/Antoine_Delie-Peter_Pan-CD-Cover-Crop.jpg
ORGANIZER;CN="Septem":MAILTO:info@septem.stghislain.be
END:VEVENT
END:VCALENDAR