BEGIN:VCALENDAR
VERSION:2.0
PRODID:-//Septem - ECPv6.0.13.1//NONSGML v1.0//EN
CALSCALE:GREGORIAN
METHOD:PUBLISH
X-WR-CALNAME:Septem
X-ORIGINAL-URL:https://septem.stghislain.be
X-WR-CALDESC:évènements pour Septem
REFRESH-INTERVAL;VALUE=DURATION:PT1H
X-Robots-Tag:noindex
X-PUBLISHED-TTL:PT1H
BEGIN:VTIMEZONE
TZID:Europe/Brussels
BEGIN:DAYLIGHT
TZOFFSETFROM:+0100
TZOFFSETTO:+0200
TZNAME:CEST
DTSTART:20250330T010000
END:DAYLIGHT
BEGIN:STANDARD
TZOFFSETFROM:+0200
TZOFFSETTO:+0100
TZNAME:CET
DTSTART:20251026T010000
END:STANDARD
END:VTIMEZONE
BEGIN:VEVENT
DTSTART;TZID=Europe/Brussels:20250304T193000
DTEND;TZID=Europe/Brussels:20250304T210000
DTSTAMP:20260424T081433
CREATED:20241203T104218Z
LAST-MODIFIED:20250303T151832Z
UID:10001088-1741116600-1741122000@septem.stghislain.be
SUMMARY:En fanfare l de Emmanuel Courcol
DESCRIPTION:2024 ‧ Comédie/Drame ‧ 1h 43m \nThibaut est un chef d’orchestre de renommée internationale qui parcourt le monde. Lorsqu’il apprend qu’il a été adopté\, il découvre l’existence d’un frère\, Jimmy\, employé de cantine scolaire et qui joue du trombone dans une fanfare du nord de la France. En apparence tout les sépare\, sauf l’amour de la musique. Détectant les capacités musicales exceptionnelles de son frère\, Thibaut se donne pour mission de réparer l’injustice du destin. Jimmy se prend alors à rêver d’une autre vie…
URL:https://septem.stghislain.be/agenda/en-fanfare/
LOCATION:Les Jardins du Cloître\, 37 Grand Place\, Saint-Ghislain\, 7330\, Belgique
CATEGORIES:Cinéma,Films,Saint-Ghislain
ATTACH;FMTTYPE=image/jpeg:https://septem.stghislain.be/wp-content/uploads/2024/12/cinema-en-fanfare-Septem-Culture_Saint_Ghislain-2025.jpg
ORGANIZER;CN="Septem":MAILTO:info@septem.stghislain.be
END:VEVENT
END:VCALENDAR