BEGIN:VCALENDAR
VERSION:2.0
PRODID:-//Septem - ECPv6.0.13.1//NONSGML v1.0//EN
CALSCALE:GREGORIAN
METHOD:PUBLISH
X-ORIGINAL-URL:https://septem.stghislain.be
X-WR-CALDESC:évènements pour Septem
REFRESH-INTERVAL;VALUE=DURATION:PT1H
X-Robots-Tag:noindex
X-PUBLISHED-TTL:PT1H
BEGIN:VTIMEZONE
TZID:Europe/Brussels
BEGIN:DAYLIGHT
TZOFFSETFROM:+0100
TZOFFSETTO:+0200
TZNAME:CEST
DTSTART:20240331T010000
END:DAYLIGHT
BEGIN:STANDARD
TZOFFSETFROM:+0200
TZOFFSETTO:+0100
TZNAME:CET
DTSTART:20241027T010000
END:STANDARD
END:VTIMEZONE
BEGIN:VEVENT
DTSTART;TZID=Europe/Brussels:20241203T133000
DTEND;TZID=Europe/Brussels:20241203T153000
DTSTAMP:20260424T115823
CREATED:20240617T092434Z
LAST-MODIFIED:20240617T092438Z
UID:10000726-1733232600-1733239800@septem.stghislain.be
SUMMARY:Cinema | Priscilla
DESCRIPTION:1h 53min | Biopic\, DrameDe Sofia Coppola | Par Sofia CoppolaAvec Cailee Spaeny\, Jacob Elordi\, Dagmara DominczykSynopsis:Quand Priscilla rencontre Elvis\, elle est collégienne. Lui\, à 24 ans\, est déjà une star mondiale. De leur idylle secrète à leur mariage iconique\, Sofia Coppola dresse le portrait de Priscilla\, une adolescente effacée qui lentement se réveillera de son conte de fées pour prendre sa vie en main.
URL:https://septem.stghislain.be/agenda/priscilla/2024-12-03/1/
LOCATION:Les Jardins du Cloître\, 37 Grand Place\, Saint-Ghislain\, 7330\, Belgique
CATEGORIES:Cinéma,Films,Saint-Ghislain
ATTACH;FMTTYPE=image/jpeg:https://septem.stghislain.be/wp-content/uploads/2024/06/cinema-priscilla-Septem-Culture_Saint_Ghislain-2024.jpg
ORGANIZER;CN="Septem":MAILTO:info@septem.stghislain.be
END:VEVENT
BEGIN:VEVENT
DTSTART;TZID=Europe/Brussels:20241203T193000
DTEND;TZID=Europe/Brussels:20241203T213000
DTSTAMP:20260424T115823
CREATED:20240617T092434Z
LAST-MODIFIED:20240617T092438Z
UID:10000727-1733254200-1733261400@septem.stghislain.be
SUMMARY:Cinema | Priscilla
DESCRIPTION:1h 53min | Biopic\, DrameDe Sofia Coppola | Par Sofia CoppolaAvec Cailee Spaeny\, Jacob Elordi\, Dagmara DominczykSynopsis:Quand Priscilla rencontre Elvis\, elle est collégienne. Lui\, à 24 ans\, est déjà une star mondiale. De leur idylle secrète à leur mariage iconique\, Sofia Coppola dresse le portrait de Priscilla\, une adolescente effacée qui lentement se réveillera de son conte de fées pour prendre sa vie en main.
URL:https://septem.stghislain.be/agenda/priscilla/2024-12-03/2/
LOCATION:Les Jardins du Cloître\, 37 Grand Place\, Saint-Ghislain\, 7330\, Belgique
CATEGORIES:Cinéma,Films,Saint-Ghislain
ATTACH;FMTTYPE=image/jpeg:https://septem.stghislain.be/wp-content/uploads/2024/06/cinema-priscilla-Septem-Culture_Saint_Ghislain-2024.jpg
ORGANIZER;CN="Septem":MAILTO:info@septem.stghislain.be
END:VEVENT
END:VCALENDAR