BEGIN:VCALENDAR
VERSION:2.0
PRODID:-//Septem - ECPv6.0.13.1//NONSGML v1.0//EN
CALSCALE:GREGORIAN
METHOD:PUBLISH
X-ORIGINAL-URL:https://septem.stghislain.be
X-WR-CALDESC:évènements pour Septem
REFRESH-INTERVAL;VALUE=DURATION:PT1H
X-Robots-Tag:noindex
X-PUBLISHED-TTL:PT1H
BEGIN:VTIMEZONE
TZID:Europe/Brussels
BEGIN:DAYLIGHT
TZOFFSETFROM:+0100
TZOFFSETTO:+0200
TZNAME:CEST
DTSTART:20240331T010000
END:DAYLIGHT
BEGIN:STANDARD
TZOFFSETFROM:+0200
TZOFFSETTO:+0100
TZNAME:CET
DTSTART:20241027T010000
END:STANDARD
END:VTIMEZONE
BEGIN:VEVENT
DTSTART;TZID=Europe/Brussels:20241124T160000
DTEND;TZID=Europe/Brussels:20241124T183000
DTSTAMP:20260424T130816
CREATED:20240618T122108Z
LAST-MODIFIED:20240618T122112Z
UID:10000751-1732464000-1732473000@septem.stghislain.be
SUMMARY:Cinema | La Planète des Singes : Le Nouveau Royaume
DESCRIPTION:2h 25min | Action\, Aventure\, Science FictionDe Wes Ball | Par Josh Friedman\, Rick JaffaAvec Owen Teague\, Freya Allan\, Peter MaconTitre original Kingdom of the Planet of the Apes \nSynopsisPlusieurs générations après le règne de César\, les singes ont définitivement pris le pouvoir. Les humains\, quant à eux\, ont régressé à l’état sauvage et vivent en retrait. Alors qu’un nouveau chef tyrannique construit peu à peu son empire\, un jeune singe entreprend un périlleux voyage qui l’amènera à questionner tout ce qu’il sait du passé et à faire des choix qui définiront l’avenir des singes et des humains…
URL:https://septem.stghislain.be/agenda/la-planete-des-singes-le-nouveau-royaume/
LOCATION:Les Jardins du Cloître\, 37 Grand Place\, Saint-Ghislain\, 7330\, Belgique
CATEGORIES:Ciné Famille,Cinéma,Films,Saint-Ghislain
ATTACH;FMTTYPE=image/jpeg:https://septem.stghislain.be/wp-content/uploads/2024/06/cinema-la-planete-des-singes-le-nouveau-royaume-Septem-Culture_Saint_Ghislain-2024.jpg
ORGANIZER;CN="Septem":MAILTO:info@septem.stghislain.be
END:VEVENT
END:VCALENDAR