BEGIN:VCALENDAR
VERSION:2.0
PRODID:-//Septem - ECPv6.0.13.1//NONSGML v1.0//EN
CALSCALE:GREGORIAN
METHOD:PUBLISH
X-WR-CALNAME:Septem
X-ORIGINAL-URL:https://septem.stghislain.be
X-WR-CALDESC:évènements pour Septem
REFRESH-INTERVAL;VALUE=DURATION:PT1H
X-Robots-Tag:noindex
X-PUBLISHED-TTL:PT1H
BEGIN:VTIMEZONE
TZID:Europe/Brussels
BEGIN:DAYLIGHT
TZOFFSETFROM:+0100
TZOFFSETTO:+0200
TZNAME:CEST
DTSTART:20240331T010000
END:DAYLIGHT
BEGIN:STANDARD
TZOFFSETFROM:+0200
TZOFFSETTO:+0100
TZNAME:CET
DTSTART:20241027T010000
END:STANDARD
END:VTIMEZONE
BEGIN:VEVENT
DTSTART;TZID=Europe/Brussels:20241105T133000
DTEND;TZID=Europe/Brussels:20241105T153000
DTSTAMP:20260424T131627
CREATED:20240617T090343Z
LAST-MODIFIED:20240617T090347Z
UID:10000720-1730813400-1730820600@septem.stghislain.be
SUMMARY:Cinéma | C'é ancora domani (Il reste encore demain)
DESCRIPTION:1h 58min | Comédie\, DrameDe Paola Cortellesi |Par Paola Cortellesi\, Furio AndreottiAvec Paola Cortellesi\, Valerio Mastandrea\, Romana Maggiora VerganoSynopsis:Mariée à Ivano\, Delia\, mère de trois enfants\, vit à Rome dans la seconde moitié des années 40. La ville est alors partagée entre l’espoir né de la Libération et les difficultés matérielles engendrées par la guerre qui vient à peine de s’achever. Face à son mari autoritaire et violent\, Delia ne trouve du réconfort qu’auprès de son amie Marisa avec qui elle partage des moments de légèreté et des confidences intimes. Leur routine morose prend fin au printemps\, lorsque toute la famille en émoi s’apprête à célébrer les fiançailles imminentes de leur fille aînée\, Marcella. Mais l’arrivée d’une lettre mystérieuse va tout bouleverser et pousser Delia à trouver le courage d’imaginer un avenir meilleur\, et pas seulement pour elle-même.
URL:https://septem.stghislain.be/agenda/il-reste-encore-demain/2024-11-05/1/
LOCATION:Les Jardins du Cloître\, 37 Grand Place\, Saint-Ghislain\, 7330\, Belgique
CATEGORIES:Cinéma,Films,Saint-Ghislain
ATTACH;FMTTYPE=image/jpeg:https://septem.stghislain.be/wp-content/uploads/2024/06/cinema-il-reste-encore-demain-Septem-Culture_Saint_Ghislain-2024.jpg
ORGANIZER;CN="Septem":MAILTO:info@septem.stghislain.be
END:VEVENT
BEGIN:VEVENT
DTSTART;TZID=Europe/Brussels:20241105T193000
DTEND;TZID=Europe/Brussels:20241105T213000
DTSTAMP:20260424T131627
CREATED:20240617T090343Z
LAST-MODIFIED:20240617T090347Z
UID:10000721-1730835000-1730842200@septem.stghislain.be
SUMMARY:Cinéma | C'é ancora domani (Il reste encore demain)
DESCRIPTION:1h 58min | Comédie\, DrameDe Paola Cortellesi |Par Paola Cortellesi\, Furio AndreottiAvec Paola Cortellesi\, Valerio Mastandrea\, Romana Maggiora VerganoSynopsis:Mariée à Ivano\, Delia\, mère de trois enfants\, vit à Rome dans la seconde moitié des années 40. La ville est alors partagée entre l’espoir né de la Libération et les difficultés matérielles engendrées par la guerre qui vient à peine de s’achever. Face à son mari autoritaire et violent\, Delia ne trouve du réconfort qu’auprès de son amie Marisa avec qui elle partage des moments de légèreté et des confidences intimes. Leur routine morose prend fin au printemps\, lorsque toute la famille en émoi s’apprête à célébrer les fiançailles imminentes de leur fille aînée\, Marcella. Mais l’arrivée d’une lettre mystérieuse va tout bouleverser et pousser Delia à trouver le courage d’imaginer un avenir meilleur\, et pas seulement pour elle-même.
URL:https://septem.stghislain.be/agenda/il-reste-encore-demain/2024-11-05/2/
LOCATION:Les Jardins du Cloître\, 37 Grand Place\, Saint-Ghislain\, 7330\, Belgique
CATEGORIES:Cinéma,Films,Saint-Ghislain
ATTACH;FMTTYPE=image/jpeg:https://septem.stghislain.be/wp-content/uploads/2024/06/cinema-il-reste-encore-demain-Septem-Culture_Saint_Ghislain-2024.jpg
ORGANIZER;CN="Septem":MAILTO:info@septem.stghislain.be
END:VEVENT
END:VCALENDAR