BEGIN:VCALENDAR
VERSION:2.0
PRODID:-//Septem - ECPv6.0.13.1//NONSGML v1.0//EN
CALSCALE:GREGORIAN
METHOD:PUBLISH
X-ORIGINAL-URL:https://septem.stghislain.be
X-WR-CALDESC:évènements pour Septem
REFRESH-INTERVAL;VALUE=DURATION:PT1H
X-Robots-Tag:noindex
X-PUBLISHED-TTL:PT1H
BEGIN:VTIMEZONE
TZID:Europe/Brussels
BEGIN:DAYLIGHT
TZOFFSETFROM:+0100
TZOFFSETTO:+0200
TZNAME:CEST
DTSTART:20240331T010000
END:DAYLIGHT
BEGIN:STANDARD
TZOFFSETFROM:+0200
TZOFFSETTO:+0100
TZNAME:CET
DTSTART:20241027T010000
END:STANDARD
END:VTIMEZONE
BEGIN:VEVENT
DTSTART;TZID=Europe/Brussels:20241027T160000
DTEND;TZID=Europe/Brussels:20241027T173000
DTSTAMP:20260424T142157
CREATED:20240617T082705Z
LAST-MODIFIED:20240617T082709Z
UID:10000718-1730044800-1730050200@septem.stghislain.be
SUMMARY:Ciné famille | Léo\, la fabuleuse histoire de Léonard de Vinci
DESCRIPTION:1h 37min | Aventure\, Animation\, FamilleDe Jim Capobianco\, Pierre-Luc Granjon |Par Jim CapobiancoAvec André Dussollier\, Stephen Fry\, Marion CotillardSynopsis:Bienvenue dans la Renaissance ! Une époque où artistes\, savants\, rois et reines inventent un monde nouveau. Parmi eux\, un curieux personnage passe ses journées à dessiner d’étranges machines et à explorer les idées les plus folles. Observer la lune\, voler comme un oiseau\, découvrir les secrets de la médecine… il rêve de changer le monde. Embarquez pour un voyage avec le plus grand des génies\, Léonard de Vinci !
URL:https://septem.stghislain.be/agenda/leo-la-fabuleuse-histoire/
LOCATION:Les Jardins du Cloître\, 37 Grand Place\, Saint-Ghislain\, 7330\, Belgique
CATEGORIES:Cinéma,Films,Saint-Ghislain
ATTACH;FMTTYPE=image/jpeg:https://septem.stghislain.be/wp-content/uploads/2024/06/cinema-leo-la-fabuleuse-histoire-de-Leonard-de-Vinci-Septem-Culture_Saint_Ghislain-2024.jpg
ORGANIZER;CN="Septem":MAILTO:info@septem.stghislain.be
END:VEVENT
END:VCALENDAR