BEGIN:VCALENDAR
VERSION:2.0
PRODID:-//Septem - ECPv6.0.13.1//NONSGML v1.0//EN
CALSCALE:GREGORIAN
METHOD:PUBLISH
X-WR-CALNAME:Septem
X-ORIGINAL-URL:https://septem.stghislain.be
X-WR-CALDESC:évènements pour Septem
REFRESH-INTERVAL;VALUE=DURATION:PT1H
X-Robots-Tag:noindex
X-PUBLISHED-TTL:PT1H
BEGIN:VTIMEZONE
TZID:Europe/Brussels
BEGIN:DAYLIGHT
TZOFFSETFROM:+0100
TZOFFSETTO:+0200
TZNAME:CEST
DTSTART:20240331T010000
END:DAYLIGHT
BEGIN:STANDARD
TZOFFSETFROM:+0200
TZOFFSETTO:+0100
TZNAME:CET
DTSTART:20241027T010000
END:STANDARD
END:VTIMEZONE
BEGIN:VEVENT
DTSTART;TZID=Europe/Brussels:20241203T133000
DTEND;TZID=Europe/Brussels:20241203T153000
DTSTAMP:20260424T102018
CREATED:20240617T092434Z
LAST-MODIFIED:20240617T092438Z
UID:10000726-1733232600-1733239800@septem.stghislain.be
SUMMARY:Cinema | Priscilla
DESCRIPTION:1h 53min | Biopic\, DrameDe Sofia Coppola | Par Sofia CoppolaAvec Cailee Spaeny\, Jacob Elordi\, Dagmara DominczykSynopsis:Quand Priscilla rencontre Elvis\, elle est collégienne. Lui\, à 24 ans\, est déjà une star mondiale. De leur idylle secrète à leur mariage iconique\, Sofia Coppola dresse le portrait de Priscilla\, une adolescente effacée qui lentement se réveillera de son conte de fées pour prendre sa vie en main.
URL:https://septem.stghislain.be/agenda/priscilla/2024-12-03/1/
LOCATION:Les Jardins du Cloître\, 37 Grand Place\, Saint-Ghislain\, 7330\, Belgique
CATEGORIES:Cinéma,Films,Saint-Ghislain
ATTACH;FMTTYPE=image/jpeg:https://septem.stghislain.be/wp-content/uploads/2024/06/cinema-priscilla-Septem-Culture_Saint_Ghislain-2024.jpg
ORGANIZER;CN="Septem":MAILTO:info@septem.stghislain.be
END:VEVENT
BEGIN:VEVENT
DTSTART;TZID=Europe/Brussels:20241203T193000
DTEND;TZID=Europe/Brussels:20241203T213000
DTSTAMP:20260424T102018
CREATED:20240617T092434Z
LAST-MODIFIED:20240617T092438Z
UID:10000727-1733254200-1733261400@septem.stghislain.be
SUMMARY:Cinema | Priscilla
DESCRIPTION:1h 53min | Biopic\, DrameDe Sofia Coppola | Par Sofia CoppolaAvec Cailee Spaeny\, Jacob Elordi\, Dagmara DominczykSynopsis:Quand Priscilla rencontre Elvis\, elle est collégienne. Lui\, à 24 ans\, est déjà une star mondiale. De leur idylle secrète à leur mariage iconique\, Sofia Coppola dresse le portrait de Priscilla\, une adolescente effacée qui lentement se réveillera de son conte de fées pour prendre sa vie en main.
URL:https://septem.stghislain.be/agenda/priscilla/2024-12-03/2/
LOCATION:Les Jardins du Cloître\, 37 Grand Place\, Saint-Ghislain\, 7330\, Belgique
CATEGORIES:Cinéma,Films,Saint-Ghislain
ATTACH;FMTTYPE=image/jpeg:https://septem.stghislain.be/wp-content/uploads/2024/06/cinema-priscilla-Septem-Culture_Saint_Ghislain-2024.jpg
ORGANIZER;CN="Septem":MAILTO:info@septem.stghislain.be
END:VEVENT
BEGIN:VEVENT
DTSTART;TZID=Europe/Brussels:20241215T160000
DTEND;TZID=Europe/Brussels:20241215T171500
DTSTAMP:20260424T102018
CREATED:20240618T124147Z
LAST-MODIFIED:20240618T124151Z
UID:10000752-1734278400-1734282900@septem.stghislain.be
SUMMARY:Ciné famille | Linda veut du poulet !
DESCRIPTION:1h 16min | Animation\, Comédie\, Famille \nDe Chiara Malta\, Sébastien Laudenbach | Par Chiara Malta\, Sébastien Laudenbach \nAvec Mélinée Leclerc\, Clotilde Hesme\, Laetitia Dosch \nSynospis:Non\, ce n’est pas Linda qui a pris la bague de sa mère Paulette ! Cette punition est parfaitement injuste !… Et maintenant Paulette ferait tout pour se faire pardonner\, même un poulet aux poivrons\, elle qui ne sait pas cuisiner. Mais comment trouver un poulet un jour de grève générale ?… De poulailler en camion de pastèques\, de flicaille zélée en routier allergique\, de mémé en inondation\, Paulette et sa fille partiront en quête du poulet\, entraînant toute la « bande à Linda » et finalement tout le quartier. Mais Linda ne sait pas que ce poulet\, jadis si bien cuisiné par son père\, est la clef de son souvenir perdu… Au fait\, quelqu’un sait tuer un poulet ?…
URL:https://septem.stghislain.be/agenda/linda-veut-du-poulet/
LOCATION:Les Jardins du Cloître\, 37 Grand Place\, Saint-Ghislain\, 7330\, Belgique
CATEGORIES:Ciné Famille,Cinéma,Films,Saint-Ghislain
ATTACH;FMTTYPE=image/jpeg:https://septem.stghislain.be/wp-content/uploads/2024/06/cinema-linda-veut-du-poulet-Septem-Culture_Saint_Ghislain-2024.jpg
ORGANIZER;CN="Septem":MAILTO:info@septem.stghislain.be
END:VEVENT
BEGIN:VEVENT
DTSTART;TZID=Europe/Brussels:20241217T133000
DTEND;TZID=Europe/Brussels:20241217T150000
DTSTAMP:20260424T102019
CREATED:20240617T102127Z
LAST-MODIFIED:20240617T102131Z
UID:10000729-1734442200-1734447600@septem.stghislain.be
SUMMARY:Cinéma | Le Ravissement
DESCRIPTION:Drame/Fiction ‧ 1h 37m \nSynopsis: \nLe jour où Lydia recroise Milos\, une conquête d’un soir\, alors qu’elle tient le bébé de son amie Salomé dans les bras\, elle s’enfonce dans un mensonge\, au risque de tout perdre.
URL:https://septem.stghislain.be/agenda/le-ravissement/2024-12-17/1/
LOCATION:Les Jardins du Cloître\, 37 Grand Place\, Saint-Ghislain\, 7330\, Belgique
CATEGORIES:Cinéma,Films,Saint-Ghislain
ATTACH;FMTTYPE=image/jpeg:https://septem.stghislain.be/wp-content/uploads/2024/06/cinema-le-ravissement-Septem-Culture_Saint_Ghislain-2024.jpg
ORGANIZER;CN="Septem":MAILTO:info@septem.stghislain.be
END:VEVENT
BEGIN:VEVENT
DTSTART;TZID=Europe/Brussels:20241217T193000
DTEND;TZID=Europe/Brussels:20241217T210000
DTSTAMP:20260424T102019
CREATED:20240617T102127Z
LAST-MODIFIED:20240617T102131Z
UID:10000730-1734463800-1734469200@septem.stghislain.be
SUMMARY:Cinéma | Le Ravissement
DESCRIPTION:Drame/Fiction ‧ 1h 37m \nSynopsis: \nLe jour où Lydia recroise Milos\, une conquête d’un soir\, alors qu’elle tient le bébé de son amie Salomé dans les bras\, elle s’enfonce dans un mensonge\, au risque de tout perdre.
URL:https://septem.stghislain.be/agenda/le-ravissement/2024-12-17/2/
LOCATION:Les Jardins du Cloître\, 37 Grand Place\, Saint-Ghislain\, 7330\, Belgique
CATEGORIES:Cinéma,Films,Saint-Ghislain
ATTACH;FMTTYPE=image/jpeg:https://septem.stghislain.be/wp-content/uploads/2024/06/cinema-le-ravissement-Septem-Culture_Saint_Ghislain-2024.jpg
ORGANIZER;CN="Septem":MAILTO:info@septem.stghislain.be
END:VEVENT
END:VCALENDAR