BEGIN:VCALENDAR
VERSION:2.0
PRODID:-//Septem - ECPv6.0.13.1//NONSGML v1.0//EN
CALSCALE:GREGORIAN
METHOD:PUBLISH
X-ORIGINAL-URL:https://septem.stghislain.be
X-WR-CALDESC:évènements pour Septem
REFRESH-INTERVAL;VALUE=DURATION:PT1H
X-Robots-Tag:noindex
X-PUBLISHED-TTL:PT1H
BEGIN:VTIMEZONE
TZID:Europe/Brussels
BEGIN:DAYLIGHT
TZOFFSETFROM:+0100
TZOFFSETTO:+0200
TZNAME:CEST
DTSTART:20240331T010000
END:DAYLIGHT
BEGIN:STANDARD
TZOFFSETFROM:+0200
TZOFFSETTO:+0100
TZNAME:CET
DTSTART:20241027T010000
END:STANDARD
END:VTIMEZONE
BEGIN:VEVENT
DTSTART;TZID=Europe/Brussels:20240407T160000
DTEND;TZID=Europe/Brussels:20240407T173000
DTSTAMP:20260424T210303
CREATED:20231211T111650Z
LAST-MODIFIED:20231211T111654Z
UID:10000451-1712505600-1712511000@septem.stghislain.be
SUMMARY:Ciné-famille | La petite sirène
DESCRIPTION:Ariel est une jeune sirène belle et fougueuse dotée d’un tempérament d’aventurière. Rebelle dans l’âme\, elle n’a de cesse d’être attirée par le monde qui existe par-delà les flots. Au détour de ses escapades à la surface\, elle va tomber sous le charme du prince Eric.
URL:https://septem.stghislain.be/agenda/la-petite-sirene/
LOCATION:Les Jardins du Cloître\, 37 Grand Place\, Saint-Ghislain\, 7330\, Belgique
CATEGORIES:Ciné Famille,Cinéma,Films,Saint-Ghislain
ATTACH;FMTTYPE=image/jpeg:https://septem.stghislain.be/wp-content/uploads/2023/12/cinema-la-petite-sirene-Septem-Culture_Saint_Ghislain-2024.jpg
ORGANIZER;CN="Septem":MAILTO:info@septem.stghislain.be
END:VEVENT
BEGIN:VEVENT
DTSTART;TZID=Europe/Brussels:20240423T133000
DTEND;TZID=Europe/Brussels:20240423T150000
DTSTAMP:20260424T210303
CREATED:20231211T112635Z
LAST-MODIFIED:20231211T112802Z
UID:10000454-1713879000-1713884400@septem.stghislain.be
SUMMARY:Cinéma | L'amour et les forêts
DESCRIPTION:Quand Blanche croise le chemin de Gregoire\, elle pense rencontrer celui qu’elle cherche. Les liens qui les unissent se tissent rapidement et leur histoire se construit dans l’emportement. Le couple déménage\, Blanche s’éloigne de sa famille\, de sa sœur jumelle\, s’ouvre à une nouvelle vie. Mais fil après fil\, elle se retrouve sous l’emprise d’un homme possessif et dangereux.
URL:https://septem.stghislain.be/agenda/l-amour-et-les-forets-2/2024-04-23/1/
LOCATION:Les Jardins du Cloître\, 37 Grand Place\, Saint-Ghislain\, 7330\, Belgique
CATEGORIES:Cinéma,Films,Saint-Ghislain
ATTACH;FMTTYPE=image/jpeg:https://septem.stghislain.be/wp-content/uploads/2023/12/cinema-l-amour-et-les-forets-Septem-Culture_Saint_Ghislain-2024.jpg
ORGANIZER;CN="Septem":MAILTO:info@septem.stghislain.be
END:VEVENT
BEGIN:VEVENT
DTSTART;TZID=Europe/Brussels:20240423T193000
DTEND;TZID=Europe/Brussels:20240423T210000
DTSTAMP:20260424T210304
CREATED:20231211T112635Z
LAST-MODIFIED:20231211T112802Z
UID:10000459-1713900600-1713906000@septem.stghislain.be
SUMMARY:Cinéma | L'amour et les forêts
DESCRIPTION:Quand Blanche croise le chemin de Gregoire\, elle pense rencontrer celui qu’elle cherche. Les liens qui les unissent se tissent rapidement et leur histoire se construit dans l’emportement. Le couple déménage\, Blanche s’éloigne de sa famille\, de sa sœur jumelle\, s’ouvre à une nouvelle vie. Mais fil après fil\, elle se retrouve sous l’emprise d’un homme possessif et dangereux.
URL:https://septem.stghislain.be/agenda/l-amour-et-les-forets-2/2024-04-23/2/
LOCATION:Les Jardins du Cloître\, 37 Grand Place\, Saint-Ghislain\, 7330\, Belgique
CATEGORIES:Cinéma,Films,Saint-Ghislain
ATTACH;FMTTYPE=image/jpeg:https://septem.stghislain.be/wp-content/uploads/2023/12/cinema-l-amour-et-les-forets-Septem-Culture_Saint_Ghislain-2024.jpg
ORGANIZER;CN="Septem":MAILTO:info@septem.stghislain.be
END:VEVENT
END:VCALENDAR