BEGIN:VCALENDAR
VERSION:2.0
PRODID:-//Septem - ECPv6.0.13.1//NONSGML v1.0//EN
CALSCALE:GREGORIAN
METHOD:PUBLISH
X-ORIGINAL-URL:https://septem.stghislain.be
X-WR-CALDESC:évènements pour Septem
REFRESH-INTERVAL;VALUE=DURATION:PT1H
X-Robots-Tag:noindex
X-PUBLISHED-TTL:PT1H
BEGIN:VTIMEZONE
TZID:Europe/Brussels
BEGIN:DAYLIGHT
TZOFFSETFROM:+0100
TZOFFSETTO:+0200
TZNAME:CEST
DTSTART:20240331T010000
END:DAYLIGHT
BEGIN:STANDARD
TZOFFSETFROM:+0200
TZOFFSETTO:+0100
TZNAME:CET
DTSTART:20241027T010000
END:STANDARD
END:VTIMEZONE
BEGIN:VEVENT
DTSTART;TZID=Europe/Brussels:20240305T133000
DTEND;TZID=Europe/Brussels:20240305T150000
DTSTAMP:20260424T221606
CREATED:20231211T111153Z
LAST-MODIFIED:20231211T111153Z
UID:10000449-1709645400-1709650800@septem.stghislain.be
SUMMARY:Cinema | Last dance
DESCRIPTION:Retraité contemplatif\, Germain se retrouve soudainement veuf à 75 ans. Il n’a même pas le temps de souffler que sa famille s’immisce dans son quotidien : visites et appels incessants\, repas organisés à l’avance… Sa vie devient réglée comme une montre suisse ! Mais Germain a l’esprit ailleurs. Honorant une promesse faite à son épouse\, il est propulsé au coeur d’une création de danse contemporaine…
URL:https://septem.stghislain.be/agenda/cinema-last-dance/2024-03-05/1/
LOCATION:Les Jardins du Cloître\, 37 Grand Place\, Saint-Ghislain\, 7330\, Belgique
CATEGORIES:Cinéma,Films,Saint-Ghislain
ATTACH;FMTTYPE=image/jpeg:https://septem.stghislain.be/wp-content/uploads/2023/12/cinema-last-dance-Septem-Culture_Saint_Ghislain-2024.jpg
ORGANIZER;CN="Septem":MAILTO:info@septem.stghislain.be
END:VEVENT
BEGIN:VEVENT
DTSTART;TZID=Europe/Brussels:20240305T193000
DTEND;TZID=Europe/Brussels:20240305T210000
DTSTAMP:20260424T221606
CREATED:20231211T111153Z
LAST-MODIFIED:20231211T111153Z
UID:10000450-1709667000-1709672400@septem.stghislain.be
SUMMARY:Cinema | Last dance
DESCRIPTION:Retraité contemplatif\, Germain se retrouve soudainement veuf à 75 ans. Il n’a même pas le temps de souffler que sa famille s’immisce dans son quotidien : visites et appels incessants\, repas organisés à l’avance… Sa vie devient réglée comme une montre suisse ! Mais Germain a l’esprit ailleurs. Honorant une promesse faite à son épouse\, il est propulsé au coeur d’une création de danse contemporaine…
URL:https://septem.stghislain.be/agenda/cinema-last-dance/2024-03-05/2/
LOCATION:Les Jardins du Cloître\, 37 Grand Place\, Saint-Ghislain\, 7330\, Belgique
CATEGORIES:Cinéma,Films,Saint-Ghislain
ATTACH;FMTTYPE=image/jpeg:https://septem.stghislain.be/wp-content/uploads/2023/12/cinema-last-dance-Septem-Culture_Saint_Ghislain-2024.jpg
ORGANIZER;CN="Septem":MAILTO:info@septem.stghislain.be
END:VEVENT
BEGIN:VEVENT
DTSTART;TZID=Europe/Brussels:20240326T133000
DTEND;TZID=Europe/Brussels:20240326T150000
DTSTAMP:20260424T221606
CREATED:20231114T093556Z
LAST-MODIFIED:20231114T093936Z
UID:10000412-1711459800-1711465200@septem.stghislain.be
SUMMARY:Cinéma | Je verrai toujours vos visages
DESCRIPTION:De Jeanne Henry\, avec Birane \nBa\,Leila Bekhti\, Elodie Bouchez\, Adèle Exarchopoulos \nDrame de société – 118 minutes. \n\nJeanne Herry s’attache à la « justice restaurative »\, c’est-à-dire une pratique permettant de faire dialoguer la victime d’une infraction\, avec l’auteur d’un crime semblable. Cela permet à l’une de se libérer de maux jusqu’alors inexprimés à l’autre\, de préparer une possible réinsertion. Les dialogues sont durs\, intenses\, émouvants et les images pleines d’attention voire de compassion. Le spectateur-témoin ne peut rester insensible.
URL:https://septem.stghislain.be/agenda/je-verrai-toujours-vos-visages/2024-03-26/1/
LOCATION:Les Jardins du Cloître\, 37 Grand Place\, Saint-Ghislain\, 7330\, Belgique
CATEGORIES:Cinéma,Films,Saint-Ghislain
ATTACH;FMTTYPE=image/jpeg:https://septem.stghislain.be/wp-content/uploads/2023/11/cinema-je-verrai-toujours-vos-visages-Septem-Culture_Saint_Ghislain-2024.jpg
ORGANIZER;CN="Septem":MAILTO:info@septem.stghislain.be
END:VEVENT
BEGIN:VEVENT
DTSTART;TZID=Europe/Brussels:20240326T193000
DTEND;TZID=Europe/Brussels:20240326T210000
DTSTAMP:20260424T221607
CREATED:20231114T093556Z
LAST-MODIFIED:20231114T093936Z
UID:10000413-1711481400-1711486800@septem.stghislain.be
SUMMARY:Cinéma | Je verrai toujours vos visages
DESCRIPTION:De Jeanne Henry\, avec Birane \nBa\,Leila Bekhti\, Elodie Bouchez\, Adèle Exarchopoulos \nDrame de société – 118 minutes. \n\nJeanne Herry s’attache à la « justice restaurative »\, c’est-à-dire une pratique permettant de faire dialoguer la victime d’une infraction\, avec l’auteur d’un crime semblable. Cela permet à l’une de se libérer de maux jusqu’alors inexprimés à l’autre\, de préparer une possible réinsertion. Les dialogues sont durs\, intenses\, émouvants et les images pleines d’attention voire de compassion. Le spectateur-témoin ne peut rester insensible.
URL:https://septem.stghislain.be/agenda/je-verrai-toujours-vos-visages/2024-03-26/2/
LOCATION:Les Jardins du Cloître\, 37 Grand Place\, Saint-Ghislain\, 7330\, Belgique
CATEGORIES:Cinéma,Films,Saint-Ghislain
ATTACH;FMTTYPE=image/jpeg:https://septem.stghislain.be/wp-content/uploads/2023/11/cinema-je-verrai-toujours-vos-visages-Septem-Culture_Saint_Ghislain-2024.jpg
ORGANIZER;CN="Septem":MAILTO:info@septem.stghislain.be
END:VEVENT
END:VCALENDAR