BEGIN:VCALENDAR
VERSION:2.0
PRODID:-//Septem - ECPv6.0.13.1//NONSGML v1.0//EN
CALSCALE:GREGORIAN
METHOD:PUBLISH
X-ORIGINAL-URL:https://septem.stghislain.be
X-WR-CALDESC:évènements pour Septem
REFRESH-INTERVAL;VALUE=DURATION:PT1H
X-Robots-Tag:noindex
X-PUBLISHED-TTL:PT1H
BEGIN:VTIMEZONE
TZID:Europe/Brussels
BEGIN:DAYLIGHT
TZOFFSETFROM:+0100
TZOFFSETTO:+0200
TZNAME:CEST
DTSTART:20240331T010000
END:DAYLIGHT
BEGIN:STANDARD
TZOFFSETFROM:+0200
TZOFFSETTO:+0100
TZNAME:CET
DTSTART:20241027T010000
END:STANDARD
END:VTIMEZONE
BEGIN:VEVENT
DTSTART;TZID=Europe/Brussels:20240109T133000
DTEND;TZID=Europe/Brussels:20240109T150000
DTSTAMP:20260425T010431
CREATED:20231103T090627Z
LAST-MODIFIED:20231103T091205Z
UID:10000377-1704807000-1704812400@septem.stghislain.be
SUMMARY:Cinéma | L'innocent | Louis Garrel
DESCRIPTION:Quand Abel apprend que sa mère Sylvie\, la soixantaine\, est sur le point de se marier avec un homme en prison\, il panique. Épaulé par Clémence\, sa meilleure amie\, il va tout faire pour essayer de la protéger. \nMais la rencontre avec Michel\, son nouveau beau-père\, pourrait bien offrir à Abel de nouvelles perspectives…
URL:https://septem.stghislain.be/agenda/l-innocent-louis-garrel/2024-01-09/1/
LOCATION:Les Jardins du Cloître\, 37 Grand Place\, Saint-Ghislain\, 7330\, Belgique
CATEGORIES:Ciné Famille,Cinéma,Films,Saint-Ghislain
ATTACH;FMTTYPE=image/jpeg:https://septem.stghislain.be/wp-content/uploads/2023/11/L-innocent-Louis-Garrel-Septem-Culture_Saint_Ghislain-2023.jpg
ORGANIZER;CN="Septem":MAILTO:info@septem.stghislain.be
END:VEVENT
BEGIN:VEVENT
DTSTART;TZID=Europe/Brussels:20240109T193000
DTEND;TZID=Europe/Brussels:20240109T210000
DTSTAMP:20260425T010431
CREATED:20231103T090627Z
LAST-MODIFIED:20231103T091205Z
UID:10000378-1704828600-1704834000@septem.stghislain.be
SUMMARY:Cinéma | L'innocent | Louis Garrel
DESCRIPTION:Quand Abel apprend que sa mère Sylvie\, la soixantaine\, est sur le point de se marier avec un homme en prison\, il panique. Épaulé par Clémence\, sa meilleure amie\, il va tout faire pour essayer de la protéger. \nMais la rencontre avec Michel\, son nouveau beau-père\, pourrait bien offrir à Abel de nouvelles perspectives…
URL:https://septem.stghislain.be/agenda/l-innocent-louis-garrel/2024-01-09/2/
LOCATION:Les Jardins du Cloître\, 37 Grand Place\, Saint-Ghislain\, 7330\, Belgique
CATEGORIES:Ciné Famille,Cinéma,Films,Saint-Ghislain
ATTACH;FMTTYPE=image/jpeg:https://septem.stghislain.be/wp-content/uploads/2023/11/L-innocent-Louis-Garrel-Septem-Culture_Saint_Ghislain-2023.jpg
ORGANIZER;CN="Septem":MAILTO:info@septem.stghislain.be
END:VEVENT
BEGIN:VEVENT
DTSTART;TZID=Europe/Brussels:20240122T193000
DTEND;TZID=Europe/Brussels:20240122T210000
DTSTAMP:20260425T010431
CREATED:20230914T145326Z
LAST-MODIFIED:20240112T095054Z
UID:10000446-1705951800-1705957200@septem.stghislain.be
SUMMARY:Cinéma | Jeanne du Barry
DESCRIPTION:Jeanne Vaubernier\, fille du peuple avide de s’élever socialement\, met à profit ses charmes pour sortir de sa condition. \nSon amant le comte Du Barry\, qui s’enrichit largement grâce aux galanteries lucratives de Jeanne\, souhaite la présenter au Roi. \nIl organise la rencontre via l’entremise de l’influent duc de Richelieu. Celle-ci dépasse ses attentes : entre Louis XV et Jeanne\, c’est le coup de foudre… \nAvec la courtisane\, le Roi retrouve le goût de vivre – à tel point qu’il ne peut plus se passer d’elle et décide d’en faire sa favorite officielle. Scandale : personne ne veut d’une fille des rues à la Cour.
URL:https://septem.stghislain.be/agenda/jeanne-du-barry/
LOCATION:Les Jardins du Cloître\, 37 Grand Place\, Saint-Ghislain\, 7330\, Belgique
CATEGORIES:Ciné Famille,Cinéma,Films,Projections,Saint-Ghislain
ATTACH;FMTTYPE=image/jpeg:https://septem.stghislain.be/wp-content/uploads/2023/09/jeanne-du-barry-Culture_Saint_Ghislain-2023.jpg
ORGANIZER;CN="Septem":MAILTO:info@septem.stghislain.be
END:VEVENT
END:VCALENDAR