BEGIN:VCALENDAR
VERSION:2.0
PRODID:-//Septem - ECPv6.0.13.1//NONSGML v1.0//EN
CALSCALE:GREGORIAN
METHOD:PUBLISH
X-ORIGINAL-URL:https://septem.stghislain.be
X-WR-CALDESC:évènements pour Septem
REFRESH-INTERVAL;VALUE=DURATION:PT1H
X-Robots-Tag:noindex
X-PUBLISHED-TTL:PT1H
BEGIN:VTIMEZONE
TZID:Europe/Brussels
BEGIN:DAYLIGHT
TZOFFSETFROM:+0100
TZOFFSETTO:+0200
TZNAME:CEST
DTSTART:20230326T010000
END:DAYLIGHT
BEGIN:STANDARD
TZOFFSETFROM:+0200
TZOFFSETTO:+0100
TZNAME:CET
DTSTART:20231029T010000
END:STANDARD
END:VTIMEZONE
BEGIN:VEVENT
DTSTART;TZID=Europe/Brussels:20231114T193000
DTEND;TZID=Europe/Brussels:20231114T210000
DTSTAMP:20260425T042710
CREATED:20230822T160822Z
LAST-MODIFIED:20231010T215908Z
UID:10000261-1699990200-1699995600@septem.stghislain.be
SUMMARY:CINEMA | Retour à Séoul | De Davy Chou - 2023
DESCRIPTION:Drame – 1h59 min\nAvec Park Ji-min (II)\, Oh Kwang-rok\, Guka Han \nFreddie\, une jeune Française de 25 ans\, arrive à Séoul\, en Corée du Sud\, où elle fut adoptée bébé\, et tente de retrouver ses parents biologiques.\nEn traitant du thème de l’adoption et de ses conséquences existentielles\, le cinéaste d’origine cambodgienne Davy Chou réalise un très beau portrait de femme\, personnage complexe et déroutant porté par l’étonnante et magnétique comédienne Park Ji-Min
URL:https://septem.stghislain.be/agenda/retour-a-seoul/
LOCATION:Les Jardins du Cloître\, 37 Grand Place\, Saint-Ghislain\, 7330\, Belgique
CATEGORIES:Ciné Famille,Cinéma,Films,Projections,Saint-Ghislain
ATTACH;FMTTYPE=image/jpeg:https://septem.stghislain.be/wp-content/uploads/2023/07/cinema_retour_a_seoul-Septem-Culture_Saint_Ghislain-2023.jpg
ORGANIZER;CN="Septem":MAILTO:info@septem.stghislain.be
END:VEVENT
BEGIN:VEVENT
DTSTART;TZID=Europe/Brussels:20231126T160000
DTEND;TZID=Europe/Brussels:20231126T173000
DTSTAMP:20260425T042710
CREATED:20230822T164542Z
LAST-MODIFIED:20231010T215839Z
UID:10000286-1701014400-1701019800@septem.stghislain.be
SUMMARY:Cinéma | Tempête
DESCRIPTION:Un film familial dont l’histoire se situe dans le milieu équestre\, tiré d’un roman pour enfants << Tempête au haras » de Christophe Donner.\nChristian Duguay qui avait déjà réalisé « Jappeloup » sur le même thème\, sensibilise le jeune public au bien être animal\, lui donne le goût de l’équitation et lui transmet un très beau message sur le dépassement de soi à travers sa jeune championne qui doit vaincre un handicap physique.
URL:https://septem.stghislain.be/agenda/cinema-tempete/
LOCATION:Les Jardins du Cloître\, 37 Grand Place\, Saint-Ghislain\, 7330\, Belgique
CATEGORIES:Cinéma,Films,Projections,Saint-Ghislain
ATTACH;FMTTYPE=image/jpeg:https://septem.stghislain.be/wp-content/uploads/2023/08/cinema_tempete-Septem-Culture_Saint_Ghislain-2023.jpg
ORGANIZER;CN="Septem":MAILTO:info@septem.stghislain.be
END:VEVENT
BEGIN:VEVENT
DTSTART;TZID=Europe/Brussels:20231127T193000
DTEND;TZID=Europe/Brussels:20231127T210000
DTSTAMP:20260425T042710
CREATED:20230822T162854Z
LAST-MODIFIED:20231010T215839Z
UID:10000281-1701113400-1701118800@septem.stghislain.be
SUMMARY:Cinema | Dalva
DESCRIPTION:Dalva\, 12 ans\, est arrachée à son père par la police et placée dans un foyer. Longtemps sous emprise dans une relation incestueuse\, elle n’a que sa colère pour s’exprimer. Entièrement conçu du point de vue de sa jeune héroïne d’abord en plein déni\, « Dalva >> est un film tout en finesse et plein d’humanité\, sur les étapes de la reconstruction d’une adolescente. Le premier long métrage de la belge Emmanuelle Nicot.
URL:https://septem.stghislain.be/agenda/cinema-dalva/
LOCATION:Les Jardins du Cloître\, 37 Grand Place\, Saint-Ghislain\, 7330\, Belgique
CATEGORIES:Ciné Famille,Cinéma,Films,Projections,Saint-Ghislain
ATTACH;FMTTYPE=image/jpeg:https://septem.stghislain.be/wp-content/uploads/2023/08/cinema_dalva-Septem-Culture_Saint_Ghislain-2023.jpg
ORGANIZER;CN="Septem":MAILTO:info@septem.stghislain.be
END:VEVENT
END:VCALENDAR