BEGIN:VCALENDAR
VERSION:2.0
PRODID:-//Septem - ECPv6.0.13.1//NONSGML v1.0//EN
CALSCALE:GREGORIAN
METHOD:PUBLISH
X-WR-CALNAME:Septem
X-ORIGINAL-URL:https://septem.stghislain.be
X-WR-CALDESC:évènements pour Septem
REFRESH-INTERVAL;VALUE=DURATION:PT1H
X-Robots-Tag:noindex
X-PUBLISHED-TTL:PT1H
BEGIN:VTIMEZONE
TZID:Europe/Brussels
BEGIN:DAYLIGHT
TZOFFSETFROM:+0100
TZOFFSETTO:+0200
TZNAME:CEST
DTSTART:20260329T010000
END:DAYLIGHT
BEGIN:STANDARD
TZOFFSETFROM:+0200
TZOFFSETTO:+0100
TZNAME:CET
DTSTART:20261025T010000
END:STANDARD
END:VTIMEZONE
BEGIN:VEVENT
DTSTART;TZID=Europe/Brussels:20260422T140000
DTEND;TZID=Europe/Brussels:20260422T170000
DTSTAMP:20260422T131433
CREATED:20260220T145308Z
LAST-MODIFIED:20260409T182021Z
UID:10001291-1776866400-1776877200@septem.stghislain.be
SUMMARY:CoderDojo | Apprendre le codage pour les 7 - 18 ans | Gratuit
DESCRIPTION:👾 𝗘𝗻𝘃𝗶𝗲 𝗱𝗲 𝗽𝗹𝗼𝗻𝗴𝗲𝗿 𝗱𝗮𝗻𝘀 𝗹’𝘂𝗻𝗶𝘃𝗲𝗿𝘀 𝗱𝘂 𝗰𝗼𝗱𝗮𝗴𝗲 ? 👩‍💻👨‍💻\nTu as entre 7 et 18 ans ? Rejoins-nous gratuitement pour un atelier de codage en partenariat avec 𝗖𝗼𝗱𝗲𝗿𝗗𝗼𝗷𝗼 :\n⏰ 𝗗𝗲 𝟭𝟰𝗵 𝗮̀ 𝟭𝟳𝗵\n📍 Sur place\, avec des ordinateurs disponibles (ou apporte ton propre matériel : laptop ou tablette).\nApprends à :\n– Programmer\, Coder 🤖\n– Créer des sites web 🌐\n– Développer des applications et des jeux 📱🎮\n💡 𝗠𝗮𝗶𝘀 𝗮𝘂 𝗳𝗮𝗶𝘁\, 𝗖𝗼𝗱𝗲𝗿𝗗𝗼𝗷𝗼\, 𝗰’𝗲𝘀𝘁 𝗾𝘂𝗼𝗶 ?\nCoderDojo\, c’est une organisation qui propose des sessions de codage gratuites pour 𝗹𝗲𝘀 𝗳𝗶𝗹𝗹𝗲𝘀 𝗲𝘁 𝗹𝗲𝘀 𝗴𝗮𝗿𝗰̧𝗼𝗻𝘀 𝗱𝗲 𝟳 𝗮̀ 𝟭𝟴 𝗮𝗻𝘀. Ces ateliers\, appelés Dojos\, sont encadrés par des 𝗯𝗲́𝗻𝗲́𝘃𝗼𝗹𝗲𝘀 passionnés qui stimulent l’imagination et la créativité des jeunes Ninjas dans le monde numérique. 🦸‍♀️🦸‍♂️\n📲 Inscris-toi vite et viens coder avec nous ! ✨
URL:https://septem.stghislain.be/agenda/coderdojo-apprendre-le-codage-pour-les-7-18-ans-gratuit-4/
LOCATION:Les Jardins du Cloître\, 37 Grand Place\, Saint-Ghislain\, 7330\, Belgique
CATEGORIES:Ateliers,EPN,Saint-Ghislain
ATTACH;FMTTYPE=image/jpeg:https://septem.stghislain.be/wp-content/uploads/2025/05/EPN-atelier-codage-coder-dojo-septem-culture-2026.jpg
ORGANIZER;CN="Septem":MAILTO:info@septem.stghislain.be
END:VEVENT
BEGIN:VEVENT
DTSTART;TZID=Europe/Brussels:20260422T140000
DTEND;TZID=Europe/Brussels:20260422T170000
DTSTAMP:20260422T131433
CREATED:20260312T074427Z
LAST-MODIFIED:20260409T181738Z
UID:10001305-1776866400-1776877200@septem.stghislain.be
SUMMARY:CoderDojo | Apprendre le codage pour les 7 - 18 ans | Gratuit
DESCRIPTION:👾 𝗘𝗻𝘃𝗶𝗲 𝗱𝗲 𝗽𝗹𝗼𝗻𝗴𝗲𝗿 𝗱𝗮𝗻𝘀 𝗹’𝘂𝗻𝗶𝘃𝗲𝗿𝘀 𝗱𝘂 𝗰𝗼𝗱𝗮𝗴𝗲 ? 👩‍💻👨‍💻\nTu as entre 7 et 18 ans ? Rejoins-nous gratuitement pour un atelier de codage en partenariat avec 𝗖𝗼𝗱𝗲𝗿𝗗𝗼𝗷𝗼 :\n⏰ 𝗗𝗲 𝟭𝟰𝗵 𝗮̀ 𝟭𝟳𝗵\n📍 Sur place\, avec des ordinateurs disponibles (ou apporte ton propre matériel : laptop ou tablette).\nApprends à :\n– Programmer\, Coder 🤖\n– Créer des sites web 🌐\n– Développer des applications et des jeux 📱🎮\n💡 𝗠𝗮𝗶𝘀 𝗮𝘂 𝗳𝗮𝗶𝘁\, 𝗖𝗼𝗱𝗲𝗿𝗗𝗼𝗷𝗼\, 𝗰’𝗲𝘀𝘁 𝗾𝘂𝗼𝗶 ?\nCoderDojo\, c’est une organisation qui propose des sessions de codage gratuites pour 𝗹𝗲𝘀 𝗳𝗶𝗹𝗹𝗲𝘀 𝗲𝘁 𝗹𝗲𝘀 𝗴𝗮𝗿𝗰̧𝗼𝗻𝘀 𝗱𝗲 𝟳 𝗮̀ 𝟭𝟴 𝗮𝗻𝘀. Ces ateliers\, appelés Dojos\, sont encadrés par des 𝗯𝗲́𝗻𝗲́𝘃𝗼𝗹𝗲𝘀 passionnés qui stimulent l’imagination et la créativité des jeunes Ninjas dans le monde numérique. 🦸‍♀️🦸‍♂️\n📲 Inscris-toi vite et viens coder avec nous ! ✨
URL:https://septem.stghislain.be/agenda/coderdojo-apprendre-le-codage-pour-les-7-18-ans-gratuit-5/
LOCATION:Les Jardins du Cloître\, 37 Grand Place\, Saint-Ghislain\, 7330\, Belgique
CATEGORIES:Ateliers,EPN,Saint-Ghislain
ATTACH;FMTTYPE=image/jpeg:https://septem.stghislain.be/wp-content/uploads/2025/05/EPN-atelier-codage-coder-dojo-septem-culture-2026.jpg
ORGANIZER;CN="Septem":MAILTO:info@septem.stghislain.be
END:VEVENT
END:VCALENDAR