BEGIN:VCALENDAR
VERSION:2.0
PRODID:-//Septem - ECPv6.0.13.1//NONSGML v1.0//EN
CALSCALE:GREGORIAN
METHOD:PUBLISH
X-WR-CALNAME:Septem
X-ORIGINAL-URL:https://septem.stghislain.be
X-WR-CALDESC:évènements pour Septem
REFRESH-INTERVAL;VALUE=DURATION:PT1H
X-Robots-Tag:noindex
X-PUBLISHED-TTL:PT1H
BEGIN:VTIMEZONE
TZID:Europe/Brussels
BEGIN:DAYLIGHT
TZOFFSETFROM:+0100
TZOFFSETTO:+0200
TZNAME:CEST
DTSTART:20260329T010000
END:DAYLIGHT
BEGIN:STANDARD
TZOFFSETFROM:+0200
TZOFFSETTO:+0100
TZNAME:CET
DTSTART:20261025T010000
END:STANDARD
END:VTIMEZONE
BEGIN:VEVENT
DTSTART;TZID=Europe/Brussels:20260207T200000
DTEND;TZID=Europe/Brussels:20260207T213000
DTSTAMP:20260422T174351
CREATED:20260115T084753Z
LAST-MODIFIED:20260115T084758Z
UID:10001287-1770494400-1770499800@septem.stghislain.be
SUMMARY:GLOR.I.A. : L'Intelligence Artificielle défie l'improvisation théâtrale !
DESCRIPTION:L’IA est-elle plus créative que l’humain ? Venez le découvrir !\nGLOR.I.A. : L’Intelligence Artificielle défie l’improvisation théâtrale !\nLa Bande à p’Art présente un NOUVEAU CONCEPT D’IMPROVISATION THÉÂTRALE UNIQUE où les jouteurs devront se surpasser face à la machine !\nLes jouteurs seront-ils plus créatifs que GLOR.I.A. ?\nPréparez-vous à une soirée de rires\, de défis et de créativité inattendue ! C’est le match du siècle entre l’humain et l’algorithme !\nPRIX ? 8€ en prévente (ou 10€ sur place)\nUn événement en coproduction avec Septem  \nPartagez l’événement et identifiez les amis qui devront relever le défi avec vous !
URL:https://septem.stghislain.be/agenda/glori-a/
LOCATION:Les Jardins du Cloître\, 37 Grand Place\, Saint-Ghislain\, 7330\, Belgique
CATEGORIES:Saint-Ghislain,Théâtre
ATTACH;FMTTYPE=image/jpeg:https://septem.stghislain.be/wp-content/uploads/2026/01/Septem-culture-impro-saint-ghislain-2026-Glori.a.jpg
ORGANIZER;CN="Septem":MAILTO:info@septem.stghislain.be
END:VEVENT
END:VCALENDAR