BEGIN:VCALENDAR
VERSION:2.0
PRODID:-//Septem - ECPv6.0.13.1//NONSGML v1.0//EN
CALSCALE:GREGORIAN
METHOD:PUBLISH
X-WR-CALNAME:Septem
X-ORIGINAL-URL:https://septem.stghislain.be
X-WR-CALDESC:évènements pour Septem
REFRESH-INTERVAL;VALUE=DURATION:PT1H
X-Robots-Tag:noindex
X-PUBLISHED-TTL:PT1H
BEGIN:VTIMEZONE
TZID:Europe/Brussels
BEGIN:DAYLIGHT
TZOFFSETFROM:+0100
TZOFFSETTO:+0200
TZNAME:CEST
DTSTART:20260329T010000
END:DAYLIGHT
BEGIN:STANDARD
TZOFFSETFROM:+0200
TZOFFSETTO:+0100
TZNAME:CET
DTSTART:20261025T010000
END:STANDARD
END:VTIMEZONE
BEGIN:VEVENT
DTSTART;TZID=Europe/Brussels:20260122T200000
DTEND;TZID=Europe/Brussels:20260122T213000
DTSTAMP:20260422T191333
CREATED:20260107T133935Z
LAST-MODIFIED:20260107T133939Z
UID:10001276-1769112000-1769117400@septem.stghislain.be
SUMMARY:Conférence | Vue au travers de trois destins\, l'immigration polonaise en Belgique.
DESCRIPTION:Cercle d’Histoire et d’Archéologie de Saint-Ghislain et de la région \nUne conférence proposée par Sébastien JURA. \n 
URL:https://septem.stghislain.be/agenda/conference-immigration-polonaise/
LOCATION:Les Jardins du Cloître\, 37 Grand Place\, Saint-Ghislain\, 7330\, Belgique
CATEGORIES:Conférences,Saint-Ghislain
ATTACH;FMTTYPE=image/jpeg:https://septem.stghislain.be/wp-content/uploads/2026/01/conference-immigration-polonaise.jpg
ORGANIZER;CN="Cercle%20d%E2%80%99histoire%20et%20d%E2%80%99arch%C3%A9ologie":MAILTO:cecile.ansieau@spw.wallonie.be
END:VEVENT
END:VCALENDAR