BEGIN:VCALENDAR
VERSION:2.0
PRODID:-//Septem - ECPv6.0.13.1//NONSGML v1.0//EN
CALSCALE:GREGORIAN
METHOD:PUBLISH
X-ORIGINAL-URL:https://septem.stghislain.be
X-WR-CALDESC:évènements pour Septem
REFRESH-INTERVAL;VALUE=DURATION:PT1H
X-Robots-Tag:noindex
X-PUBLISHED-TTL:PT1H
BEGIN:VTIMEZONE
TZID:Europe/Brussels
BEGIN:DAYLIGHT
TZOFFSETFROM:+0100
TZOFFSETTO:+0200
TZNAME:CEST
DTSTART:20250330T010000
END:DAYLIGHT
BEGIN:STANDARD
TZOFFSETFROM:+0200
TZOFFSETTO:+0100
TZNAME:CET
DTSTART:20251026T010000
END:STANDARD
END:VTIMEZONE
BEGIN:VEVENT
DTSTART;TZID=Europe/Brussels:20250819T100000
DTEND;TZID=Europe/Brussels:20251219T170000
DTSTAMP:20260422T221821
CREATED:20240202T135545Z
LAST-MODIFIED:20250819T110536Z
UID:10000490-1755597600-1766163600@septem.stghislain.be
SUMMARY:Exposition | RPCM | “Regards photographiques sur Saint-Ghislain”
DESCRIPTION:« Pendant 4 mois\, les membres du Royal Photo-Club Montois ont parcouru les 7 entités de Saint Ghislain. Au fil de leurs promenades\, ils se sont laissés imprégner des lieux rencontrés et par différentes techniques photographiques\, ont capté l’essence artistique de ce « patrimoine » passé\, présent\, futur. » \n 
URL:https://septem.stghislain.be/agenda/rpcm/
LOCATION:Les Jardins du Cloître\, 37 Grand Place\, Saint-Ghislain\, 7330\, Belgique
CATEGORIES:Expositions,Saint-Ghislain
ATTACH;FMTTYPE=image/jpeg:https://septem.stghislain.be/wp-content/uploads/2024/02/exposition-RPCM2-Saint-Ghislain-Autrement-Septem-Culture_Saint_Ghislain-2024.jpg
ORGANIZER;CN="Septem":MAILTO:info@septem.stghislain.be
END:VEVENT
BEGIN:VEVENT
DTSTART;TZID=Europe/Brussels:20251120T200000
DTEND;TZID=Europe/Brussels:20251120T213000
DTSTAMP:20260422T221821
CREATED:20251020T133143Z
LAST-MODIFIED:20251020T133147Z
UID:10001267-1763668800-1763674200@septem.stghislain.be
SUMMARY:Conférence | La mort au Moyen-Age
DESCRIPTION:Cercle d’Histoire et d’Archéologie de Saint-Ghislainet de la région \nUne conférence proposée par Ilona Hans-Colla : Docteure en Histoire de l’Art \nLa mort au Moyen-Âge : expressions littéraires et artistiques autour de la Danse Macabre
URL:https://septem.stghislain.be/agenda/conference-la-mort-au-moyen-age/
LOCATION:Les Jardins du Cloître\, 37 Grand Place\, Saint-Ghislain\, 7330\, Belgique
CATEGORIES:Conférences,Saint-Ghislain
ATTACH;FMTTYPE=image/jpeg:https://septem.stghislain.be/wp-content/uploads/2025/10/201125.jpg
ORGANIZER;CN="Cercle%20d%E2%80%99histoire%20et%20d%E2%80%99arch%C3%A9ologie":MAILTO:cecile.ansieau@spw.wallonie.be
END:VEVENT
END:VCALENDAR