BEGIN:VCALENDAR
VERSION:2.0
PRODID:-//Septem - ECPv6.0.13.1//NONSGML v1.0//EN
CALSCALE:GREGORIAN
METHOD:PUBLISH
X-WR-CALNAME:Septem
X-ORIGINAL-URL:https://septem.stghislain.be
X-WR-CALDESC:évènements pour Septem
REFRESH-INTERVAL;VALUE=DURATION:PT1H
X-Robots-Tag:noindex
X-PUBLISHED-TTL:PT1H
BEGIN:VTIMEZONE
TZID:Europe/Brussels
BEGIN:DAYLIGHT
TZOFFSETFROM:+0100
TZOFFSETTO:+0200
TZNAME:CEST
DTSTART:20250330T010000
END:DAYLIGHT
BEGIN:STANDARD
TZOFFSETFROM:+0200
TZOFFSETTO:+0100
TZNAME:CET
DTSTART:20251026T010000
END:STANDARD
END:VTIMEZONE
BEGIN:VEVENT
DTSTART;TZID=Europe/Brussels:20250610T170000
DTEND;TZID=Europe/Brussels:20250930T235500
DTSTAMP:20260423T050902
CREATED:20250610T113234Z
LAST-MODIFIED:20250612T070321Z
UID:10001164-1749574800-1759276500@septem.stghislain.be
SUMMARY:Projet Renaissance | Tu es artiste ? Notre scène est à toi...
DESCRIPTION:📣 𝗔𝗿𝘁𝗶𝘀𝘁𝗲𝘀\, 𝗮̀ 𝘃𝗼𝘂𝘀 𝗹𝗮 𝘀𝗰𝗲̀𝗻𝗲 ! 📣\n𝗦𝗘𝗣𝗧𝗘𝗠 lance son appel 𝗥𝗘𝗡𝗔𝗜𝗦𝗦𝗔𝗡𝗖𝗘 𝗦𝗘𝗣𝗧𝗘𝗠 ! Vous êtes artiste confirmé ou en devenir en Fédération Wallonie-Bruxelles ? 𝗖’𝗲𝘀𝘁 𝘃𝗼𝘁𝗿𝗲 𝗰𝗵𝗮𝗻𝗰𝗲 𝗱𝗲 𝗯𝗿𝗶𝗹𝗹𝗲𝗿 ! ✨𝗡𝗼𝘂𝘀 𝘃𝗼𝘂𝘀 𝗼𝗳𝗳𝗿𝗼𝗻𝘀 :Une scène aux « Jardins du Cloître » pour présenter votre travail.L’accompagnement de notre équipe technique.Un partage des bénéfices de votre représentation. \n𝗢𝗯𝗷𝗲𝗰𝘁𝗶𝗳 : Vous donner la parole et mettre en lumière votre talent !🗓️𝗗𝗲𝗮𝗱𝗹𝗶𝗻𝗲 𝗰𝗮𝗻𝗱𝗶𝗱𝗮𝘁𝘂𝗿𝗲𝘀 : 𝟯𝟬 𝘀𝗲𝗽𝘁𝗲𝗺𝗯𝗿𝗲 𝟮𝟬𝟮𝟱📧 Envoyez votre projet à : info@septem.stghislain.be \nInfos & règlement sur demande. Ne manquez pas cette opportunité ! \n			\n				Réglement\n			\n				Formulaire de candidature
URL:https://septem.stghislain.be/agenda/projet-renaissance/
LOCATION:Les Jardins du Cloître\, 37 Grand Place\, Saint-Ghislain\, 7330\, Belgique
CATEGORIES:Arts de la scène,Arts Numériques,Arts Plastiques,Arts Sonores,Arts Video,Arts Visuels,Ateliers,Baudour,Bien-être,Chant,Cinéma,Hautrage,Marionnettes,Médiation,Musique,Neufmaison,Performances,Poésie,Saint-Ghislain,Spectacle,Théâtre
ATTACH;FMTTYPE=image/jpeg:https://septem.stghislain.be/wp-content/uploads/2025/06/projet-renaissance-Septem-Culture_Saint_Ghislain-2025.jpg
ORGANIZER;CN="Septem":MAILTO:info@septem.stghislain.be
END:VEVENT
BEGIN:VEVENT
DTSTART;TZID=Europe/Brussels:20250617T193000
DTEND;TZID=Europe/Brussels:20250617T210000
DTSTAMP:20260423T050902
CREATED:20241209T092354Z
LAST-MODIFIED:20250521T062629Z
UID:10001111-1750188600-1750194000@septem.stghislain.be
SUMMARY:Anora | de Sean Baker
DESCRIPTION:2024 ‧ Comédie/Romance ‧ 2h 19m \nAnora\, jeune travailleuse du sexe de Brooklyn\, se transforme en Cendrillon des temps modernes lorsqu’elle rencontre le fils d’un oligarque russe. Sans réfléchir\, elle épouse avec enthousiasme son prince charmant\, mais lorsque la nouvelle parvient en Russie\, le conte de fées est vite menacé.
URL:https://septem.stghislain.be/agenda/anora/
LOCATION:Les Jardins du Cloître\, 37 Grand Place\, Saint-Ghislain\, 7330\, Belgique
CATEGORIES:Cinéma,Films,Saint-Ghislain
ATTACH;FMTTYPE=image/jpeg:https://septem.stghislain.be/wp-content/uploads/2024/12/cinema-anora-Septem-Culture_Saint_Ghislain-2025.jpg
ORGANIZER;CN="Septem":MAILTO:info@septem.stghislain.be
END:VEVENT
END:VCALENDAR