BEGIN:VCALENDAR
VERSION:2.0
PRODID:-//Septem - ECPv6.0.13.1//NONSGML v1.0//EN
CALSCALE:GREGORIAN
METHOD:PUBLISH
X-WR-CALNAME:Septem
X-ORIGINAL-URL:https://septem.stghislain.be
X-WR-CALDESC:évènements pour Septem
REFRESH-INTERVAL;VALUE=DURATION:PT1H
X-Robots-Tag:noindex
X-PUBLISHED-TTL:PT1H
BEGIN:VTIMEZONE
TZID:Europe/Brussels
BEGIN:DAYLIGHT
TZOFFSETFROM:+0100
TZOFFSETTO:+0200
TZNAME:CEST
DTSTART:20250330T010000
END:DAYLIGHT
BEGIN:STANDARD
TZOFFSETFROM:+0200
TZOFFSETTO:+0100
TZNAME:CET
DTSTART:20251026T010000
END:STANDARD
END:VTIMEZONE
BEGIN:VEVENT
DTSTART;TZID=Europe/Brussels:20250603T193000
DTEND;TZID=Europe/Brussels:20250603T210000
DTSTAMP:20260423T051221
CREATED:20241209T091032Z
LAST-MODIFIED:20250521T062450Z
UID:10001109-1748979000-1748984400@septem.stghislain.be
SUMMARY:The Substance | de Coralie Fargeat
DESCRIPTION:Interdit – 12 ans avec avertissement – 2h30 | Drame\, Epouvante-horreur \nAvec The Substance\, vous pouvez générer une autre version de vous-même\, plus jeune\, plus belle\, plus parfaite. Il suffit de partager le temps. Une semaine pour l’une\, une semaine pour l’autre. Un équilibre parfait de sept jours. Facile n’est-ce pas ? Si vous respectez les instructions\, qu’est ce qui pourrait mal tourner ?
URL:https://septem.stghislain.be/agenda/the-substance/
LOCATION:Les Jardins du Cloître\, 37 Grand Place\, Saint-Ghislain\, 7330\, Belgique
CATEGORIES:Cinéma,Films,Saint-Ghislain
ATTACH;FMTTYPE=image/jpeg:https://septem.stghislain.be/wp-content/uploads/2024/12/cinema-the-substance-Septem-Culture_Saint_Ghislain-2025.jpg
ORGANIZER;CN="Septem":MAILTO:info@septem.stghislain.be
END:VEVENT
END:VCALENDAR