BEGIN:VCALENDAR
VERSION:2.0
PRODID:-//Septem - ECPv6.0.13.1//NONSGML v1.0//EN
CALSCALE:GREGORIAN
METHOD:PUBLISH
X-WR-CALNAME:Septem
X-ORIGINAL-URL:https://septem.stghislain.be
X-WR-CALDESC:évènements pour Septem
REFRESH-INTERVAL;VALUE=DURATION:PT1H
X-Robots-Tag:noindex
X-PUBLISHED-TTL:PT1H
BEGIN:VTIMEZONE
TZID:Europe/Brussels
BEGIN:DAYLIGHT
TZOFFSETFROM:+0100
TZOFFSETTO:+0200
TZNAME:CEST
DTSTART:20250330T010000
END:DAYLIGHT
BEGIN:STANDARD
TZOFFSETFROM:+0200
TZOFFSETTO:+0100
TZNAME:CET
DTSTART:20251026T010000
END:STANDARD
END:VTIMEZONE
BEGIN:VEVENT
DTSTART;TZID=Europe/Brussels:20250510T193000
DTEND;TZID=Europe/Brussels:20250510T210000
DTSTAMP:20260423T062809
CREATED:20250203T131229Z
LAST-MODIFIED:20250822T115339Z
UID:10001132-1746905400-1746910800@septem.stghislain.be
SUMMARY:Concert | Mélodies incontournables polonaises
DESCRIPTION:Concert Exceptionnel \nMélodies polonaises incontournables. \nAvec l’orchestre de Jérôme et Yvan Bardzinski \nAvec la collaboration de Septem\, de l’association Bel-Pol et du Comité de Jumelage St-Ghislain- Sierakowice
URL:https://septem.stghislain.be/agenda/melodies-polonaise/
LOCATION:Les Jardins du Cloître\, 37 Grand Place\, Saint-Ghislain\, 7330\, Belgique
CATEGORIES:Concerts,Saint-Ghislain
ATTACH;FMTTYPE=image/jpeg:https://septem.stghislain.be/wp-content/uploads/2025/02/concert-melodies-polonaises-Septem-Culture_Saint_Ghislain-2025-1.jpg
ORGANIZER;CN="Septem":MAILTO:info@septem.stghislain.be
END:VEVENT
END:VCALENDAR